BEGIN:VCALENDAR
VERSION:2.0
PRODID:-//Sportovní klub Slezan Orlová, spolek79856//NONSGML kigkonsult.se iCalcreator 2.41.80//
CALSCALE:GREGORIAN
UID:62313234-3436-4138-b531-366332623038
BEGIN:VEVENT
UID:64626361-3966-4661-b530-393663343261
DTSTAMP:20260423T150649Z
DESCRIPTION:1/3 SK Slezan Orlová - VK Polanka n.Odrou 3:0 (8\,5\,18)
DTSTART;TZID=Europe/Berlin:20221009T100000
DTEND;TZID=Europe/Berlin:20221009T120000
LOCATION:Sportovní hala Gymnázium Orlová\, Masarykova třída 1313 Orlová - L
 utyně
SUMMARY:MS-U20Z-A: SK Slezan Orlová-VK Polanka n.Odrou
END:VEVENT
BEGIN:VEVENT
UID:38613836-3434-4832-b331-626539653837
DTSTAMP:20260423T150649Z
DESCRIPTION:2/6 SK Slezan Orlová - VK Polanka n.Odrou 3:0 (19\,18\,13)
DTSTART;TZID=Europe/Berlin:20221009T140000
DTEND;TZID=Europe/Berlin:20221009T160000
LOCATION:Sportovní hala Gymnázium Orlová\, Masarykova třída 1313 Orlová - L
 utyně
SUMMARY:MS-U20Z-A: SK Slezan Orlová-VK Polanka n.Odrou
END:VEVENT
BEGIN:VEVENT
UID:33346464-3736-4864-b265-356138363265
DTSTAMP:20260423T150649Z
DESCRIPTION:5/14 SK Slezan Orlová - ŠSK Bílovec 0:3 (-22\,-17\,-22)
DTSTART;TZID=Europe/Berlin:20221023T100000
DTEND;TZID=Europe/Berlin:20221023T120000
LOCATION:Sportovní hala Gymnázium Orlová\, Masarykova třída 1313 Orlová - L
 utyně
SUMMARY:MS-U20Z-A: SK Slezan Orlová-ŠSK Bílovec
END:VEVENT
BEGIN:VEVENT
UID:65383764-3966-4064-a431-313463333732
DTSTAMP:20260423T150649Z
DESCRIPTION:6/17 SK Slezan Orlová - ŠSK Bílovec 3:0 (19\,13\,16)
DTSTART;TZID=Europe/Berlin:20221023T140000
DTEND;TZID=Europe/Berlin:20221023T160000
LOCATION:Sportovní hala Gymnázium Orlová\, Masarykova třída 1313 Orlová - L
 utyně
SUMMARY:MS-U20Z-A: SK Slezan Orlová-ŠSK Bílovec
END:VEVENT
BEGIN:VEVENT
UID:33393037-3035-4134-b832-633136303833
DTSTAMP:20260423T150649Z
DESCRIPTION:9/25 SK Slezan Orlová - TJ Hlučín\, A 3:0 (5\,21\,24)
DTSTART;TZID=Europe/Berlin:20221113T100000
DTEND;TZID=Europe/Berlin:20221113T120000
LOCATION:Sportovní hala Gymnázium Orlová\, Masarykova třída 1313 Orlová - L
 utyně
SUMMARY:MS-U20Z-A: SK Slezan Orlová-TJ Hlučín\, A
END:VEVENT
BEGIN:VEVENT
UID:38643765-6639-4237-b835-386133613439
DTSTAMP:20260423T150649Z
DESCRIPTION:10/28 SK Slezan Orlová - TJ Hlučín\, A 3:0 (8\,5\,12)
DTSTART;TZID=Europe/Berlin:20221113T140000
DTEND;TZID=Europe/Berlin:20221113T160000
LOCATION:Sportovní hala Gymnázium Orlová\, Masarykova třída 1313 Orlová - L
 utyně
SUMMARY:MS-U20Z-A: SK Slezan Orlová-TJ Hlučín\, A
END:VEVENT
BEGIN:VEVENT
UID:36313062-6262-4362-a261-623538363161
DTSTAMP:20260423T150649Z
DESCRIPTION:13/38 SK Slezan Orlová - VO Slezská Orlice 3:1 (-23\,13\,23\,12
 )
DTSTART;TZID=Europe/Berlin:20221204T100000
DTEND;TZID=Europe/Berlin:20221204T120000
LOCATION:Sportovní hala Gymnázium Orlová\, Masarykova třída 1313 Orlová - L
 utyně
SUMMARY:MS-U20Z-A: SK Slezan Orlová-VO Slezská Orlice
END:VEVENT
BEGIN:VEVENT
UID:61643636-3638-4438-b762-333930393531
DTSTAMP:20260423T150649Z
DESCRIPTION:14/41 SK Slezan Orlová - VO Slezská Orlice 3:0 (24\,11\,15)
DTSTART;TZID=Europe/Berlin:20221204T140000
DTEND;TZID=Europe/Berlin:20221204T160000
LOCATION:Sportovní hala Gymnázium Orlová\, Masarykova třída 1313 Orlová - L
 utyně
SUMMARY:MS-U20Z-A: SK Slezan Orlová-VO Slezská Orlice
END:VEVENT
BEGIN:VEVENT
UID:32326261-3231-4766-b336-633539356561
DTSTAMP:20260423T150649Z
DESCRIPTION:17/51 SK Slezan Orlová - TJ ODRY\, z.s. 3:2 (21\,-12\,7\,-24\,1
 0)
DTSTART;TZID=Europe/Berlin:20230115T100000
DTEND;TZID=Europe/Berlin:20230115T120000
LOCATION:Sportovní hala Gymnázium Orlová\, Masarykova třída 1313 Orlová - L
 utyně
SUMMARY:MS-U20Z-A: SK Slezan Orlová-TJ ODRY\, z.s.
END:VEVENT
BEGIN:VEVENT
UID:61333364-3064-4630-b263-383432656233
DTSTAMP:20260423T150649Z
DESCRIPTION:18/54 SK Slezan Orlová - TJ ODRY\, z.s. 3:0 (13\,17\,20)
DTSTART;TZID=Europe/Berlin:20230115T140000
DTEND;TZID=Europe/Berlin:20230115T160000
LOCATION:Sportovní hala Gymnázium Orlová\, Masarykova třída 1313 Orlová - L
 utyně
SUMMARY:MS-U20Z-A: SK Slezan Orlová-TJ ODRY\, z.s.
END:VEVENT
BEGIN:VEVENT
UID:33373862-3430-4431-b030-363234613963
DTSTAMP:20260423T150649Z
DESCRIPTION:3/8 VO Slezská Orlice - SK Slezan Orlová 1:3 (23\,-18\,-19\,-13
 )
DTSTART;TZID=Europe/Berlin:20221016T100000
DTEND;TZID=Europe/Berlin:20221016T120000
LOCATION:ZŠ Janáčkovo náměstí 17\, Janáčkovo náměstí 1970 Krnov - Pod Bezru
 čovým vrchem
SUMMARY:MS-U20Z-A: VO Slezská Orlice-SK Slezan Orlová
END:VEVENT
BEGIN:VEVENT
UID:35633932-3239-4763-a431-303437306165
DTSTAMP:20260423T150649Z
DESCRIPTION:4/11 VO Slezská Orlice - SK Slezan Orlová 0:3 (-23\,-9\,-17)
DTSTART;TZID=Europe/Berlin:20221016T140000
DTEND;TZID=Europe/Berlin:20221016T160000
LOCATION:ZŠ Janáčkovo náměstí 17\, Janáčkovo náměstí 1970 Krnov - Pod Bezru
 čovým vrchem
SUMMARY:MS-U20Z-A: VO Slezská Orlice-SK Slezan Orlová
END:VEVENT
BEGIN:VEVENT
UID:36353737-3962-4637-a131-346532663266
DTSTAMP:20260423T150649Z
DESCRIPTION:7/21 TJ ODRY\, z.s. - SK Slezan Orlová 3:0 (17\,25\,19)
DTSTART;TZID=Europe/Berlin:20221105T090000
DTEND;TZID=Europe/Berlin:20221105T110000
LOCATION:Tělocvična\, Pohořská 1010 Odry
SUMMARY:MS-U20Z-A: TJ ODRY\, z.s.-SK Slezan Orlová
END:VEVENT
BEGIN:VEVENT
UID:64336566-3839-4533-b139-353731613564
DTSTAMP:20260423T150649Z
DESCRIPTION:8/24 TJ ODRY\, z.s. - SK Slezan Orlová 3:1 (-17\,19\,23\,13)
DTSTART;TZID=Europe/Berlin:20221105T130000
DTEND;TZID=Europe/Berlin:20221105T150000
LOCATION:Tělocvična\, Pohořská 1010 Odry
SUMMARY:MS-U20Z-A: TJ ODRY\, z.s.-SK Slezan Orlová
END:VEVENT
BEGIN:VEVENT
UID:62613533-3661-4136-a361-303131323162
DTSTAMP:20260423T150649Z
DESCRIPTION:11/33 VK Polanka n.Odrou - SK Slezan Orlová 3:1 (-21\,19\,19\,2
 1)
DTSTART;TZID=Europe/Berlin:20221126T100000
DTEND;TZID=Europe/Berlin:20221126T120000
LOCATION:Sportovní hala\, Heleny Salichové 1275 Ostrava - Polanka nad Odrou
SUMMARY:MS-U20Z-A: VK Polanka n.Odrou-SK Slezan Orlová
END:VEVENT
BEGIN:VEVENT
UID:30303434-6231-4962-b536-626635653632
DTSTAMP:20260423T150649Z
DESCRIPTION:12/36 VK Polanka n.Odrou - SK Slezan Orlová 1:3 (20\,-17\,-19\,
 -17)
DTSTART;TZID=Europe/Berlin:20221126T130000
DTEND;TZID=Europe/Berlin:20221126T150000
LOCATION:Sportovní hala\, Heleny Salichové 1275 Ostrava - Polanka nad Odrou
SUMMARY:MS-U20Z-A: VK Polanka n.Odrou-SK Slezan Orlová
END:VEVENT
BEGIN:VEVENT
UID:32316362-6236-4433-a631-633334323738
DTSTAMP:20260423T150649Z
DESCRIPTION:15/44 ŠSK Bílovec - SK Slezan Orlová 3:0 (16\,17\,21)
DTSTART;TZID=Europe/Berlin:20221210T110000
DTEND;TZID=Europe/Berlin:20221210T130000
LOCATION:Tělocvična GMK Bílovec\, 17. listopadu 526 Bílovec
SUMMARY:MS-U20Z-A: ŠSK Bílovec-SK Slezan Orlová
END:VEVENT
BEGIN:VEVENT
UID:62326439-3061-4964-a431-336530663936
DTSTAMP:20260423T150649Z
DESCRIPTION:16/47 ŠSK Bílovec - SK Slezan Orlová 3:2 (16\,-20\,-15\,18\,9)
DTSTART;TZID=Europe/Berlin:20221210T150000
DTEND;TZID=Europe/Berlin:20221210T170000
LOCATION:Tělocvična GMK Bílovec\, 17. listopadu 526 Bílovec
SUMMARY:MS-U20Z-A: ŠSK Bílovec-SK Slezan Orlová
END:VEVENT
BEGIN:VEVENT
UID:66373032-3031-4564-b838-313064393666
DTSTAMP:20260423T150649Z
DESCRIPTION:19/55 TJ Hlučín\, A - SK Slezan Orlová 0:3 (-18\,-18\,-11)
DTSTART;TZID=Europe/Berlin:20230122T090000
DTEND;TZID=Europe/Berlin:20230122T110000
LOCATION:Sportovní hala\, Tyršova 1668 Hlučín
SUMMARY:MS-U20Z-A: TJ Hlučín\, A-SK Slezan Orlová
END:VEVENT
BEGIN:VEVENT
UID:39646138-3839-4563-b761-316266313162
DTSTAMP:20260423T150649Z
DESCRIPTION:20/58 TJ Hlučín\, A - SK Slezan Orlová 0:3 (-11\,-12\,-9)
DTSTART;TZID=Europe/Berlin:20230122T130000
DTEND;TZID=Europe/Berlin:20230122T150000
LOCATION:Sportovní hala\, Tyršova 1668 Hlučín
SUMMARY:MS-U20Z-A: TJ Hlučín\, A-SK Slezan Orlová
END:VEVENT
BEGIN:VEVENT
UID:30333939-3533-4465-b730-303163396135
DTSTAMP:20260423T150649Z
DESCRIPTION:1/1 SK Slezan Orlová - TJ Krnov 3:1 (19\,14\,-17\,16)
DTSTART;TZID=Europe/Berlin:20230212T100000
DTEND;TZID=Europe/Berlin:20230212T120000
LOCATION:Sportovní hala Gymnázium Orlová\, Masarykova třída 1313 Orlová - L
 utyně
SUMMARY:MS-U20Z-II: SK Slezan Orlová-TJ Krnov
END:VEVENT
BEGIN:VEVENT
UID:66343933-3035-4738-b539-353636303839
DTSTAMP:20260423T150649Z
DESCRIPTION:2/3 SK Slezan Orlová - TJ Krnov 3:0 (9\,11\,22)
DTSTART;TZID=Europe/Berlin:20230212T140000
DTEND;TZID=Europe/Berlin:20230212T160000
LOCATION:Sportovní hala Gymnázium Orlová\, Masarykova třída 1313 Orlová - L
 utyně
SUMMARY:MS-U20Z-II: SK Slezan Orlová-TJ Krnov
END:VEVENT
BEGIN:VEVENT
UID:64363939-6532-4231-b231-316635366432
DTSTAMP:20260423T150649Z
DESCRIPTION:3/6 SK Slezan Orlová - VKB Frýdlant n.O. 3:1 (16\,14\,-24\,10)
DTSTART;TZID=Europe/Berlin:20230219T100000
DTEND;TZID=Europe/Berlin:20230219T120000
LOCATION:Sportovní hala Gymnázium Orlová\, Masarykova třída 1313 Orlová - L
 utyně
SUMMARY:MS-U20Z-II: SK Slezan Orlová-VKB Frýdlant n.O.
END:VEVENT
BEGIN:VEVENT
UID:66663634-3766-4463-b939-643266613136
DTSTAMP:20260423T150649Z
DESCRIPTION:4/8 SK Slezan Orlová - VKB Frýdlant n.O. 3:1 (-25\,10\,18\,16)
DTSTART;TZID=Europe/Berlin:20230219T140000
DTEND;TZID=Europe/Berlin:20230219T160000
LOCATION:Sportovní hala Gymnázium Orlová\, Masarykova třída 1313 Orlová - L
 utyně
SUMMARY:MS-U20Z-II: SK Slezan Orlová-VKB Frýdlant n.O.
END:VEVENT
BEGIN:VEVENT
UID:62663035-6561-4234-a135-643835633534
DTSTAMP:20260423T150649Z
DESCRIPTION:11/22 SK Slezan Orlová - VO Slezská Orlice 3:2 (-22\,17\,-17\,1
 6\,3)
DTSTART;TZID=Europe/Berlin:20230326T100000
DTEND;TZID=Europe/Berlin:20230326T120000
LOCATION:Sportovní hala Gymnázium Orlová\, Masarykova třída 1313 Orlová - L
 utyně
SUMMARY:MS-U20Z-II: SK Slezan Orlová-VO Slezská Orlice
END:VEVENT
BEGIN:VEVENT
UID:61623733-3339-4137-a436-636466656463
DTSTAMP:20260423T150649Z
DESCRIPTION:12/24 SK Slezan Orlová - VO Slezská Orlice 3:0 (23\,25\,13)
DTSTART;TZID=Europe/Berlin:20230326T140000
DTEND;TZID=Europe/Berlin:20230326T160000
LOCATION:Sportovní hala Gymnázium Orlová\, Masarykova třída 1313 Orlová - L
 utyně
SUMMARY:MS-U20Z-II: SK Slezan Orlová-VO Slezská Orlice
END:VEVENT
BEGIN:VEVENT
UID:39653130-6162-4465-b131-306135386631
DTSTAMP:20260423T150649Z
DESCRIPTION:5/10 VO Slezská Orlice - SK Slezan Orlová 1:3 (12\,-22\,-21\,-1
 0)
DTSTART;TZID=Europe/Berlin:20230226T100000
DTEND;TZID=Europe/Berlin:20230226T120000
LOCATION:ZŠ Janáčkovo náměstí 17\, Janáčkovo náměstí 1970 Krnov - Pod Bezru
 čovým vrchem
SUMMARY:MS-U20Z-II: VO Slezská Orlice-SK Slezan Orlová
END:VEVENT
BEGIN:VEVENT
UID:34333338-3135-4435-b633-393138343534
DTSTAMP:20260423T150649Z
DESCRIPTION:6/12 VO Slezská Orlice - SK Slezan Orlová 2:3 (14\,-12\,-17\,24
 \,-7)
DTSTART;TZID=Europe/Berlin:20230226T140000
DTEND;TZID=Europe/Berlin:20230226T160000
LOCATION:ZŠ Janáčkovo náměstí 17\, Janáčkovo náměstí 1970 Krnov - Pod Bezru
 čovým vrchem
SUMMARY:MS-U20Z-II: VO Slezská Orlice-SK Slezan Orlová
END:VEVENT
BEGIN:VEVENT
UID:61623365-6331-4462-b936-633434326361
DTSTAMP:20260423T150649Z
DESCRIPTION:7/13 TJ Krnov - SK Slezan Orlová 0:3 (-13\,-18\,-23)
DTSTART;TZID=Europe/Berlin:20230312T100000
DTEND;TZID=Europe/Berlin:20230312T120000
LOCATION:Sokolovna\, Petrovická 341 Krnov - Pod Bezručovým vrchem
SUMMARY:MS-U20Z-II: TJ Krnov-SK Slezan Orlová
END:VEVENT
BEGIN:VEVENT
UID:64616335-3839-4231-b330-613662393834
DTSTAMP:20260423T150649Z
DESCRIPTION:8/15 TJ Krnov - SK Slezan Orlová 0:3 (-11\,-15\,-13)
DTSTART;TZID=Europe/Berlin:20230312T140000
DTEND;TZID=Europe/Berlin:20230312T160000
LOCATION:Sokolovna\, Petrovická 341 Krnov - Pod Bezručovým vrchem
SUMMARY:MS-U20Z-II: TJ Krnov-SK Slezan Orlová
END:VEVENT
BEGIN:VEVENT
UID:33353637-3335-4864-a136-646433363833
DTSTAMP:20260423T150649Z
DESCRIPTION:9/18 VKB Frýdlant n.O. - SK Slezan Orlová 2:3 (-14\,22\,-22\,23
 \,-4)
DTSTART;TZID=Europe/Berlin:20230319T100000
DTEND;TZID=Europe/Berlin:20230319T120000
LOCATION:Sokolovna\, Hlavní 401 Frýdlant nad Ostravicí - Frýdlant
SUMMARY:MS-U20Z-II: VKB Frýdlant n.O.-SK Slezan Orlová
END:VEVENT
BEGIN:VEVENT
UID:36646361-6531-4136-b632-663631393239
DTSTAMP:20260423T150649Z
DESCRIPTION:10/20 VKB Frýdlant n.O. - SK Slezan Orlová 0:3 (-21\,-17\,-11)
DTSTART;TZID=Europe/Berlin:20230319T140000
DTEND;TZID=Europe/Berlin:20230319T160000
LOCATION:Sokolovna\, Hlavní 401 Frýdlant nad Ostravicí - Frýdlant
SUMMARY:MS-U20Z-II: VKB Frýdlant n.O.-SK Slezan Orlová
END:VEVENT
END:VCALENDAR
