BEGIN:VCALENDAR
VERSION:2.0
PRODID:-//VO Slezská Orlice, z.s.79857//NONSGML kigkonsult.se iCalcreator 2.41.80//
CALSCALE:GREGORIAN
UID:39383931-6563-4138-b030-303233363334
BEGIN:VEVENT
UID:62663266-6232-4463-b938-643531376537
DTSTAMP:20260423T133508Z
DESCRIPTION:3/8 VO Slezská Orlice - SK Slezan Orlová 1:3 (23\,-18\,-19\,-13
 )
DTSTART;TZID=Europe/Berlin:20221016T100000
DTEND;TZID=Europe/Berlin:20221016T120000
LOCATION:ZŠ Janáčkovo náměstí 17\, Janáčkovo náměstí 1970 Krnov - Pod Bezru
 čovým vrchem
SUMMARY:MS-U20Z-A: VO Slezská Orlice-SK Slezan Orlová
END:VEVENT
BEGIN:VEVENT
UID:37666532-3435-4834-b932-306161383361
DTSTAMP:20260423T133508Z
DESCRIPTION:4/11 VO Slezská Orlice - SK Slezan Orlová 0:3 (-23\,-9\,-17)
DTSTART;TZID=Europe/Berlin:20221016T140000
DTEND;TZID=Europe/Berlin:20221016T160000
LOCATION:ZŠ Janáčkovo náměstí 17\, Janáčkovo náměstí 1970 Krnov - Pod Bezru
 čovým vrchem
SUMMARY:MS-U20Z-A: VO Slezská Orlice-SK Slezan Orlová
END:VEVENT
BEGIN:VEVENT
UID:35373733-3033-4331-a134-313437323665
DTSTAMP:20260423T133508Z
DESCRIPTION:9/27 VO Slezská Orlice - ŠSK Bílovec 1:3 (-23\,-22\,22\,-20)
DTSTART;TZID=Europe/Berlin:20221113T100000
DTEND;TZID=Europe/Berlin:20221113T120000
LOCATION:ZŠ Janáčkovo náměstí 17\, Janáčkovo náměstí 1970 Krnov - Pod Bezru
 čovým vrchem
SUMMARY:MS-U20Z-A: VO Slezská Orlice-ŠSK Bílovec
END:VEVENT
BEGIN:VEVENT
UID:61633732-3739-4636-a463-316433313830
DTSTAMP:20260423T133508Z
DESCRIPTION:10/30 VO Slezská Orlice - ŠSK Bílovec 2:3 (23\,15\,-23\,-25\,-1
 0)
DTSTART;TZID=Europe/Berlin:20221113T140000
DTEND;TZID=Europe/Berlin:20221113T160000
LOCATION:ZŠ Janáčkovo náměstí 17\, Janáčkovo náměstí 1970 Krnov - Pod Bezru
 čovým vrchem
SUMMARY:MS-U20Z-A: VO Slezská Orlice-ŠSK Bílovec
END:VEVENT
BEGIN:VEVENT
UID:66663735-3261-4131-a236-393136373837
DTSTAMP:20260423T133508Z
DESCRIPTION:11/32 VO Slezská Orlice - TJ ODRY\, z.s. 3:2 (14\,24\,-23\,-22\
 ,4)
DTSTART;TZID=Europe/Berlin:20221127T100000
DTEND;TZID=Europe/Berlin:20221127T120000
LOCATION:ZŠ Janáčkovo náměstí 17\, Janáčkovo náměstí 1970 Krnov - Pod Bezru
 čovým vrchem
SUMMARY:MS-U20Z-A: VO Slezská Orlice-TJ ODRY\, z.s.
END:VEVENT
BEGIN:VEVENT
UID:64646239-3537-4036-a335-396630363331
DTSTAMP:20260423T133508Z
DESCRIPTION:12/35 VO Slezská Orlice - TJ ODRY\, z.s. 3:0 (11\,17\,17)
DTSTART;TZID=Europe/Berlin:20221127T140000
DTEND;TZID=Europe/Berlin:20221127T160000
LOCATION:ZŠ Janáčkovo náměstí 17\, Janáčkovo náměstí 1970 Krnov - Pod Bezru
 čovým vrchem
SUMMARY:MS-U20Z-A: VO Slezská Orlice-TJ ODRY\, z.s.
END:VEVENT
BEGIN:VEVENT
UID:66343137-3336-4863-a165-623630613662
DTSTAMP:20260423T133508Z
DESCRIPTION:15/45 VO Slezská Orlice - VK Polanka n.Odrou 3:0 (12\,13\,13)
DTSTART;TZID=Europe/Berlin:20230108T100000
DTEND;TZID=Europe/Berlin:20230108T120000
LOCATION:ZŠ Janáčkovo náměstí 17\, Janáčkovo náměstí 1970 Krnov - Pod Bezru
 čovým vrchem
SUMMARY:MS-U20Z-A: VO Slezská Orlice-VK Polanka n.Odrou
END:VEVENT
BEGIN:VEVENT
UID:36653737-3832-4163-b935-636265616435
DTSTAMP:20260423T133508Z
DESCRIPTION:16/48 VO Slezská Orlice - VK Polanka n.Odrou 3:0 (15\,20\,26)
DTSTART;TZID=Europe/Berlin:20230108T140000
DTEND;TZID=Europe/Berlin:20230108T160000
LOCATION:ZŠ Janáčkovo náměstí 17\, Janáčkovo náměstí 1970 Krnov - Pod Bezru
 čovým vrchem
SUMMARY:MS-U20Z-A: VO Slezská Orlice-VK Polanka n.Odrou
END:VEVENT
BEGIN:VEVENT
UID:61373235-3063-4366-b031-393539383961
DTSTAMP:20260423T133508Z
DESCRIPTION:17/49 VO Slezská Orlice - TJ Hlučín\, A 3:1 (15\,-16\,13\,20)\n
 NH
DTSTART;TZID=Europe/Berlin:20230115T100000
DTEND;TZID=Europe/Berlin:20230115T120000
LOCATION:ZŠ Janáčkovo náměstí 17\, Janáčkovo náměstí 1970 Krnov - Pod Bezru
 čovým vrchem
SUMMARY:MS-U20Z-A: VO Slezská Orlice-TJ Hlučín\, A
END:VEVENT
BEGIN:VEVENT
UID:35646332-3062-4736-b064-363063356331
DTSTAMP:20260423T133508Z
DESCRIPTION:18/52 VO Slezská Orlice - TJ Hlučín\, A 3:0 (22\,22\,17)\nNH
DTSTART;TZID=Europe/Berlin:20230115T140000
DTEND;TZID=Europe/Berlin:20230115T160000
LOCATION:ZŠ Janáčkovo náměstí 17\, Janáčkovo náměstí 1970 Krnov - Pod Bezru
 čovým vrchem
SUMMARY:MS-U20Z-A: VO Slezská Orlice-TJ Hlučín\, A
END:VEVENT
BEGIN:VEVENT
UID:30386237-6564-4866-b339-313237313661
DTSTAMP:20260423T133508Z
DESCRIPTION:1/2 TJ ODRY\, z.s. - VO Slezská Orlice 3:1 (8\,-19\,19\,17)
DTSTART;TZID=Europe/Berlin:20221008T100000
DTEND;TZID=Europe/Berlin:20221008T120000
LOCATION:Tělocvična\, Pohořská 1010 Odry
SUMMARY:MS-U20Z-A: TJ ODRY\, z.s.-VO Slezská Orlice
END:VEVENT
BEGIN:VEVENT
UID:63643131-6337-4733-a530-616137396536
DTSTAMP:20260423T133508Z
DESCRIPTION:2/5 TJ ODRY\, z.s. - VO Slezská Orlice 3:0 (22\,16\,22)
DTSTART;TZID=Europe/Berlin:20221008T140000
DTEND;TZID=Europe/Berlin:20221008T160000
LOCATION:Tělocvična\, Pohořská 1010 Odry
SUMMARY:MS-U20Z-A: TJ ODRY\, z.s.-VO Slezská Orlice
END:VEVENT
BEGIN:VEVENT
UID:31393937-3363-4134-a436-353338303933
DTSTAMP:20260423T133508Z
DESCRIPTION:5/15 VK Polanka n.Odrou - VO Slezská Orlice 1:3 (-16\,23\,-7\,-
 12)
DTSTART;TZID=Europe/Berlin:20221023T090000
DTEND;TZID=Europe/Berlin:20221023T110000
LOCATION:Sportovní hala\, Heleny Salichové 1275 Ostrava - Polanka nad Odrou
SUMMARY:MS-U20Z-A: VK Polanka n.Odrou-VO Slezská Orlice
END:VEVENT
BEGIN:VEVENT
UID:38346635-3533-4164-b333-376332656133
DTSTAMP:20260423T133508Z
DESCRIPTION:6/18 VK Polanka n.Odrou - VO Slezská Orlice 0:3 (-12\,-17\,-25)
DTSTART;TZID=Europe/Berlin:20221023T130000
DTEND;TZID=Europe/Berlin:20221023T150000
LOCATION:Sportovní hala\, Heleny Salichové 1275 Ostrava - Polanka nad Odrou
SUMMARY:MS-U20Z-A: VK Polanka n.Odrou-VO Slezská Orlice
END:VEVENT
BEGIN:VEVENT
UID:62356464-3765-4432-b865-396632656661
DTSTAMP:20260423T133508Z
DESCRIPTION:7/19 TJ Hlučín\, A - VO Slezská Orlice 3:1 (19\,-12\,24\,22)
DTSTART;TZID=Europe/Berlin:20221106T090000
DTEND;TZID=Europe/Berlin:20221106T110000
LOCATION:Sportovní hala\, Tyršova 1668 Hlučín
SUMMARY:MS-U20Z-A: TJ Hlučín\, A-VO Slezská Orlice
END:VEVENT
BEGIN:VEVENT
UID:66336432-6563-4865-a135-643065353662
DTSTAMP:20260423T133508Z
DESCRIPTION:8/22 TJ Hlučín\, A - VO Slezská Orlice 3:1 (18\,-22\,23\,18)
DTSTART;TZID=Europe/Berlin:20221106T130000
DTEND;TZID=Europe/Berlin:20221106T150000
LOCATION:Sportovní hala\, Tyršova 1668 Hlučín
SUMMARY:MS-U20Z-A: TJ Hlučín\, A-VO Slezská Orlice
END:VEVENT
BEGIN:VEVENT
UID:35663965-3165-4037-a163-653865623130
DTSTAMP:20260423T133508Z
DESCRIPTION:13/38 SK Slezan Orlová - VO Slezská Orlice 3:1 (-23\,13\,23\,12
 )
DTSTART;TZID=Europe/Berlin:20221204T100000
DTEND;TZID=Europe/Berlin:20221204T120000
LOCATION:Sportovní hala Gymnázium Orlová\, Masarykova třída 1313 Orlová - L
 utyně
SUMMARY:MS-U20Z-A: SK Slezan Orlová-VO Slezská Orlice
END:VEVENT
BEGIN:VEVENT
UID:38303131-3264-4365-b039-666463646566
DTSTAMP:20260423T133508Z
DESCRIPTION:14/41 SK Slezan Orlová - VO Slezská Orlice 3:0 (24\,11\,15)
DTSTART;TZID=Europe/Berlin:20221204T140000
DTEND;TZID=Europe/Berlin:20221204T160000
LOCATION:Sportovní hala Gymnázium Orlová\, Masarykova třída 1313 Orlová - L
 utyně
SUMMARY:MS-U20Z-A: SK Slezan Orlová-VO Slezská Orlice
END:VEVENT
BEGIN:VEVENT
UID:34336638-6466-4362-b664-653363306134
DTSTAMP:20260423T133508Z
DESCRIPTION:19/57 ŠSK Bílovec - VO Slezská Orlice 3:0 (23\,22\,17)
DTSTART;TZID=Europe/Berlin:20230121T110000
DTEND;TZID=Europe/Berlin:20230121T130000
LOCATION:Tělocvična GMK Bílovec\, 17. listopadu 526 Bílovec
SUMMARY:MS-U20Z-A: ŠSK Bílovec-VO Slezská Orlice
END:VEVENT
BEGIN:VEVENT
UID:33343466-3938-4165-b831-326632343462
DTSTAMP:20260423T133508Z
DESCRIPTION:20/60 ŠSK Bílovec - VO Slezská Orlice 2:3 (-16\,14\,-17\,22\,-1
 7)
DTSTART;TZID=Europe/Berlin:20230121T150000
DTEND;TZID=Europe/Berlin:20230121T170000
LOCATION:Tělocvična GMK Bílovec\, 17. listopadu 526 Bílovec
SUMMARY:MS-U20Z-A: ŠSK Bílovec-VO Slezská Orlice
END:VEVENT
BEGIN:VEVENT
UID:35316335-3935-4963-a364-643537633135
DTSTAMP:20260423T133508Z
DESCRIPTION:5/10 VO Slezská Orlice - SK Slezan Orlová 1:3 (12\,-22\,-21\,-1
 0)
DTSTART;TZID=Europe/Berlin:20230226T100000
DTEND;TZID=Europe/Berlin:20230226T120000
LOCATION:ZŠ Janáčkovo náměstí 17\, Janáčkovo náměstí 1970 Krnov - Pod Bezru
 čovým vrchem
SUMMARY:MS-U20Z-II: VO Slezská Orlice-SK Slezan Orlová
END:VEVENT
BEGIN:VEVENT
UID:37663863-6331-4435-a664-313062353166
DTSTAMP:20260423T133508Z
DESCRIPTION:6/12 VO Slezská Orlice - SK Slezan Orlová 2:3 (14\,-12\,-17\,24
 \,-7)
DTSTART;TZID=Europe/Berlin:20230226T140000
DTEND;TZID=Europe/Berlin:20230226T160000
LOCATION:ZŠ Janáčkovo náměstí 17\, Janáčkovo náměstí 1970 Krnov - Pod Bezru
 čovým vrchem
SUMMARY:MS-U20Z-II: VO Slezská Orlice-SK Slezan Orlová
END:VEVENT
BEGIN:VEVENT
UID:35333136-3538-4137-b635-303035643831
DTSTAMP:20260423T133508Z
DESCRIPTION:7/14 VO Slezská Orlice - VKB Frýdlant n.O. 3:2 (-24\,-19\,12\,1
 8\,9)
DTSTART;TZID=Europe/Berlin:20230312T100000
DTEND;TZID=Europe/Berlin:20230312T120000
LOCATION:ZŠ Janáčkovo náměstí 17\, Janáčkovo náměstí 1970 Krnov - Pod Bezru
 čovým vrchem
SUMMARY:MS-U20Z-II: VO Slezská Orlice-VKB Frýdlant n.O.
END:VEVENT
BEGIN:VEVENT
UID:35643839-6661-4565-a635-383232616665
DTSTAMP:20260423T133508Z
DESCRIPTION:8/16 VO Slezská Orlice - VKB Frýdlant n.O. 3:1 (20\,-17\,9\,15)
DTSTART;TZID=Europe/Berlin:20230312T140000
DTEND;TZID=Europe/Berlin:20230312T160000
LOCATION:ZŠ Janáčkovo náměstí 17\, Janáčkovo náměstí 1970 Krnov - Pod Bezru
 čovým vrchem
SUMMARY:MS-U20Z-II: VO Slezská Orlice-VKB Frýdlant n.O.
END:VEVENT
BEGIN:VEVENT
UID:65653761-3031-4831-b166-313531366532
DTSTAMP:20260423T133508Z
DESCRIPTION:9/17 VO Slezská Orlice - TJ Krnov 3:0 (12\,17\,19)
DTSTART;TZID=Europe/Berlin:20230319T100000
DTEND;TZID=Europe/Berlin:20230319T120000
LOCATION:ZŠ Janáčkovo náměstí 17\, Janáčkovo náměstí 1970 Krnov - Pod Bezru
 čovým vrchem
SUMMARY:MS-U20Z-II: VO Slezská Orlice-TJ Krnov
END:VEVENT
BEGIN:VEVENT
UID:31366566-3137-4561-a638-353739366238
DTSTAMP:20260423T133508Z
DESCRIPTION:10/19 VO Slezská Orlice - TJ Krnov 3:0 (19\,16\,10)
DTSTART;TZID=Europe/Berlin:20230319T140000
DTEND;TZID=Europe/Berlin:20230319T160000
LOCATION:ZŠ Janáčkovo náměstí 17\, Janáčkovo náměstí 1970 Krnov - Pod Bezru
 čovým vrchem
SUMMARY:MS-U20Z-II: VO Slezská Orlice-TJ Krnov
END:VEVENT
BEGIN:VEVENT
UID:38663362-3462-4737-a635-386436346336
DTSTAMP:20260423T133508Z
DESCRIPTION:1/2 VKB Frýdlant n.O. - VO Slezská Orlice 0:3 (-13\,-21\,-22)
DTSTART;TZID=Europe/Berlin:20230212T100000
DTEND;TZID=Europe/Berlin:20230212T120000
LOCATION:Sokolovna\, Hlavní 401 Frýdlant nad Ostravicí - Frýdlant
SUMMARY:MS-U20Z-II: VKB Frýdlant n.O.-VO Slezská Orlice
END:VEVENT
BEGIN:VEVENT
UID:33646137-6337-4232-b137-633665316530
DTSTAMP:20260423T133508Z
DESCRIPTION:2/4 VKB Frýdlant n.O. - VO Slezská Orlice 0:3 (-8\,-20\,-21)
DTSTART;TZID=Europe/Berlin:20230212T140000
DTEND;TZID=Europe/Berlin:20230212T160000
LOCATION:Sokolovna\, Hlavní 401 Frýdlant nad Ostravicí - Frýdlant
SUMMARY:MS-U20Z-II: VKB Frýdlant n.O.-VO Slezská Orlice
END:VEVENT
BEGIN:VEVENT
UID:65393235-3363-4862-b337-373762323736
DTSTAMP:20260423T133508Z
DESCRIPTION:3/5 TJ Krnov - VO Slezská Orlice 1:3 (-11\,21\,-13\,-21)
DTSTART;TZID=Europe/Berlin:20230219T100000
DTEND;TZID=Europe/Berlin:20230219T120000
LOCATION:Sokolovna\, Petrovická 341 Krnov - Pod Bezručovým vrchem
SUMMARY:MS-U20Z-II: TJ Krnov-VO Slezská Orlice
END:VEVENT
BEGIN:VEVENT
UID:62363833-6166-4665-b262-303864316135
DTSTAMP:20260423T133508Z
DESCRIPTION:4/7 TJ Krnov - VO Slezská Orlice 0:3 (-14\,-19\,-18)
DTSTART;TZID=Europe/Berlin:20230219T140000
DTEND;TZID=Europe/Berlin:20230219T160000
LOCATION:Sokolovna\, Petrovická 341 Krnov - Pod Bezručovým vrchem
SUMMARY:MS-U20Z-II: TJ Krnov-VO Slezská Orlice
END:VEVENT
BEGIN:VEVENT
UID:62656362-3930-4833-b536-333162363965
DTSTAMP:20260423T133508Z
DESCRIPTION:11/22 SK Slezan Orlová - VO Slezská Orlice 3:2 (-22\,17\,-17\,1
 6\,3)
DTSTART;TZID=Europe/Berlin:20230326T100000
DTEND;TZID=Europe/Berlin:20230326T120000
LOCATION:Sportovní hala Gymnázium Orlová\, Masarykova třída 1313 Orlová - L
 utyně
SUMMARY:MS-U20Z-II: SK Slezan Orlová-VO Slezská Orlice
END:VEVENT
BEGIN:VEVENT
UID:39613434-3533-4261-b738-616236333831
DTSTAMP:20260423T133508Z
DESCRIPTION:12/24 SK Slezan Orlová - VO Slezská Orlice 3:0 (23\,25\,13)
DTSTART;TZID=Europe/Berlin:20230326T140000
DTEND;TZID=Europe/Berlin:20230326T160000
LOCATION:Sportovní hala Gymnázium Orlová\, Masarykova třída 1313 Orlová - L
 utyně
SUMMARY:MS-U20Z-II: SK Slezan Orlová-VO Slezská Orlice
END:VEVENT
END:VCALENDAR
