BEGIN:VCALENDAR
VERSION:2.0
PRODID:-//Green Volley Frýdek-Místek79875//NONSGML kigkonsult.se iCalcreator 2.41.80//
CALSCALE:GREGORIAN
UID:33303334-3864-4266-b436-343231326237
BEGIN:VEVENT
UID:33636362-6331-4763-a330-663465396266
DTSTAMP:20260421T215111Z
DESCRIPTION:4/7 Frýdek-Místek - Volejbalový spolek Ostrava 2:0 (6\,12)
DTSTART;TZID=Europe/Berlin:20220925T133000
DTEND;TZID=Europe/Berlin:20220925T153000
LOCATION:ZŠ Janáčkovo náměstí 17\, Janáčkovo náměstí 1970 Krnov - Pod Bezru
 čovým vrchem
SUMMARY:MS-U16M-KVA: Frýdek-Místek-Volejbalový spolek Ostrava
END:VEVENT
BEGIN:VEVENT
UID:32323761-6338-4566-a664-363830666431
DTSTAMP:20260421T215111Z
DESCRIPTION:5/10 Frýdek-Místek - VO Slezská Orlice\, z.s. 2:0 (10\,16)
DTSTART;TZID=Europe/Berlin:20220925T150000
DTEND;TZID=Europe/Berlin:20220925T170000
LOCATION:ZŠ Janáčkovo náměstí 17\, Janáčkovo náměstí 1970 Krnov - Pod Bezru
 čovým vrchem
SUMMARY:MS-U16M-KVA: Frýdek-Místek-VO Slezská Orlice\, z.s.
END:VEVENT
BEGIN:VEVENT
UID:66333035-6334-4537-b066-316238303863
DTSTAMP:20260421T215111Z
DESCRIPTION:2/4 Blue Volley Ostrava B - Frýdek-Místek 0:2 (-6\,-10)
DTSTART;TZID=Europe/Berlin:20220925T103000
DTEND;TZID=Europe/Berlin:20220925T123000
LOCATION:ZŠ Janáčkovo náměstí 17\, Janáčkovo náměstí 1970 Krnov - Pod Bezru
 čovým vrchem
SUMMARY:MS-U16M-KVA: Blue Volley Ostrava B-Frýdek-Místek
END:VEVENT
BEGIN:VEVENT
UID:30343766-3764-4339-a537-646561626165
DTSTAMP:20260421T215111Z
DESCRIPTION:3/5 Happy Sport Opava\, z.s. - Frýdek-Místek 1:2 (-24\,16\,-9)
DTSTART;TZID=Europe/Berlin:20220925T120000
DTEND;TZID=Europe/Berlin:20220925T140000
LOCATION:ZŠ Janáčkovo náměstí 17\, Janáčkovo náměstí 1970 Krnov - Pod Bezru
 čovým vrchem
SUMMARY:MS-U16M-KVA: Happy Sport Opava\, z.s.-Frýdek-Místek
END:VEVENT
BEGIN:VEVENT
UID:30376139-3332-4139-b831-643638343436
DTSTAMP:20260421T215111Z
DESCRIPTION:2/3 Frýdek-Místek - BV Ostrava 2:1 (-12\,16\,5)
DTSTART;TZID=Europe/Berlin:20221023T103000
DTEND;TZID=Europe/Berlin:20221023T123000
LOCATION:Hala SPŠ\, 28. října 1639 Frýdek-Místek - Místek
SUMMARY:MS-U16M-T1A: Frýdek-Místek-BV Ostrava
END:VEVENT
BEGIN:VEVENT
UID:36396261-3137-4663-b035-636362373663
DTSTAMP:20260421T215111Z
DESCRIPTION:1/1 VK Ostrava\, z.s. 'A' - Frýdek-Místek 0:2 (-18\,-20)
DTSTART;TZID=Europe/Berlin:20221023T090000
DTEND;TZID=Europe/Berlin:20221023T110000
LOCATION:Hala SPŠ\, 28. října 1639 Frýdek-Místek - Místek
SUMMARY:MS-U16M-T1A: VK Ostrava\, z.s. 'A'-Frýdek-Místek
END:VEVENT
BEGIN:VEVENT
UID:64373333-3666-4831-b133-636263646335
DTSTAMP:20260421T215111Z
DESCRIPTION:4/6 Nový Jičín - Frýdek-Místek 0:2 (-17\,-20)
DTSTART;TZID=Europe/Berlin:20221023T133000
DTEND;TZID=Europe/Berlin:20221023T153000
LOCATION:Hala SPŠ\, 28. října 1639 Frýdek-Místek - Místek
SUMMARY:MS-U16M-T1A: Nový Jičín-Frýdek-Místek
END:VEVENT
BEGIN:VEVENT
UID:63376537-3262-4234-b031-653830616639
DTSTAMP:20260421T215111Z
DESCRIPTION:1/1 Frýdek-Místek - Kojetín 2:0 (17\,10)
DTSTART;TZID=Europe/Berlin:20221113T090000
DTEND;TZID=Europe/Berlin:20221113T110000
LOCATION:Sportovní hala Slezského gymnázia v Opavě\, Zámecký okruh 461 Opav
 a - Město
SUMMARY:MS-U16M-T2A: Frýdek-Místek-Kojetín
END:VEVENT
BEGIN:VEVENT
UID:30653061-3830-4162-a231-646336393538
DTSTAMP:20260421T215111Z
DESCRIPTION:2/4 Frýdek-Místek - VK Ostrava\, z.s. 'A' 0:2 (-16\,-22)
DTSTART;TZID=Europe/Berlin:20221113T103000
DTEND;TZID=Europe/Berlin:20221113T123000
LOCATION:Sportovní hala Slezského gymnázia v Opavě\, Zámecký okruh 461 Opav
 a - Město
SUMMARY:MS-U16M-T2A: Frýdek-Místek-VK Ostrava\, z.s. 'A'
END:VEVENT
BEGIN:VEVENT
UID:61613663-6337-4965-b433-636330303239
DTSTAMP:20260421T215111Z
DESCRIPTION:3/5 Happy Sport Opava\, z.s. - Frýdek-Místek 0:2 (-17\,-16)
DTSTART;TZID=Europe/Berlin:20221113T120000
DTEND;TZID=Europe/Berlin:20221113T140000
LOCATION:Sportovní hala Slezského gymnázia v Opavě\, Zámecký okruh 461 Opav
 a - Město
SUMMARY:MS-U16M-T2A: Happy Sport Opava\, z.s.-Frýdek-Místek
END:VEVENT
BEGIN:VEVENT
UID:32393334-3133-4435-b033-613664653433
DTSTAMP:20260421T215111Z
DESCRIPTION:2/2 Frýdek-Místek - BV Ostrava 1:2 (19\,-22\,-11)
DTSTART;TZID=Europe/Berlin:20221211T103000
DTEND;TZID=Europe/Berlin:20221211T123000
LOCATION:Hala ABC\, Purkyňova 116 Nový Jičín
SUMMARY:MS-U16M-T3A: Frýdek-Místek-BV Ostrava
END:VEVENT
BEGIN:VEVENT
UID:37323337-6337-4365-b531-653330313237
DTSTAMP:20260421T215111Z
DESCRIPTION:4/6 Frýdek-Místek - Nový Jičín 2:0 (13\,23)
DTSTART;TZID=Europe/Berlin:20221211T133000
DTEND;TZID=Europe/Berlin:20221211T153000
LOCATION:Hala ABC\, Purkyňova 116 Nový Jičín
SUMMARY:MS-U16M-T3A: Frýdek-Místek-Nový Jičín
END:VEVENT
BEGIN:VEVENT
UID:62396366-3837-4435-b662-333235633463
DTSTAMP:20260421T215111Z
DESCRIPTION:3/4 VK Ostrava\, z.s. 'A' - Frýdek-Místek 0:2 (-11\,-18)
DTSTART;TZID=Europe/Berlin:20221211T120000
DTEND;TZID=Europe/Berlin:20221211T140000
LOCATION:Hala ABC\, Purkyňova 116 Nový Jičín
SUMMARY:MS-U16M-T3A: VK Ostrava\, z.s. 'A'-Frýdek-Místek
END:VEVENT
BEGIN:VEVENT
UID:65353839-6231-4637-b563-653634323963
DTSTAMP:20260421T215111Z
DESCRIPTION:1/2 Frýdek-Místek - Kojetín 2:0 (21\,24)
DTSTART;TZID=Europe/Berlin:20230115T090000
DTEND;TZID=Europe/Berlin:20230115T110000
LOCATION:Městská sportovní hala\, Hanusíkova 1476 Kojetín - Kojetín I-Město
SUMMARY:MS-U16M-T4A: Frýdek-Místek-Kojetín
END:VEVENT
BEGIN:VEVENT
UID:66643233-3761-4461-b330-303563623061
DTSTAMP:20260421T215111Z
DESCRIPTION:3/6 Frýdek-Místek - Happy Sport Opava\, z.s. 2:0 (18\,17)
DTSTART;TZID=Europe/Berlin:20230115T120000
DTEND;TZID=Europe/Berlin:20230115T140000
LOCATION:Městská sportovní hala\, Hanusíkova 1476 Kojetín - Kojetín I-Město
SUMMARY:MS-U16M-T4A: Frýdek-Místek-Happy Sport Opava\, z.s.
END:VEVENT
BEGIN:VEVENT
UID:32373333-3131-4434-a636-663631336562
DTSTAMP:20260421T215111Z
DESCRIPTION:2/4 BV Ostrava - Frýdek-Místek 0:2 (-25\,-15)
DTSTART;TZID=Europe/Berlin:20230115T103000
DTEND;TZID=Europe/Berlin:20230115T123000
LOCATION:Městská sportovní hala\, Hanusíkova 1476 Kojetín - Kojetín I-Město
SUMMARY:MS-U16M-T4A: BV Ostrava-Frýdek-Místek
END:VEVENT
BEGIN:VEVENT
UID:37326634-6530-4135-b065-633735383030
DTSTAMP:20260421T215111Z
DESCRIPTION:1/1 Frýdek-Místek - BV Ostrava 2:0 (11\,16)
DTSTART;TZID=Europe/Berlin:20230205T090000
DTEND;TZID=Europe/Berlin:20230205T110000
LOCATION:Hala ABC\, Purkyňova 116 Nový Jičín
SUMMARY:MS-U16M-T5A: Frýdek-Místek-BV Ostrava
END:VEVENT
BEGIN:VEVENT
UID:33336134-3830-4739-b133-383938326335
DTSTAMP:20260421T215111Z
DESCRIPTION:2/4 Frýdek-Místek - Kojetín 2:0 (14\,16)
DTSTART;TZID=Europe/Berlin:20230205T103000
DTEND;TZID=Europe/Berlin:20230205T123000
LOCATION:Hala ABC\, Purkyňova 116 Nový Jičín
SUMMARY:MS-U16M-T5A: Frýdek-Místek-Kojetín
END:VEVENT
BEGIN:VEVENT
UID:65343932-3538-4664-b761-353732393032
DTSTAMP:20260421T215111Z
DESCRIPTION:3/5 Nový Jičín - Frýdek-Místek 1:2 (19\,-20\,-12)
DTSTART;TZID=Europe/Berlin:20230205T120000
DTEND;TZID=Europe/Berlin:20230205T140000
LOCATION:Hala ABC\, Purkyňova 116 Nový Jičín
SUMMARY:MS-U16M-T5A: Nový Jičín-Frýdek-Místek
END:VEVENT
BEGIN:VEVENT
UID:32633166-3164-4932-a630-363233643431
DTSTAMP:20260421T215111Z
DESCRIPTION:3/3 Frýdek-Místek - Happy Sport Opava\, z.s. 2:0 (8\,13)
DTSTART;TZID=Europe/Berlin:20230312T120000
DTEND;TZID=Europe/Berlin:20230312T140000
LOCATION:Hala SPŠ\, 28. října 1639 Frýdek-Místek - Místek
SUMMARY:MS-U16M-T6A: Frýdek-Místek-Happy Sport Opava\, z.s.
END:VEVENT
BEGIN:VEVENT
UID:36363832-3963-4235-b361-363465393530
DTSTAMP:20260421T215111Z
DESCRIPTION:1/1 BV Ostrava - Frýdek-Místek 0:2 (-15\,-19)
DTSTART;TZID=Europe/Berlin:20230312T090000
DTEND;TZID=Europe/Berlin:20230312T110000
LOCATION:Hala SPŠ\, 28. října 1639 Frýdek-Místek - Místek
SUMMARY:MS-U16M-T6A: BV Ostrava-Frýdek-Místek
END:VEVENT
BEGIN:VEVENT
UID:31336263-3565-4534-b964-393530326438
DTSTAMP:20260421T215111Z
DESCRIPTION:4/6 Nový Jičín - Frýdek-Místek 0:2 (-13\,-13)
DTSTART;TZID=Europe/Berlin:20230312T133000
DTEND;TZID=Europe/Berlin:20230312T153000
LOCATION:Hala SPŠ\, 28. října 1639 Frýdek-Místek - Místek
SUMMARY:MS-U16M-T6A: Nový Jičín-Frýdek-Místek
END:VEVENT
BEGIN:VEVENT
UID:35396430-3165-4565-b337-653362653330
DTSTAMP:20260421T215111Z
DESCRIPTION:2/4 Frýdek-Místek - Nymburk 2:0 (15\,23)
DTSTART;TZID=Europe/Berlin:20230501T113000
DTEND;TZID=Europe/Berlin:20230501T133000
LOCATION:Sportovní hala TJ Jiskra\, Ledečská 3028 Havlíčkův Brod
SUMMARY:MCR-U16M-B: Frýdek-Místek-Nymburk
END:VEVENT
BEGIN:VEVENT
UID:30623233-6266-4138-a465-316439316462
DTSTAMP:20260421T215111Z
DESCRIPTION:4/7 Frýdek-Místek - Svitavy 2:0 (21\,12)
DTSTART;TZID=Europe/Berlin:20230501T150000
DTEND;TZID=Europe/Berlin:20230501T170000
LOCATION:Sportovní hala TJ Jiskra\, Ledečská 3028 Havlíčkův Brod
SUMMARY:MCR-U16M-B: Frýdek-Místek-Svitavy
END:VEVENT
BEGIN:VEVENT
UID:64643262-3239-4461-b535-303233313365
DTSTAMP:20260421T215111Z
DESCRIPTION:3/5 Česká Třebová - Frýdek-Místek 0:2 (-14\,-14)
DTSTART;TZID=Europe/Berlin:20230501T130000
DTEND;TZID=Europe/Berlin:20230501T150000
LOCATION:Sportovní hala TJ Jiskra\, Ledečská 3028 Havlíčkův Brod
SUMMARY:MCR-U16M-B: Česká Třebová-Frýdek-Místek
END:VEVENT
BEGIN:VEVENT
UID:33663463-3038-4262-a566-353235303837
DTSTAMP:20260421T215111Z
DESCRIPTION:5/10 Havlíčkův Brod - Frýdek-Místek 0:2 (-18\,-17)
DTSTART;TZID=Europe/Berlin:20230501T163000
DTEND;TZID=Europe/Berlin:20230501T183000
LOCATION:Sportovní hala TJ Jiskra\, Ledečská 3028 Havlíčkův Brod
SUMMARY:MCR-U16M-B: Havlíčkův Brod-Frýdek-Místek
END:VEVENT
BEGIN:VEVENT
UID:35383763-3738-4534-b532-383366383831
DTSTAMP:20260421T215111Z
DESCRIPTION:1/1 Frýdek-Místek - Letovice 2:0 (19\,15)
DTSTART;TZID=Europe/Berlin:20230506T130500
DTEND;TZID=Europe/Berlin:20230506T150500
LOCATION:TJ Slavia Hradec Králové\, Víta Nejedlého 1216 Hradec Králové
SUMMARY:MCR-U16M-FD: Frýdek-Místek-Letovice
END:VEVENT
BEGIN:VEVENT
UID:65353134-3236-4864-a137-363063323639
DTSTAMP:20260421T215111Z
DESCRIPTION:2/4 Frýdek-Místek - Velké Meziříčí 2:0 (10\,23)
DTSTART;TZID=Europe/Berlin:20230506T154500
DTEND;TZID=Europe/Berlin:20230506T174500
LOCATION:TJ Slavia Hradec Králové\, Víta Nejedlého 1216 Hradec Králové
SUMMARY:MCR-U16M-FD: Frýdek-Místek-Velké Meziříčí
END:VEVENT
BEGIN:VEVENT
UID:32613662-6630-4935-a239-353539636536
DTSTAMP:20260421T215111Z
DESCRIPTION:3/6 Lvi Praha - Frýdek-Místek 1:2 (-13\,19\,-13)
DTSTART;TZID=Europe/Berlin:20230506T182500
DTEND;TZID=Europe/Berlin:20230506T202500
LOCATION:TJ Slavia Hradec Králové\, Víta Nejedlého 1216 Hradec Králové
SUMMARY:MCR-U16M-FD: Lvi Praha-Frýdek-Místek
END:VEVENT
BEGIN:VEVENT
UID:36323630-3737-4132-b033-303461666437
DTSTAMP:20260421T215111Z
DESCRIPTION:2/5 Frýdek-Místek - Příbram 2:0 (22\,18)\nD1 - B2
DTSTART;TZID=Europe/Berlin:20230507T143000
DTEND;TZID=Europe/Berlin:20230507T163000
LOCATION:TJ Slavia Hradec Králové\, Víta Nejedlého 1216 Hradec Králové
SUMMARY:MCR-U16M-FF: Frýdek-Místek-Příbram
END:VEVENT
BEGIN:VEVENT
UID:38646664-3733-4364-b737-303638333261
DTSTAMP:20260421T215111Z
DESCRIPTION:1/3 Jirkov - Frýdek-Místek 0:2 (-14\,-16)\nB3 - D1
DTSTART;TZID=Europe/Berlin:20230507T113000
DTEND;TZID=Europe/Berlin:20230507T133000
LOCATION:TJ Slavia Hradec Králové\, Víta Nejedlého 1216 Hradec Králové
SUMMARY:MCR-U16M-FF: Jirkov-Frýdek-Místek
END:VEVENT
BEGIN:VEVENT
UID:31326130-3537-4431-a533-666530313437
DTSTAMP:20260421T215111Z
DESCRIPTION:3/7 Prosek - Frýdek-Místek 2:0 (18\,10)\nB1 - D1
DTSTART;TZID=Europe/Berlin:20230507T173000
DTEND;TZID=Europe/Berlin:20230507T193000
LOCATION:TJ Slavia Hradec Králové\, Víta Nejedlého 1216 Hradec Králové
SUMMARY:MCR-U16M-FF: Prosek-Frýdek-Místek
END:VEVENT
BEGIN:VEVENT
UID:63306465-3032-4332-b537-316236346338
DTSTAMP:20260421T215111Z
DESCRIPTION:2/11 Frýdek-Místek - Prosek 0:2 (-23\,-24)\no 3. místo
DTSTART;TZID=Europe/Berlin:20230508T122000
DTEND;TZID=Europe/Berlin:20230508T142000
LOCATION:Hala SPŠ\, 28. října 1639 Frýdek-Místek - Místek
SUMMARY:MCR-U16M-FI: Frýdek-Místek-Prosek
END:VEVENT
BEGIN:VEVENT
UID:31356131-3864-4339-b739-303132306630
DTSTAMP:20260421T215111Z
DESCRIPTION:1/5 Kladno - Frýdek-Místek 2:0 (14\,18)\nE1 - F2
DTSTART;TZID=Europe/Berlin:20230508T095000
DTEND;TZID=Europe/Berlin:20230508T115000
LOCATION:Kladenská sportovní hala\, Sportovců 817 Kladno - Rozdělov
SUMMARY:MCR-U16M-FI: Kladno-Frýdek-Místek
END:VEVENT
END:VCALENDAR
