BEGIN:VCALENDAR
VERSION:2.0
PRODID:-//Red Volley Frýdlant n/O, z.s.79879//NONSGML kigkonsult.se iCalcreator 2.41.80//
CALSCALE:GREGORIAN
UID:34383839-3136-4661-a330-366530306231
BEGIN:VEVENT
UID:64646163-3764-4038-a135-323761626164
DTSTAMP:20260422T091135Z
DESCRIPTION:3/3 Red Frýdlant n/O - TJ Hlučín 2:0 (5\,7)
DTSTART;TZID=Europe/Berlin:20220925T120000
DTEND;TZID=Europe/Berlin:20220925T140000
LOCATION:Komenského\, Komenského 420 Frýdlant nad Ostravicí - Frýdlant
SUMMARY:MS-U16M-KVD: Red Frýdlant n/O-TJ Hlučín
END:VEVENT
BEGIN:VEVENT
UID:32323336-3863-4761-b164-323331313563
DTSTAMP:20260422T091135Z
DESCRIPTION:1/1 VK Ostrava\, z.s. 'B' - Red Frýdlant n/O 0:2 (-10\,-18)
DTSTART;TZID=Europe/Berlin:20220925T090000
DTEND;TZID=Europe/Berlin:20220925T110000
LOCATION:Komenského\, Komenského 420 Frýdlant nad Ostravicí - Frýdlant
SUMMARY:MS-U16M-KVD: VK Ostrava\, z.s. 'B'-Red Frýdlant n/O
END:VEVENT
BEGIN:VEVENT
UID:38616534-3336-4965-a138-323737623066
DTSTAMP:20260422T091135Z
DESCRIPTION:6/6 BV Ostrava - Red Frýdlant n/O 2:0 (15\,14)
DTSTART;TZID=Europe/Berlin:20220925T163000
DTEND;TZID=Europe/Berlin:20220925T183000
LOCATION:Komenského\, Komenského 420 Frýdlant nad Ostravicí - Frýdlant
SUMMARY:MS-U16M-KVD: BV Ostrava-Red Frýdlant n/O
END:VEVENT
BEGIN:VEVENT
UID:63363937-6131-4631-b162-336133623865
DTSTAMP:20260422T091135Z
DESCRIPTION:1/2 Red Frýdlant n/O - TJ Sokol Palkovice 2:1 (22\,-12\,9)
DTSTART;TZID=Europe/Berlin:20221023T090000
DTEND;TZID=Europe/Berlin:20221023T110000
LOCATION:Sportovní hala Slezského gymnázia v Opavě\, Zámecký okruh 461 Opav
 a - Město
SUMMARY:MS-U16M-T1B: Red Frýdlant n/O-TJ Sokol Palkovice
END:VEVENT
BEGIN:VEVENT
UID:39653764-6665-4132-b334-373237323636
DTSTAMP:20260422T091135Z
DESCRIPTION:3/6 Red Frýdlant n/O - Kojetín 0:2 (-14\,-13)
DTSTART;TZID=Europe/Berlin:20221023T120000
DTEND;TZID=Europe/Berlin:20221023T140000
LOCATION:Sportovní hala Slezského gymnázia v Opavě\, Zámecký okruh 461 Opav
 a - Město
SUMMARY:MS-U16M-T1B: Red Frýdlant n/O-Kojetín
END:VEVENT
BEGIN:VEVENT
UID:64383863-3932-4939-b835-623664363534
DTSTAMP:20260422T091135Z
DESCRIPTION:2/4 Happy Sport Opava\, z.s. - Red Frýdlant n/O 1:2 (-13\,16\,-
 10)
DTSTART;TZID=Europe/Berlin:20221023T103000
DTEND;TZID=Europe/Berlin:20221023T123000
LOCATION:Sportovní hala Slezského gymnázia v Opavě\, Zámecký okruh 461 Opav
 a - Město
SUMMARY:MS-U16M-T1B: Happy Sport Opava\, z.s.-Red Frýdlant n/O
END:VEVENT
BEGIN:VEVENT
UID:34386665-3933-4533-b639-346630633733
DTSTAMP:20260422T091135Z
DESCRIPTION:2/2 Red Frýdlant n/O - Green Volley F-M B 2:0 (13\,18)
DTSTART;TZID=Europe/Berlin:20221113T103000
DTEND;TZID=Europe/Berlin:20221113T123000
LOCATION:Sportovní hala Palkovice\,  Palkovice20
SUMMARY:MS-U16M-T2C: Red Frýdlant n/O-Green Volley F-M B
END:VEVENT
BEGIN:VEVENT
UID:36306435-3161-4661-b330-393539363135
DTSTAMP:20260422T091135Z
DESCRIPTION:6/6 Red Frýdlant n/O - TJ Sokol Palkovice 2:1 (19\,-25\,15)
DTSTART;TZID=Europe/Berlin:20221113T163000
DTEND;TZID=Europe/Berlin:20221113T183000
LOCATION:Sportovní hala Palkovice\,  Palkovice20
SUMMARY:MS-U16M-T2C: Red Frýdlant n/O-TJ Sokol Palkovice
END:VEVENT
BEGIN:VEVENT
UID:30303466-3334-4936-b430-613863623935
DTSTAMP:20260422T091135Z
DESCRIPTION:4/4 VK Raškovice - Red Frýdlant n/O 0:2 (-8\,-10)
DTSTART;TZID=Europe/Berlin:20221113T133000
DTEND;TZID=Europe/Berlin:20221113T153000
LOCATION:Sportovní hala Palkovice\,  Palkovice20
SUMMARY:MS-U16M-T2C: VK Raškovice-Red Frýdlant n/O
END:VEVENT
BEGIN:VEVENT
UID:64393064-3934-4561-b638-613261363836
DTSTAMP:20260422T091135Z
DESCRIPTION:1/1 Red Frýdlant n/O - TJ Sokol Palkovice 2:0 (15\,20)
DTSTART;TZID=Europe/Berlin:20221211T090000
DTEND;TZID=Europe/Berlin:20221211T110000
LOCATION:Sportovní hala Palkovice\,  Palkovice20
SUMMARY:MS-U16M-T3B: Red Frýdlant n/O-TJ Sokol Palkovice
END:VEVENT
BEGIN:VEVENT
UID:39636439-6439-4735-a466-343435336633
DTSTAMP:20260422T091135Z
DESCRIPTION:4/4 Red Frýdlant n/O - Kojetín 1:2 (18\,-20\,-8)
DTSTART;TZID=Europe/Berlin:20221211T133000
DTEND;TZID=Europe/Berlin:20221211T153000
LOCATION:Sportovní hala Palkovice\,  Palkovice20
SUMMARY:MS-U16M-T3B: Red Frýdlant n/O-Kojetín
END:VEVENT
BEGIN:VEVENT
UID:34333334-6364-4761-b938-353531623263
DTSTAMP:20260422T091135Z
DESCRIPTION:5/5 Happy Sport Opava\, z.s. - Red Frýdlant n/O 2:1 (22\,-21\,1
 1)
DTSTART;TZID=Europe/Berlin:20221211T150000
DTEND;TZID=Europe/Berlin:20221211T170000
LOCATION:Sportovní hala Palkovice\,  Palkovice20
SUMMARY:MS-U16M-T3B: Happy Sport Opava\, z.s.-Red Frýdlant n/O
END:VEVENT
BEGIN:VEVENT
UID:66343336-6335-4633-b234-333763336434
DTSTAMP:20260422T091135Z
DESCRIPTION:1/1 Red Frýdlant n/O - VO Slezská Orlice\, z.s. 2:0 (13\,17)
DTSTART;TZID=Europe/Berlin:20230115T090000
DTEND;TZID=Europe/Berlin:20230115T110000
LOCATION:Sportovní hala Palkovice\,  Palkovice20
SUMMARY:MS-U16M-T4C: Red Frýdlant n/O-VO Slezská Orlice\, z.s.
END:VEVENT
BEGIN:VEVENT
UID:38613732-3534-4636-b265-336563643138
DTSTAMP:20260422T091135Z
DESCRIPTION:2/4 Red Frýdlant n/O - TJ Sokol Palkovice 2:0 (15\,15)
DTSTART;TZID=Europe/Berlin:20230115T103000
DTEND;TZID=Europe/Berlin:20230115T123000
LOCATION:Sportovní hala Palkovice\,  Palkovice20
SUMMARY:MS-U16M-T4C: Red Frýdlant n/O-TJ Sokol Palkovice
END:VEVENT
BEGIN:VEVENT
UID:33393538-6239-4466-b665-616261376634
DTSTAMP:20260422T091135Z
DESCRIPTION:3/5 VK Ostrava\, z.s. 'B' - Red Frýdlant n/O 0:2 (-21\,-15)
DTSTART;TZID=Europe/Berlin:20230115T120000
DTEND;TZID=Europe/Berlin:20230115T140000
LOCATION:Sportovní hala Palkovice\,  Palkovice20
SUMMARY:MS-U16M-T4C: VK Ostrava\, z.s. 'B'-Red Frýdlant n/O
END:VEVENT
BEGIN:VEVENT
UID:64663662-6464-4332-b664-376335343834
DTSTAMP:20260422T091135Z
DESCRIPTION:2/3 Red Frýdlant n/O - Olomouc 2:1 (19\,-23\,10)
DTSTART;TZID=Europe/Berlin:20230205T103000
DTEND;TZID=Europe/Berlin:20230205T123000
LOCATION:Sportovní hala Slezského gymnázia v Opavě\, Zámecký okruh 461 Opav
 a - Město
SUMMARY:MS-U16M-T5B: Red Frýdlant n/O-Olomouc
END:VEVENT
BEGIN:VEVENT
UID:66306361-3830-4436-a438-613138633732
DTSTAMP:20260422T091135Z
DESCRIPTION:1/1 Happy Sport Opava\, z.s. - Red Frýdlant n/O 2:0 (12\,22)
DTSTART;TZID=Europe/Berlin:20230205T090000
DTEND;TZID=Europe/Berlin:20230205T110000
LOCATION:Sportovní hala Slezského gymnázia v Opavě\, Zámecký okruh 461 Opav
 a - Město
SUMMARY:MS-U16M-T5B: Happy Sport Opava\, z.s.-Red Frýdlant n/O
END:VEVENT
BEGIN:VEVENT
UID:39383231-6364-4531-b965-663736373766
DTSTAMP:20260422T091135Z
DESCRIPTION:3/6 VK Ostrava\, z.s. 'A' - Red Frýdlant n/O 2:0 (25\,13)
DTSTART;TZID=Europe/Berlin:20230205T120000
DTEND;TZID=Europe/Berlin:20230205T140000
LOCATION:Sportovní hala Slezského gymnázia v Opavě\, Zámecký okruh 461 Opav
 a - Město
SUMMARY:MS-U16M-T5B: VK Ostrava\, z.s. 'A'-Red Frýdlant n/O
END:VEVENT
BEGIN:VEVENT
UID:61393438-3864-4335-b237-323633383863
DTSTAMP:20260422T091135Z
DESCRIPTION:1/1 Red Frýdlant n/O - TJ Sokol Palkovice 2:0 (15\,22)
DTSTART;TZID=Europe/Berlin:20230312T090000
DTEND;TZID=Europe/Berlin:20230312T110000
LOCATION:Sportovní hala Palkovice\,  Palkovice20
SUMMARY:MS-U16M-T6B: Red Frýdlant n/O-TJ Sokol Palkovice
END:VEVENT
BEGIN:VEVENT
UID:66383232-3334-4132-b935-633432346633
DTSTAMP:20260422T091135Z
DESCRIPTION:4/4 Red Frýdlant n/O - VK Ostrava\, z.s. 'A' 2:0 (23\,22)
DTSTART;TZID=Europe/Berlin:20230312T133000
DTEND;TZID=Europe/Berlin:20230312T153000
LOCATION:Sportovní hala Palkovice\,  Palkovice20
SUMMARY:MS-U16M-T6B: Red Frýdlant n/O-VK Ostrava\, z.s. 'A'
END:VEVENT
BEGIN:VEVENT
UID:64663837-3536-4761-b265-303939613333
DTSTAMP:20260422T091135Z
DESCRIPTION:5/5 Kojetín - Red Frýdlant n/O 1:2 (-24\,15\,-10)
DTSTART;TZID=Europe/Berlin:20230312T150000
DTEND;TZID=Europe/Berlin:20230312T170000
LOCATION:Sportovní hala Palkovice\,  Palkovice20
SUMMARY:MS-U16M-T6B: Kojetín-Red Frýdlant n/O
END:VEVENT
END:VCALENDAR
