BEGIN:VCALENDAR
VERSION:2.0
PRODID:-//Volejbalová akademie mládeže Havířov, z.s.79935//NONSGML kigkonsult.se iCalcreator 2.41.80//
CALSCALE:GREGORIAN
UID:62353737-3134-4530-b361-313634376134
BEGIN:VEVENT
UID:31373933-6432-4236-b039-666133366166
DTSTAMP:20260422T053910Z
DESCRIPTION:6/6 VAM Havířov\, - ŠSK Bílovec 0:2 (-14\,-16)
DTSTART;TZID=Europe/Berlin:20221001T133000
DTEND;TZID=Europe/Berlin:20221001T153000
LOCATION:Sportovní hala\, Heleny Salichové 1275 Ostrava - Polanka nad Odrou
SUMMARY:MS-U14Z-KVA: VAM Havířov\,-ŠSK Bílovec
END:VEVENT
BEGIN:VEVENT
UID:32316431-3136-4965-b636-653433343361
DTSTAMP:20260422T053910Z
DESCRIPTION:2/2 VKB Frýdlant n.O. - VAM Havířov\, 2:0 (11\,23)
DTSTART;TZID=Europe/Berlin:20221001T090000
DTEND;TZID=Europe/Berlin:20221001T110000
LOCATION:Sportovní hala\, Heleny Salichové 1275 Ostrava - Polanka nad Odrou
SUMMARY:MS-U14Z-KVA: VKB Frýdlant n.O.-VAM Havířov\,
END:VEVENT
BEGIN:VEVENT
UID:33363961-3236-4236-a130-623231663863
DTSTAMP:20260422T053910Z
DESCRIPTION:3/3 SVK Nový Jičín C - VAM Havířov\, 0:2 (-19\,-14)
DTSTART;TZID=Europe/Berlin:20221001T103000
DTEND;TZID=Europe/Berlin:20221001T123000
LOCATION:Sportovní hala\, Heleny Salichové 1275 Ostrava - Polanka nad Odrou
SUMMARY:MS-U14Z-KVA: SVK Nový Jičín C-VAM Havířov\,
END:VEVENT
BEGIN:VEVENT
UID:39333335-3631-4836-a533-616333663865
DTSTAMP:20260422T053910Z
DESCRIPTION:1/1 VAM Havířov\, - TJ Frenštát p. Radhoštěm 2:0 (16\,23)
DTSTART;TZID=Europe/Berlin:20221112T090000
DTEND;TZID=Europe/Berlin:20221112T110000
LOCATION:ZŠ Marie Kudeříkové\, Marušky Kudeříkové 1143 Havířov - Město
SUMMARY:MS-U14Z-T1C: VAM Havířov\,-TJ Frenštát p. Radhoštěm
END:VEVENT
BEGIN:VEVENT
UID:33343734-6531-4662-a637-333534663665
DTSTAMP:20260422T053910Z
DESCRIPTION:4/4 VAM Havířov\, - TJ Sokol Frýdek - Místek B 2:0 (16\,15)
DTSTART;TZID=Europe/Berlin:20221112T103000
DTEND;TZID=Europe/Berlin:20221112T123000
LOCATION:ZŠ Marie Kudeříkové\, Marušky Kudeříkové 1143 Havířov - Město
SUMMARY:MS-U14Z-T1C: VAM Havířov\,-TJ Sokol Frýdek - Místek B
END:VEVENT
BEGIN:VEVENT
UID:64306131-6162-4962-b235-383363373266
DTSTAMP:20260422T053910Z
DESCRIPTION:6/6 TJ Sokol Frýdek - Místek A - VAM Havířov\, 0:2 (-15\,-16)
DTSTART;TZID=Europe/Berlin:20221112T120000
DTEND;TZID=Europe/Berlin:20221112T140000
LOCATION:ZŠ Marie Kudeříkové\, Marušky Kudeříkové 1143 Havířov - Město
SUMMARY:MS-U14Z-T1C: TJ Sokol Frýdek - Místek A-VAM Havířov\,
END:VEVENT
BEGIN:VEVENT
UID:32656637-3935-4166-b565-643962326535
DTSTAMP:20260422T053910Z
DESCRIPTION:6/6 VAM Havířov\, - VKB Frýdlant n.O. 2:0 (20\,17)
DTSTART;TZID=Europe/Berlin:20221210T120000
DTEND;TZID=Europe/Berlin:20221210T140000
LOCATION:Tělocvična ZŠ Záhuní\, Frenštát\, Záhuní 408 Frenštát pod Radhoště
 m
SUMMARY:MS-U14Z-T2B: VAM Havířov\,-VKB Frýdlant n.O.
END:VEVENT
BEGIN:VEVENT
UID:36373563-6264-4131-a637-323837303833
DTSTAMP:20260422T053910Z
DESCRIPTION:2/2 VK Kylešovice\, - VAM Havířov\, 2:0 (13\,20)
DTSTART;TZID=Europe/Berlin:20221210T090000
DTEND;TZID=Europe/Berlin:20221210T110000
LOCATION:Tělocvična ZŠ Záhuní\, Frenštát\, Záhuní 408 Frenštát pod Radhoště
 m
SUMMARY:MS-U14Z-T2B: VK Kylešovice\,-VAM Havířov\,
END:VEVENT
BEGIN:VEVENT
UID:35356439-3530-4664-b238-383863393164
DTSTAMP:20260422T053910Z
DESCRIPTION:3/3 TJ Frenštát p. Radhoštěm - VAM Havířov\, 0:2 (-17\,-19)
DTSTART;TZID=Europe/Berlin:20221210T103000
DTEND;TZID=Europe/Berlin:20221210T123000
LOCATION:Tělocvična ZŠ Záhuní\, Frenštát\, Záhuní 408 Frenštát pod Radhoště
 m
SUMMARY:MS-U14Z-T2B: TJ Frenštát p. Radhoštěm-VAM Havířov\,
END:VEVENT
BEGIN:VEVENT
UID:30386434-3831-4439-b766-363038393031
DTSTAMP:20260422T053910Z
DESCRIPTION:2/3 VAM Havířov\, - KV Kopřivnice\, 0:2 (-15\,-13)
DTSTART;TZID=Europe/Berlin:20230107T100000
DTEND;TZID=Europe/Berlin:20230107T120000
LOCATION:Sportovní hala Slezského gymnázia v Opavě\, Zámecký okruh 461 Opav
 a - Město
SUMMARY:MS-U14Z-T3A: VAM Havířov\,-KV Kopřivnice\,
END:VEVENT
BEGIN:VEVENT
UID:36646433-3266-4836-b166-383239383365
DTSTAMP:20260422T053910Z
DESCRIPTION:4/8 VAM Havířov\, - SVK Nový Jičín A 0:2 (-25\,-19)
DTSTART;TZID=Europe/Berlin:20230107T120000
DTEND;TZID=Europe/Berlin:20230107T140000
LOCATION:Sportovní hala Slezského gymnázia v Opavě\, Zámecký okruh 461 Opav
 a - Město
SUMMARY:MS-U14Z-T3A: VAM Havířov\,-SVK Nový Jičín A
END:VEVENT
BEGIN:VEVENT
UID:37386235-6432-4633-b363-653439383061
DTSTAMP:20260422T053910Z
DESCRIPTION:1/1 ŠSK Bílovec - VAM Havířov\, 2:0 (12\,19)
DTSTART;TZID=Europe/Berlin:20230107T090000
DTEND;TZID=Europe/Berlin:20230107T110000
LOCATION:Sportovní hala Slezského gymnázia v Opavě\, Zámecký okruh 461 Opav
 a - Město
SUMMARY:MS-U14Z-T3A: ŠSK Bílovec-VAM Havířov\,
END:VEVENT
BEGIN:VEVENT
UID:31653663-6632-4166-b637-633961303639
DTSTAMP:20260422T053910Z
DESCRIPTION:3/6 VK Kylešovice\, - VAM Havířov\, 2:1 (20\,-22\,17)
DTSTART;TZID=Europe/Berlin:20230107T110000
DTEND;TZID=Europe/Berlin:20230107T130000
LOCATION:Sportovní hala Slezského gymnázia v Opavě\, Zámecký okruh 461 Opav
 a - Město
SUMMARY:MS-U14Z-T3A: VK Kylešovice\,-VAM Havířov\,
END:VEVENT
BEGIN:VEVENT
UID:63646366-3765-4362-b735-376235316137
DTSTAMP:20260422T053910Z
DESCRIPTION:2/4 VAM Havířov\, - KV Kopřivnice\, 0:2 (-22\,-11)
DTSTART;TZID=Europe/Berlin:20230204T100000
DTEND;TZID=Europe/Berlin:20230204T120000
LOCATION:Tělocvičny ZŠ 17.listopadu Kopřivnice\, 17. listopadu 1225 Kopřivn
 ice
SUMMARY:MS-U14Z-T4B: VAM Havířov\,-KV Kopřivnice\,
END:VEVENT
BEGIN:VEVENT
UID:39623531-3864-4361-a331-656166383364
DTSTAMP:20260422T053910Z
DESCRIPTION:5/9 VAM Havířov\, - TJ Frenštát p. Radhoštěm 2:0 (9\,17)
DTSTART;TZID=Europe/Berlin:20230204T130000
DTEND;TZID=Europe/Berlin:20230204T150000
LOCATION:Tělocvičny ZŠ 17.listopadu Kopřivnice\, 17. listopadu 1225 Kopřivn
 ice
SUMMARY:MS-U14Z-T4B: VAM Havířov\,-TJ Frenštát p. Radhoštěm
END:VEVENT
BEGIN:VEVENT
UID:37303338-3762-4365-b236-396630663436
DTSTAMP:20260422T053910Z
DESCRIPTION:3/5 VK Karviná\, z.s. - VAM Havířov\, 0:2 (-20\,-12)
DTSTART;TZID=Europe/Berlin:20230204T110000
DTEND;TZID=Europe/Berlin:20230204T130000
LOCATION:Tělocvičny ZŠ 17.listopadu Kopřivnice\, 17. listopadu 1225 Kopřivn
 ice
SUMMARY:MS-U14Z-T4B: VK Karviná\, z.s.-VAM Havířov\,
END:VEVENT
BEGIN:VEVENT
UID:62666666-6439-4331-b761-656466616431
DTSTAMP:20260422T053910Z
DESCRIPTION:4/8 VKB Frýdlant n.O. - VAM Havířov\, 0:2 (-15\,-19)
DTSTART;TZID=Europe/Berlin:20230204T120000
DTEND;TZID=Europe/Berlin:20230204T140000
LOCATION:Tělocvičny ZŠ 17.listopadu Kopřivnice\, 17. listopadu 1225 Kopřivn
 ice
SUMMARY:MS-U14Z-T4B: VKB Frýdlant n.O.-VAM Havířov\,
END:VEVENT
BEGIN:VEVENT
UID:64353134-6636-4138-a536-653733343266
DTSTAMP:20260422T053910Z
DESCRIPTION:1/1 VAM Havířov\, - SVK Nový Jičín C 2:0 (14\,13)\nNH - SPGŠ a 
 SZŠ Krnov\, Jiráskova 841/1a
DTSTART;TZID=Europe/Berlin:20230304T090000
DTEND;TZID=Europe/Berlin:20230304T110000
LOCATION:Gymnázium Krnov\, Smetanův okruh 19 Krnov - Pod Bezručovým vrchem
SUMMARY:MS-U14Z-T5B: VAM Havířov\,-SVK Nový Jičín C
END:VEVENT
BEGIN:VEVENT
UID:30623562-3238-4062-a234-346333313063
DTSTAMP:20260422T053910Z
DESCRIPTION:5/10 VAM Havířov\, - VK Karviná\, z.s. 2:0 (12\,22)\nNH - Gymná
 zium\, Smetanův okruh č.p. 19/2\, Krnov
DTSTART;TZID=Europe/Berlin:20230304T133000
DTEND;TZID=Europe/Berlin:20230304T153000
LOCATION:Gymnázium Krnov\, Smetanův okruh 19 Krnov - Pod Bezručovým vrchem
SUMMARY:MS-U14Z-T5B: VAM Havířov\,-VK Karviná\, z.s.
END:VEVENT
BEGIN:VEVENT
UID:64383166-3039-4230-a263-306233343366
DTSTAMP:20260422T053910Z
DESCRIPTION:2/4 VO Slezská Orlice - VAM Havířov\, 1:2 (19\,-15\,-10)\nNH - 
 SPGŠ a SZŠ Krnov\, Jiráskova 841/1a
DTSTART;TZID=Europe/Berlin:20230304T103000
DTEND;TZID=Europe/Berlin:20230304T123000
LOCATION:Gymnázium Krnov\, Smetanův okruh 19 Krnov - Pod Bezručovým vrchem
SUMMARY:MS-U14Z-T5B: VO Slezská Orlice-VAM Havířov\,
END:VEVENT
BEGIN:VEVENT
UID:32373232-3639-4337-b136-663932303263
DTSTAMP:20260422T053910Z
DESCRIPTION:4/7 VKB Frýdlant n.O. - VAM Havířov\, 0:2 (-21\,-20)\nNH - SPGŠ
  a SZŠ Krnov\, Jiráskova 841/1a
DTSTART;TZID=Europe/Berlin:20230304T123000
DTEND;TZID=Europe/Berlin:20230304T143000
LOCATION:Gymnázium Krnov\, Smetanův okruh 19 Krnov - Pod Bezručovým vrchem
SUMMARY:MS-U14Z-T5B: VKB Frýdlant n.O.-VAM Havířov\,
END:VEVENT
BEGIN:VEVENT
UID:33613761-6432-4637-b935-323936383261
DTSTAMP:20260422T053910Z
DESCRIPTION:2/3 VAM Havířov\, - VK Raškovice 2:1 (17\,-12\,14)
DTSTART;TZID=Europe/Berlin:20230401T100000
DTEND;TZID=Europe/Berlin:20230401T120000
LOCATION:Víceúčelová sportovní hala\,  Raškovice18
SUMMARY:MS-U14Z-T6A: VAM Havířov\,-VK Raškovice
END:VEVENT
BEGIN:VEVENT
UID:61383433-3562-4230-b564-633963346565
DTSTAMP:20260422T053910Z
DESCRIPTION:4/8 VAM Havířov\, - ŠSK Bílovec 0:2 (-21\,-22)
DTSTART;TZID=Europe/Berlin:20230401T120000
DTEND;TZID=Europe/Berlin:20230401T140000
LOCATION:Víceúčelová sportovní hala\,  Raškovice18
SUMMARY:MS-U14Z-T6A: VAM Havířov\,-ŠSK Bílovec
END:VEVENT
BEGIN:VEVENT
UID:62356134-3465-4065-a532-656164613733
DTSTAMP:20260422T053910Z
DESCRIPTION:1/1 SVK Nový Jičín A - VAM Havířov\, 2:0 (11\,6)
DTSTART;TZID=Europe/Berlin:20230401T090000
DTEND;TZID=Europe/Berlin:20230401T110000
LOCATION:Víceúčelová sportovní hala\,  Raškovice18
SUMMARY:MS-U14Z-T6A: SVK Nový Jičín A-VAM Havířov\,
END:VEVENT
BEGIN:VEVENT
UID:31643830-3435-4966-b066-666335303463
DTSTAMP:20260422T053910Z
DESCRIPTION:3/6 KV Kopřivnice\, - VAM Havířov\, 2:0 (17\,27)
DTSTART;TZID=Europe/Berlin:20230401T110000
DTEND;TZID=Europe/Berlin:20230401T130000
LOCATION:Víceúčelová sportovní hala\,  Raškovice18
SUMMARY:MS-U14Z-T6A: KV Kopřivnice\,-VAM Havířov\,
END:VEVENT
END:VCALENDAR
