BEGIN:VCALENDAR
VERSION:2.0
PRODID:-//TJ TESLA BRNO z.s. U1879963//NONSGML kigkonsult.se iCalcreator 2.41.80//
CALSCALE:GREGORIAN
UID:32663165-3165-4331-b065-333733366266
BEGIN:VEVENT
UID:63383738-3635-4634-b764-386165303835
DTSTAMP:20260423T005411Z
DESCRIPTION:2/2 TJ TESLA BRNO z.s. U18 - VK Znojmo - Přímětice U20 0:3 (-21
 \,-23\,-23)
DTSTART;TZID=Europe/Berlin:20220925T113000
DTEND;TZID=Europe/Berlin:20220925T133000
LOCATION:TJ Tesla Brno\, Halasovo náměstí 826 Brno - Lesná
SUMMARY:JM-U20M-KVB: TJ TESLA BRNO z.s. U18-VK Znojmo - Přímětice U20
END:VEVENT
BEGIN:VEVENT
UID:65613161-3061-4133-b334-663264366166
DTSTAMP:20260423T005411Z
DESCRIPTION:1/1 Vyškov - TJ TESLA BRNO z.s. U18 3:0 (6\,17\,11)
DTSTART;TZID=Europe/Berlin:20220925T090000
DTEND;TZID=Europe/Berlin:20220925T110000
LOCATION:Sportovní hala\, Mlýnská 737 Vyškov - Dědice
SUMMARY:JM-U20M-KVB: Vyškov-TJ TESLA BRNO z.s. U18
END:VEVENT
BEGIN:VEVENT
UID:38623366-6139-4432-a331-323935323033
DTSTAMP:20260423T005411Z
DESCRIPTION:3/3 TJ TESLA BRNO z.s. U18 - START B6 U18 3:1 (25\,-15\,20\,12)
DTSTART;TZID=Europe/Berlin:20221016T140000
DTEND;TZID=Europe/Berlin:20221016T160000
LOCATION:TJ Tesla Brno\, Halasovo náměstí 826 Brno - Lesná
SUMMARY:JM-U20M-IC: TJ TESLA BRNO z.s. U18-START B6 U18
END:VEVENT
BEGIN:VEVENT
UID:38396565-3934-4336-a537-353939333765
DTSTAMP:20260423T005411Z
DESCRIPTION:2/2 TJ Sokol Bučovice U18 - TJ TESLA BRNO z.s. U18 0:3 (-15\,-2
 3\,-15)
DTSTART;TZID=Europe/Berlin:20221016T113000
DTEND;TZID=Europe/Berlin:20221016T133000
LOCATION:ZŠ Bučovice 710\, Školní 710 Bučovice
SUMMARY:JM-U20M-IC: TJ Sokol Bučovice U18-TJ TESLA BRNO z.s. U18
END:VEVENT
BEGIN:VEVENT
UID:37383664-3730-4665-b463-636161393432
DTSTAMP:20260423T005411Z
DESCRIPTION:2/2 TJ TESLA BRNO z.s. U18 - TJ Sokol Veselí nad Moravou U20 3:
 X
DTSTART;TZID=Europe/Berlin:20221030T113000
DTEND;TZID=Europe/Berlin:20221030T133000
LOCATION:TJ Tesla Brno\, Halasovo náměstí 826 Brno - Lesná
SUMMARY:JM-U20M-IIB: TJ TESLA BRNO z.s. U18-TJ Sokol Veselí nad Moravou U20
END:VEVENT
BEGIN:VEVENT
UID:31343430-3962-4065-a133-376537633635
DTSTAMP:20260423T005411Z
DESCRIPTION:1/1 Šlapanice U20 - TJ TESLA BRNO z.s. U18 3:0 (13\,23\,17)
DTSTART;TZID=Europe/Berlin:20221030T090000
DTEND;TZID=Europe/Berlin:20221030T110000
LOCATION:Tělocvična ZŠ Šlapanice\, Masarykovo náměstí 1594 Šlapanice
SUMMARY:JM-U20M-IIB: Šlapanice U20-TJ TESLA BRNO z.s. U18
END:VEVENT
BEGIN:VEVENT
UID:66636330-6133-4034-b232-323236306438
DTSTAMP:20260423T005411Z
DESCRIPTION:3/3 TJ TESLA BRNO z.s. U18 - Vyškov 1:3 (18\,-19\,-21\,-23)
DTSTART;TZID=Europe/Berlin:20221120T140000
DTEND;TZID=Europe/Berlin:20221120T160000
LOCATION:TJ Tesla Brno\, Halasovo náměstí 826 Brno - Lesná
SUMMARY:JM-U20M-IIIB: TJ TESLA BRNO z.s. U18-Vyškov
END:VEVENT
BEGIN:VEVENT
UID:61323333-3035-4366-b234-386432343737
DTSTAMP:20260423T005411Z
DESCRIPTION:2/2 START B6 U18 - TJ TESLA BRNO z.s. U18 1:3 (-19\,-13\,24\,-2
 0)
DTSTART;TZID=Europe/Berlin:20221120T113000
DTEND;TZID=Europe/Berlin:20221120T133000
LOCATION:Základní škola Brno\, Sirotkova 36\, Sirotkova 371 Brno - Žabovřes
 ky
SUMMARY:JM-U20M-IIIB: START B6 U18-TJ TESLA BRNO z.s. U18
END:VEVENT
BEGIN:VEVENT
UID:39323535-6662-4162-a265-663530356637
DTSTAMP:20260423T005411Z
DESCRIPTION:2/2 TJ TESLA BRNO z.s. U18 - TJ SOKOL LETOVICE\, z.s. U20 0:3 (
 -20\,-15\,-17)
DTSTART;TZID=Europe/Berlin:20221218T113000
DTEND;TZID=Europe/Berlin:20221218T133000
LOCATION:TJ Tesla Brno\, Halasovo náměstí 826 Brno - Lesná
SUMMARY:JM-U20M-IVB: TJ TESLA BRNO z.s. U18-TJ SOKOL LETOVICE\, z.s. U20
END:VEVENT
BEGIN:VEVENT
UID:62373365-6435-4531-b834-373333363565
DTSTAMP:20260423T005411Z
DESCRIPTION:1/1 TJ Sokol Veselí nad Moravou U20 - TJ TESLA BRNO z.s. U18 3:
 0 (28\,17\,14)
DTSTART;TZID=Europe/Berlin:20221218T090000
DTEND;TZID=Europe/Berlin:20221218T110000
LOCATION:Církevní ZŠ Veselí nad Moravou\, Školní 698 Veselí nad Moravou
SUMMARY:JM-U20M-IVB: TJ Sokol Veselí nad Moravou U20-TJ TESLA BRNO z.s. U18
END:VEVENT
BEGIN:VEVENT
UID:63626635-3664-4331-a565-653831333732
DTSTAMP:20260423T005411Z
DESCRIPTION:2/2 TJ TESLA BRNO z.s. U18 - TJ Sokol Bučovice U18 3:X
DTSTART;TZID=Europe/Berlin:20230108T113000
DTEND;TZID=Europe/Berlin:20230108T133000
LOCATION:TJ Tesla Brno\, Halasovo náměstí 826 Brno - Lesná
SUMMARY:JM-U20M-VC: TJ TESLA BRNO z.s. U18-TJ Sokol Bučovice U18
END:VEVENT
BEGIN:VEVENT
UID:65363962-3662-4163-a666-626233366565
DTSTAMP:20260423T005411Z
DESCRIPTION:1/1 START B6 U18 - TJ TESLA BRNO z.s. U18 1:3 (-19\,-18\,19\,-2
 2)
DTSTART;TZID=Europe/Berlin:20230108T090000
DTEND;TZID=Europe/Berlin:20230108T110000
LOCATION:Základní škola Brno\, Sirotkova 36\, Sirotkova 371 Brno - Žabovřes
 ky
SUMMARY:JM-U20M-VC: START B6 U18-TJ TESLA BRNO z.s. U18
END:VEVENT
BEGIN:VEVENT
UID:65616531-6638-4265-a336-376561306631
DTSTAMP:20260423T005411Z
DESCRIPTION:1/1 VK Znojmo - Přímětice U20 - TJ TESLA BRNO z.s. U18 0:3 (-12
 \,-21\,-12)
DTSTART;TZID=Europe/Berlin:20230122T090000
DTEND;TZID=Europe/Berlin:20230122T110000
LOCATION:Tělocvična ZŠ Prokopa Diviše a MŠ\, Ke Škole 569 Znojmo - Přímětic
 e
SUMMARY:JM-U20M-VIB: VK Znojmo - Přímětice U20-TJ TESLA BRNO z.s. U18
END:VEVENT
BEGIN:VEVENT
UID:63636338-3764-4335-b734-373438383965
DTSTAMP:20260423T005411Z
DESCRIPTION:3/3 TJ SOKOL LETOVICE\, z.s. U20 - TJ TESLA BRNO z.s. U18 0:3 (
 -13\,-23\,-20)
DTSTART;TZID=Europe/Berlin:20230122T140000
DTEND;TZID=Europe/Berlin:20230122T160000
LOCATION:Sportovní hala Letovice\, V zahradách 831 Letovice
SUMMARY:JM-U20M-VIB: TJ SOKOL LETOVICE\, z.s. U20-TJ TESLA BRNO z.s. U18
END:VEVENT
BEGIN:VEVENT
UID:36333566-3932-4938-a533-323339393239
DTSTAMP:20260423T005411Z
DESCRIPTION:1/1 TJ TESLA BRNO z.s. U18 - VK Brno\, z.s. U20 1:3 (24\,-8\,-8
 \,-17)
DTSTART;TZID=Europe/Berlin:20230205T133000
DTEND;TZID=Europe/Berlin:20230205T153000
LOCATION:TJ Tesla Brno\, Halasovo náměstí 826 Brno - Lesná
SUMMARY:JM-U20M-VIIA: TJ TESLA BRNO z.s. U18-VK Brno\, z.s. U20
END:VEVENT
BEGIN:VEVENT
UID:65656536-3265-4166-b730-343937646265
DTSTAMP:20260423T005411Z
DESCRIPTION:3/3 Šlapanice U20 - TJ TESLA BRNO z.s. U18 1:3 (-20\,23\,-18\,-
 21)
DTSTART;TZID=Europe/Berlin:20230205T173000
DTEND;TZID=Europe/Berlin:20230205T193000
LOCATION:Tělocvična ZŠ Šlapanice\, Masarykovo náměstí 1594 Šlapanice
SUMMARY:JM-U20M-VIIA: Šlapanice U20-TJ TESLA BRNO z.s. U18
END:VEVENT
BEGIN:VEVENT
UID:37633631-3139-4265-a535-333532316439
DTSTAMP:20260423T005411Z
DESCRIPTION:3/3 TJ TESLA BRNO z.s. U18 - Vyškov 0:3 (-23\,-15\,-20)
DTSTART;TZID=Europe/Berlin:20230305T140000
DTEND;TZID=Europe/Berlin:20230305T160000
LOCATION:TJ Tesla Brno\, Halasovo náměstí 826 Brno - Lesná
SUMMARY:JM-U20M-VIIIA: TJ TESLA BRNO z.s. U18-Vyškov
END:VEVENT
BEGIN:VEVENT
UID:36376362-3833-4536-b466-303835373065
DTSTAMP:20260423T005411Z
DESCRIPTION:2/2 VK Brno\, z.s. U20 - TJ TESLA BRNO z.s. U18 3:0 (17\,16\,14
 )
DTSTART;TZID=Europe/Berlin:20230305T113000
DTEND;TZID=Europe/Berlin:20230305T133000
LOCATION:Sportovní gymnázium Ludvíka Daňka\, Botanická 63 Brno - Ponava
SUMMARY:JM-U20M-VIIIA: VK Brno\, z.s. U20-TJ TESLA BRNO z.s. U18
END:VEVENT
BEGIN:VEVENT
UID:30656166-3437-4066-a538-306661643231
DTSTAMP:20260423T005411Z
DESCRIPTION:5/10 TJ TESLA BRNO z.s. U18 - VK Znojmo - Přímětice U20 2:0 (19
 \,13)\nW5 vs W6 Kurt 1
DTSTART;TZID=Europe/Berlin:20230402T141500
DTEND;TZID=Europe/Berlin:20230402T161500
LOCATION:TJ Tesla Brno\, Halasovo náměstí 826 Brno - Lesná
SUMMARY:JM-U20M-F: TJ TESLA BRNO z.s. U18-VK Znojmo - Přímětice U20
END:VEVENT
BEGIN:VEVENT
UID:33656233-3364-4461-b261-363033386266
DTSTAMP:20260423T005411Z
DESCRIPTION:2/4 TJ SOKOL LETOVICE\, z.s. U20 - TJ TESLA BRNO z.s. U18 2:0 (
 12\,16)\n4. vs 5. Kurt 2
DTSTART;TZID=Europe/Berlin:20230402T103000
DTEND;TZID=Europe/Berlin:20230402T123000
LOCATION:Sportovní hala Letovice\, V zahradách 831 Letovice
SUMMARY:JM-U20M-F: TJ SOKOL LETOVICE\, z.s. U20-TJ TESLA BRNO z.s. U18
END:VEVENT
BEGIN:VEVENT
UID:63623736-3939-4463-b630-653830303530
DTSTAMP:20260423T005411Z
DESCRIPTION:3/5 START B6 U18 - TJ TESLA BRNO z.s. U18 0:2 (-17\,-17)\nL1 vs
  L4 Kurt 1
DTSTART;TZID=Europe/Berlin:20230402T114500
DTEND;TZID=Europe/Berlin:20230402T134500
LOCATION:Základní škola Brno\, Sirotkova 36\, Sirotkova 371 Brno - Žabovřes
 ky
SUMMARY:JM-U20M-F: START B6 U18-TJ TESLA BRNO z.s. U18
END:VEVENT
END:VCALENDAR
