BEGIN:VCALENDAR
VERSION:2.0
PRODID:-//SK Kojetín 2016, z.s.,,C"80008//NONSGML kigkonsult.se iCalcreator 2.41.80//
CALSCALE:GREGORIAN
UID:30383764-3563-4861-a332-363838616363
BEGIN:VEVENT
UID:35373034-3137-4565-b433-656531313264
DTSTAMP:20260426T034124Z
DESCRIPTION:3/8 SK Kojetín \,\,C' - VSK Staré Město 'B' 0:3 (-15\,-23\,-23)
DTSTART;TZID=Europe/Berlin:20221030T100000
DTEND;TZID=Europe/Berlin:20221030T120000
LOCATION:Městská sportovní hala\, Hanusíkova 1476 Kojetín - Kojetín I-Město
SUMMARY:ZLK-M: SK Kojetín \,\,C'-VSK Staré Město 'B'
END:VEVENT
BEGIN:VEVENT
UID:34366332-3466-4462-b030-363164346264
DTSTAMP:20260426T034124Z
DESCRIPTION:4/11 SK Kojetín \,\,C' - VSK Staré Město 'B' 1:3 (20\,-18\,-21\
 ,-13)
DTSTART;TZID=Europe/Berlin:20221030T130000
DTEND;TZID=Europe/Berlin:20221030T150000
LOCATION:Městská sportovní hala\, Hanusíkova 1476 Kojetín - Kojetín I-Město
SUMMARY:ZLK-M: SK Kojetín \,\,C'-VSK Staré Město 'B'
END:VEVENT
BEGIN:VEVENT
UID:34623436-6630-4236-b936-366263323437
DTSTAMP:20260426T034124Z
DESCRIPTION:7/20 SK Kojetín \,\,C' - TJ Bojkovice 'B' 3:1 (-20\,22\,22\,10)
DTSTART;TZID=Europe/Berlin:20221126T100000
DTEND;TZID=Europe/Berlin:20221126T120000
LOCATION:Městská sportovní hala\, Hanusíkova 1476 Kojetín - Kojetín I-Město
SUMMARY:ZLK-M: SK Kojetín \,\,C'-TJ Bojkovice 'B'
END:VEVENT
BEGIN:VEVENT
UID:30306637-6437-4939-b732-326530383366
DTSTAMP:20260426T034124Z
DESCRIPTION:8/23 SK Kojetín \,\,C' - TJ Bojkovice 'B' 3:1 (-20\,13\,12\,22)
DTSTART;TZID=Europe/Berlin:20221126T130000
DTEND;TZID=Europe/Berlin:20221126T150000
LOCATION:Městská sportovní hala\, Hanusíkova 1476 Kojetín - Kojetín I-Město
SUMMARY:ZLK-M: SK Kojetín \,\,C'-TJ Bojkovice 'B'
END:VEVENT
BEGIN:VEVENT
UID:61333363-6363-4137-a637-666138316234
DTSTAMP:20260426T034124Z
DESCRIPTION:11/31 SK Kojetín \,\,C' - Holešov 0:3 (-18\,-19\,-20)
DTSTART;TZID=Europe/Berlin:20230115T100000
DTEND;TZID=Europe/Berlin:20230115T120000
LOCATION:Městská sportovní hala\, Hanusíkova 1476 Kojetín - Kojetín I-Město
SUMMARY:ZLK-M: SK Kojetín \,\,C'-Holešov
END:VEVENT
BEGIN:VEVENT
UID:31646261-3931-4663-a338-323934383839
DTSTAMP:20260426T034124Z
DESCRIPTION:12/34 SK Kojetín \,\,C' - Holešov 2:3 (20\,34\,-24\,-18\,-14)
DTSTART;TZID=Europe/Berlin:20230115T130000
DTEND;TZID=Europe/Berlin:20230115T150000
LOCATION:Městská sportovní hala\, Hanusíkova 1476 Kojetín - Kojetín I-Město
SUMMARY:ZLK-M: SK Kojetín \,\,C'-Holešov
END:VEVENT
BEGIN:VEVENT
UID:36313534-3738-4235-b263-643533366366
DTSTAMP:20260426T034124Z
DESCRIPTION:15/43 SK Kojetín \,\,C' - TJ Bojkovice 'A' 0:3 (-22\,-17\,-18)
DTSTART;TZID=Europe/Berlin:20230212T100000
DTEND;TZID=Europe/Berlin:20230212T120000
LOCATION:Městská sportovní hala\, Hanusíkova 1476 Kojetín - Kojetín I-Město
SUMMARY:ZLK-M: SK Kojetín \,\,C'-TJ Bojkovice 'A'
END:VEVENT
BEGIN:VEVENT
UID:65383935-6462-4335-b830-646262353132
DTSTAMP:20260426T034124Z
DESCRIPTION:16/46 SK Kojetín \,\,C' - TJ Bojkovice 'A' 1:3 (-21\,21\,-16\,-
 18)
DTSTART;TZID=Europe/Berlin:20230212T130000
DTEND;TZID=Europe/Berlin:20230212T150000
LOCATION:Městská sportovní hala\, Hanusíkova 1476 Kojetín - Kojetín I-Město
SUMMARY:ZLK-M: SK Kojetín \,\,C'-TJ Bojkovice 'A'
END:VEVENT
BEGIN:VEVENT
UID:34633335-3464-4233-a566-343030366538
DTSTAMP:20260426T034124Z
DESCRIPTION:19/55 SK Kojetín \,\,C' - VK MEZ Vsetín 2:3 (-15\,17\,20\,-23\,
 -11)
DTSTART;TZID=Europe/Berlin:20230312T090000
DTEND;TZID=Europe/Berlin:20230312T110000
LOCATION:Městská sportovní hala\, Hanusíkova 1476 Kojetín - Kojetín I-Město
SUMMARY:ZLK-M: SK Kojetín \,\,C'-VK MEZ Vsetín
END:VEVENT
BEGIN:VEVENT
UID:37393838-3536-4137-b532-383238333664
DTSTAMP:20260426T034124Z
DESCRIPTION:20/58 SK Kojetín \,\,C' - VK MEZ Vsetín 1:3 (21\,-23\,-18\,-15)
DTSTART;TZID=Europe/Berlin:20230312T130000
DTEND;TZID=Europe/Berlin:20230312T150000
LOCATION:Městská sportovní hala\, Hanusíkova 1476 Kojetín - Kojetín I-Město
SUMMARY:ZLK-M: SK Kojetín \,\,C'-VK MEZ Vsetín
END:VEVENT
BEGIN:VEVENT
UID:36646333-3264-4465-b737-393464343837
DTSTAMP:20260426T034124Z
DESCRIPTION:1/1 Holešov - SK Kojetín \,\,C' 3:0 (11\,11\,9)
DTSTART;TZID=Europe/Berlin:20221015T150000
DTEND;TZID=Europe/Berlin:20221015T170000
LOCATION:SPŠ MV\, Zlínská 991 Holešov
SUMMARY:ZLK-M: Holešov-SK Kojetín \,\,C'
END:VEVENT
BEGIN:VEVENT
UID:35636430-3337-4131-b038-333435333832
DTSTAMP:20260426T034124Z
DESCRIPTION:2/4 Holešov - SK Kojetín \,\,C' 3:0 (22\,20\,13)
DTSTART;TZID=Europe/Berlin:20221015T180000
DTEND;TZID=Europe/Berlin:20221015T200000
LOCATION:SPŠ MV\, Zlínská 991 Holešov
SUMMARY:ZLK-M: Holešov-SK Kojetín \,\,C'
END:VEVENT
BEGIN:VEVENT
UID:61376262-3733-4161-b137-393238633864
DTSTAMP:20260426T034124Z
DESCRIPTION:5/13 TJ Bojkovice 'A' - SK Kojetín \,\,C' 3:2 (19\,-21\,20\,-20
 \,7)
DTSTART;TZID=Europe/Berlin:20221105T160000
DTEND;TZID=Europe/Berlin:20221105T180000
LOCATION:ZŠ TGM Bojkovice\, Štefánikova 460 Bojkovice
SUMMARY:ZLK-M: TJ Bojkovice 'A'-SK Kojetín \,\,C'
END:VEVENT
BEGIN:VEVENT
UID:39353934-3733-4533-b266-613032333734
DTSTAMP:20260426T034124Z
DESCRIPTION:6/16 TJ Bojkovice 'A' - SK Kojetín \,\,C' 3:0 (18\,19\,19)
DTSTART;TZID=Europe/Berlin:20221105T190000
DTEND;TZID=Europe/Berlin:20221105T210000
LOCATION:ZŠ TGM Bojkovice\, Štefánikova 460 Bojkovice
SUMMARY:ZLK-M: TJ Bojkovice 'A'-SK Kojetín \,\,C'
END:VEVENT
BEGIN:VEVENT
UID:63633161-6661-4636-b030-656438666465
DTSTAMP:20260426T034124Z
DESCRIPTION:9/25 VK MEZ Vsetín - SK Kojetín \,\,C' 1:3 (20\,-18\,-17\,-19)
DTSTART;TZID=Europe/Berlin:20221203T100000
DTEND;TZID=Europe/Berlin:20221203T120000
LOCATION:Sportovní hala Na Lapači\, Na Lapači 247 Vsetín - Rokytnice
SUMMARY:ZLK-M: VK MEZ Vsetín-SK Kojetín \,\,C'
END:VEVENT
BEGIN:VEVENT
UID:35663137-6166-4132-b062-363833366239
DTSTAMP:20260426T034124Z
DESCRIPTION:10/28 VK MEZ Vsetín - SK Kojetín \,\,C' 3:2 (13\,-17\,-24\,23\,
 8)
DTSTART;TZID=Europe/Berlin:20221203T130000
DTEND;TZID=Europe/Berlin:20221203T150000
LOCATION:Sportovní hala Na Lapači\, Na Lapači 247 Vsetín - Rokytnice
SUMMARY:ZLK-M: VK MEZ Vsetín-SK Kojetín \,\,C'
END:VEVENT
BEGIN:VEVENT
UID:34666634-6231-4637-b334-653961346561
DTSTAMP:20260426T034124Z
DESCRIPTION:13/38 VSK Staré Město 'B' - SK Kojetín \,\,C' 3:1 (-21\,16\,17\
 ,14)
DTSTART;TZID=Europe/Berlin:20230121T100000
DTEND;TZID=Europe/Berlin:20230121T120000
LOCATION:Městská sportovní hala Širůch\, Nad Hřištěm 1921 Staré Město
SUMMARY:ZLK-M: VSK Staré Město 'B'-SK Kojetín \,\,C'
END:VEVENT
BEGIN:VEVENT
UID:61343537-3030-4436-b165-373535613733
DTSTAMP:20260426T034124Z
DESCRIPTION:14/41 VSK Staré Město 'B' - SK Kojetín \,\,C' 3:0 (13\,11\,17)
DTSTART;TZID=Europe/Berlin:20230121T130000
DTEND;TZID=Europe/Berlin:20230121T150000
LOCATION:Městská sportovní hala Širůch\, Nad Hřištěm 1921 Staré Město
SUMMARY:ZLK-M: VSK Staré Město 'B'-SK Kojetín \,\,C'
END:VEVENT
BEGIN:VEVENT
UID:65376335-3630-4331-a132-303235373966
DTSTAMP:20260426T034124Z
DESCRIPTION:17/50 TJ Bojkovice 'B' - SK Kojetín \,\,C' 2:3 (24\,-15\,24\,-1
 0\,-9)
DTSTART;TZID=Europe/Berlin:20230225T160000
DTEND;TZID=Europe/Berlin:20230225T180000
LOCATION:ZŠ TGM Bojkovice\, Štefánikova 460 Bojkovice
SUMMARY:ZLK-M: TJ Bojkovice 'B'-SK Kojetín \,\,C'
END:VEVENT
BEGIN:VEVENT
UID:63643830-3535-4933-a563-623961636433
DTSTAMP:20260426T034124Z
DESCRIPTION:18/53 TJ Bojkovice 'B' - SK Kojetín \,\,C' 1:3 (20\,-12\,-12\,-
 9)
DTSTART;TZID=Europe/Berlin:20230225T190000
DTEND;TZID=Europe/Berlin:20230225T210000
LOCATION:ZŠ TGM Bojkovice\, Štefánikova 460 Bojkovice
SUMMARY:ZLK-M: TJ Bojkovice 'B'-SK Kojetín \,\,C'
END:VEVENT
END:VCALENDAR
