BEGIN:VCALENDAR
VERSION:2.0
PRODID:-//TJ Plzeň Košutka80158//NONSGML kigkonsult.se iCalcreator 2.41.80//
CALSCALE:GREGORIAN
UID:33373337-6137-4366-a363-343564633865
BEGIN:VEVENT
UID:64616536-6630-4231-a634-383234383436
DTSTAMP:20260421T175233Z
DESCRIPTION:1/1 Košutka - Stod 0:3 (-12\,-20\,-22)
DTSTART;TZID=Europe/Berlin:20220903T100000
DTEND;TZID=Europe/Berlin:20220903T120000
LOCATION:Sportovní areál TJ Košutka Plzeň V Lomech 9a\, 32300 Plzeň
SUMMARY:P-Z-2: Košutka-Stod
END:VEVENT
BEGIN:VEVENT
UID:38336533-6339-4264-a132-326536353935
DTSTAMP:20260421T175233Z
DESCRIPTION:2/5 Košutka - Stod 0:3 (-16\,-16\,-12)
DTSTART;TZID=Europe/Berlin:20220903T140000
DTEND;TZID=Europe/Berlin:20220903T160000
LOCATION:Sportovní areál TJ Košutka Plzeň V Lomech 9a\, 32300 Plzeň
SUMMARY:P-Z-2: Košutka-Stod
END:VEVENT
BEGIN:VEVENT
UID:61323365-6333-4432-a334-393439313935
DTSTAMP:20260421T175233Z
DESCRIPTION:3/12 Košutka - Vejprnice 1:3 (-8\,21\,-9\,-22)
DTSTART;TZID=Europe/Berlin:20220905T173000
DTEND;TZID=Europe/Berlin:20220905T193000
LOCATION:Sportovní areál TJ Košutka Plzeň V Lomech 9a\, 32300 Plzeň
SUMMARY:P-Z-2: Košutka-Vejprnice
END:VEVENT
BEGIN:VEVENT
UID:34623766-3937-4337-b166-303961373233
DTSTAMP:20260421T175233Z
DESCRIPTION:4/16 Košutka - Vejprnice 3:0 (20\,20\,21)
DTSTART;TZID=Europe/Berlin:20220912T173000
DTEND;TZID=Europe/Berlin:20220912T193000
LOCATION:Sportovní areál TJ Košutka Plzeň V Lomech 9a\, 32300 Plzeň
SUMMARY:P-Z-2: Košutka-Vejprnice
END:VEVENT
BEGIN:VEVENT
UID:32323665-3362-4437-b066-646336366434
DTSTAMP:20260421T175233Z
DESCRIPTION:11/42 Košutka - Město Touškov 3:0 (17\,19\,21)\nTělocvična\, Šk
 olní nám. 247\, Město Touškov
DTSTART;TZID=Europe/Berlin:20221019T191500
DTEND;TZID=Europe/Berlin:20221019T211500
LOCATION:Sportovní areál TJ Košutka Plzeň V Lomech 9a\, 32300 Plzeň
SUMMARY:P-Z-2: Košutka-Město Touškov
END:VEVENT
BEGIN:VEVENT
UID:38613161-6538-4238-b235-343330333064
DTSTAMP:20260421T175233Z
DESCRIPTION:12/46 Košutka - Město Touškov 3:2 (-19\,23\,-22\,21\,10)\nTěloc
 vična\, Školní nám. 247\, Město Touškov
DTSTART;TZID=Europe/Berlin:20230315T191500
DTEND;TZID=Europe/Berlin:20230315T211500
LOCATION:Sportovní areál TJ Košutka Plzeň V Lomech 9a\, 32300 Plzeň
SUMMARY:P-Z-2: Košutka-Město Touškov
END:VEVENT
BEGIN:VEVENT
UID:31343663-3163-4365-b037-626632643439
DTSTAMP:20260421T175233Z
DESCRIPTION:19/74 Košutka - Letná B 0:3 (-8\,-21\,-11)
DTSTART;TZID=Europe/Berlin:20230523T193000
DTEND;TZID=Europe/Berlin:20230523T213000
LOCATION:Sportovní areál TJ Košutka Plzeň V Lomech 9a\, 32300 Plzeň
SUMMARY:P-Z-2: Košutka-Letná B
END:VEVENT
BEGIN:VEVENT
UID:63626464-6438-4239-b436-656666383963
DTSTAMP:20260421T175233Z
DESCRIPTION:20/78 Košutka - Letná B 0:3 (-13\,-12\,-22)
DTSTART;TZID=Europe/Berlin:20230523T173000
DTEND;TZID=Europe/Berlin:20230523T193000
LOCATION:Sportovní areál TJ Košutka Plzeň V Lomech 9a\, 32300 Plzeň
SUMMARY:P-Z-2: Košutka-Letná B
END:VEVENT
BEGIN:VEVENT
UID:65396335-6661-4863-a131-613462356364
DTSTAMP:20260421T175233Z
DESCRIPTION:21/83 Košutka - Rokycany B 3:1 (17\,9\,-19\,14)
DTSTART;TZID=Europe/Berlin:20230527T100000
DTEND;TZID=Europe/Berlin:20230527T120000
LOCATION:Sportovní areál TJ Košutka Plzeň V Lomech 9a\, 32300 Plzeň
SUMMARY:P-Z-2: Košutka-Rokycany B
END:VEVENT
BEGIN:VEVENT
UID:64363231-3431-4538-b130-316264316133
DTSTAMP:20260421T175233Z
DESCRIPTION:22/87 Košutka - Rokycany B 3:2 (-22\,7\,-17\,15\,7)
DTSTART;TZID=Europe/Berlin:20230527T140000
DTEND;TZID=Europe/Berlin:20230527T160000
LOCATION:Sportovní areál TJ Košutka Plzeň V Lomech 9a\, 32300 Plzeň
SUMMARY:P-Z-2: Košutka-Rokycany B
END:VEVENT
BEGIN:VEVENT
UID:36316430-3061-4932-b330-303966323933
DTSTAMP:20260421T175233Z
DESCRIPTION:23/91 Košutka - Vodní stavby 3:2 (19\,-18\,22\,-22\,8)
DTSTART;TZID=Europe/Berlin:20230530T173000
DTEND;TZID=Europe/Berlin:20230530T193000
LOCATION:Sportovní areál TJ Košutka Plzeň V Lomech 9a\, 32300 Plzeň
SUMMARY:P-Z-2: Košutka-Vodní stavby
END:VEVENT
BEGIN:VEVENT
UID:39383561-6564-4132-b337-643237323464
DTSTAMP:20260421T175233Z
DESCRIPTION:24/95 Košutka - Vodní stavby 3:X\nutkání zrušeno\, nehraje se !
 !!
DTSTART;TZID=Europe/Berlin:20230608T173000
DTEND;TZID=Europe/Berlin:20230608T193000
LOCATION:Sportovní areál TJ Košutka Plzeň V Lomech 9a\, 32300 Plzeň
SUMMARY:P-Z-2: Košutka-Vodní stavby
END:VEVENT
BEGIN:VEVENT
UID:32663732-3334-4630-b965-383630383735
DTSTAMP:20260421T175233Z
DESCRIPTION:27/108 Košutka - Bezděkov 2:3 (20\,-20\,22\,-22\,-12)
DTSTART;TZID=Europe/Berlin:20230617T100000
DTEND;TZID=Europe/Berlin:20230617T120000
LOCATION:Sportovní areál TJ Košutka Plzeň V Lomech 9a\, 32300 Plzeň
SUMMARY:P-Z-2: Košutka-Bezděkov
END:VEVENT
BEGIN:VEVENT
UID:65666236-6532-4364-a334-363361623232
DTSTAMP:20260421T175233Z
DESCRIPTION:28/112 Košutka - Bezděkov 0:3 (-21\,-27\,-15)
DTSTART;TZID=Europe/Berlin:20230617T140000
DTEND;TZID=Europe/Berlin:20230617T160000
LOCATION:Sportovní areál TJ Košutka Plzeň V Lomech 9a\, 32300 Plzeň
SUMMARY:P-Z-2: Košutka-Bezděkov
END:VEVENT
BEGIN:VEVENT
UID:37623466-3834-4638-b339-343733326566
DTSTAMP:20260421T175233Z
DESCRIPTION:5/18 Letná B - Košutka 3:0 (17\,17\,18)
DTSTART;TZID=Europe/Berlin:20220908T173000
DTEND;TZID=Europe/Berlin:20220908T193000
LOCATION:Republikánská ul. 22\, 31200 Plzeň
SUMMARY:P-Z-2: Letná B-Košutka
END:VEVENT
BEGIN:VEVENT
UID:37613762-3539-4538-b565-383930333238
DTSTAMP:20260421T175233Z
DESCRIPTION:6/22 Letná B - Košutka 3:1 (22\,22\,-21\,15)
DTSTART;TZID=Europe/Berlin:20220915T173000
DTEND;TZID=Europe/Berlin:20220915T193000
LOCATION:Republikánská ul. 22\, 31200 Plzeň
SUMMARY:P-Z-2: Letná B-Košutka
END:VEVENT
BEGIN:VEVENT
UID:37376466-3263-4265-b466-363764323433
DTSTAMP:20260421T175233Z
DESCRIPTION:7/27 Rokycany B - Košutka 3:0 (17\,18\,12)\nSH gymnázia Rokycan
 y
DTSTART;TZID=Europe/Berlin:20220920T173000
DTEND;TZID=Europe/Berlin:20220920T193000
LOCATION:Venkovní areál Ostrůvek Rokycany\, Josefa Tomáška\, 33701 Rokycany
SUMMARY:P-Z-2: Rokycany B-Košutka
END:VEVENT
BEGIN:VEVENT
UID:66383430-3039-4363-b835-633931306162
DTSTAMP:20260421T175233Z
DESCRIPTION:8/31 Rokycany B - Košutka 3:0 (14\,9\,20)\nSH gymnázia Rokycany
DTSTART;TZID=Europe/Berlin:20220922T173000
DTEND;TZID=Europe/Berlin:20220922T193000
LOCATION:Venkovní areál Ostrůvek Rokycany\, Josefa Tomáška\, 33701 Rokycany
SUMMARY:P-Z-2: Rokycany B-Košutka
END:VEVENT
BEGIN:VEVENT
UID:32313535-6163-4533-b739-363337643761
DTSTAMP:20260421T175233Z
DESCRIPTION:9/35 Vodní stavby - Košutka 3:1 (-15\,12\,17\,17)\nTělocvična 1
 4.ZŠ\, Zábělská 25\, Plzeň-Doubravka
DTSTART;TZID=Europe/Berlin:20221015T100000
DTEND;TZID=Europe/Berlin:20221015T120000
LOCATION:TJ vodní stavby Kreuzmannova 1103\, 318 00 Plzeň 3
SUMMARY:P-Z-2: Vodní stavby-Košutka
END:VEVENT
BEGIN:VEVENT
UID:33663864-3166-4336-a336-303162333965
DTSTAMP:20260421T175233Z
DESCRIPTION:10/39 Vodní stavby - Košutka 3:2 (17\,19\,-20\,-27\,12)\nTělocv
 ična 14.ZŠ\, Zábělská 25\, Plzeň-Doubravka
DTSTART;TZID=Europe/Berlin:20221015T140000
DTEND;TZID=Europe/Berlin:20221015T160000
LOCATION:TJ vodní stavby Kreuzmannova 1103\, 318 00 Plzeň 3
SUMMARY:P-Z-2: Vodní stavby-Košutka
END:VEVENT
BEGIN:VEVENT
UID:65376432-3630-4130-a130-326631643339
DTSTAMP:20260421T175233Z
DESCRIPTION:13/52 Bezděkov - Košutka 1:3 (-20\,21\,-22\,-18)
DTSTART;TZID=Europe/Berlin:20230429T100000
DTEND;TZID=Europe/Berlin:20230429T120000
LOCATION:Sokol Aréna Bezděkov Bezděkov u Klatov\, 33901 KLATOVY
SUMMARY:P-Z-2: Bezděkov-Košutka
END:VEVENT
BEGIN:VEVENT
UID:37366562-6362-4863-b332-643263373237
DTSTAMP:20260421T175233Z
DESCRIPTION:14/56 Bezděkov - Košutka 2:3 (19\,-22\,26\,-24\,-7)
DTSTART;TZID=Europe/Berlin:20230429T140000
DTEND;TZID=Europe/Berlin:20230429T160000
LOCATION:Sokol Aréna Bezděkov Bezděkov u Klatov\, 33901 KLATOVY
SUMMARY:P-Z-2: Bezděkov-Košutka
END:VEVENT
BEGIN:VEVENT
UID:30303831-3337-4261-a663-646232396666
DTSTAMP:20260421T175233Z
DESCRIPTION:15/57 Stod - Košutka 3:1 (-20\,19\,11\,13)\nutkání se hraje v h
 ale
DTSTART;TZID=Europe/Berlin:20230510T173000
DTEND;TZID=Europe/Berlin:20230510T193000
LOCATION:TJ Slavoj Stod Hradecká  538 Stod 33301
SUMMARY:P-Z-2: Stod-Košutka
END:VEVENT
BEGIN:VEVENT
UID:33356536-3438-4864-b064-363233396661
DTSTAMP:20260421T175233Z
DESCRIPTION:16/61 Stod - Košutka 3:1 (-16\,6\,21\,17)\nutkání se hraje v ha
 le
DTSTART;TZID=Europe/Berlin:20230510T193000
DTEND;TZID=Europe/Berlin:20230510T213000
LOCATION:TJ Slavoj Stod Hradecká  538 Stod 33301
SUMMARY:P-Z-2: Stod-Košutka
END:VEVENT
BEGIN:VEVENT
UID:65363032-3566-4237-b338-653161316437
DTSTAMP:20260421T175233Z
DESCRIPTION:17/68 Vejprnice - Košutka 3:0 (14\,14\,20)\nHřiště TJ Košutka P
 lzeň\, V Lomech 9a\, Plzeň
DTSTART;TZID=Europe/Berlin:20230513T100000
DTEND;TZID=Europe/Berlin:20230513T120000
LOCATION:Hala ZŠ Vejprnice Jakuba Husníka 544 Vejprnice 33027
SUMMARY:P-Z-2: Vejprnice-Košutka
END:VEVENT
BEGIN:VEVENT
UID:38666161-3631-4430-b462-323237386530
DTSTAMP:20260421T175233Z
DESCRIPTION:18/72 Vejprnice - Košutka 2:3 (25\,-22\,-22\,9\,-13)\nHřiště TJ
  Košutka Plzeň\, V Lomech 9a\, Plzeň
DTSTART;TZID=Europe/Berlin:20230513T140000
DTEND;TZID=Europe/Berlin:20230513T160000
LOCATION:Hala ZŠ Vejprnice Jakuba Husníka 544 Vejprnice 33027
SUMMARY:P-Z-2: Vejprnice-Košutka
END:VEVENT
BEGIN:VEVENT
UID:62373164-3930-4433-a336-656236666563
DTSTAMP:20260421T175233Z
DESCRIPTION:25/98 Město Touškov - Košutka 0:3 (-11\,-16\,-16)
DTSTART;TZID=Europe/Berlin:20230610T100000
DTEND;TZID=Europe/Berlin:20230610T120000
LOCATION:Sportovní hala Město Touškov Školní náměstí 296\, 330 33 Město Tou
 škov
SUMMARY:P-Z-2: Město Touškov-Košutka
END:VEVENT
BEGIN:VEVENT
UID:35366330-3339-4539-a261-666132353062
DTSTAMP:20260421T175233Z
DESCRIPTION:26/102 Město Touškov - Košutka 0:3 (-22\,-15\,-14)
DTSTART;TZID=Europe/Berlin:20230610T140000
DTEND;TZID=Europe/Berlin:20230610T160000
LOCATION:Sportovní hala Město Touškov Školní náměstí 296\, 330 33 Město Tou
 škov
SUMMARY:P-Z-2: Město Touškov-Košutka
END:VEVENT
END:VCALENDAR
