BEGIN:VCALENDAR
VERSION:2.0
PRODID:-//SK Prosek80169//NONSGML kigkonsult.se iCalcreator 2.41.80//
CALSCALE:GREGORIAN
UID:37316339-6536-4438-b463-656535613534
BEGIN:VEVENT
UID:32643333-3431-4638-b935-343937303234
DTSTAMP:20260421T090640Z
DESCRIPTION:1/1 SK Prosek - Volejbalový klub Choceň\, z.s. 2:0 (9\,13)
DTSTART;TZID=Europe/Berlin:20221015T113000
DTEND;TZID=Europe/Berlin:20221015T133000
LOCATION:SH SK Prosek\, Lovosická 559 Praha - Letňany
SUMMARY:CP-U16M-Z1D: SK Prosek-Volejbalový klub Choceň\, z.s.
END:VEVENT
BEGIN:VEVENT
UID:31613839-6331-4564-b538-333632363235
DTSTAMP:20260421T090640Z
DESCRIPTION:4/4 SK Prosek - Plzeň 2:0 (15\,8)
DTSTART;TZID=Europe/Berlin:20221015T143000
DTEND;TZID=Europe/Berlin:20221015T163000
LOCATION:SH SK Prosek\, Lovosická 559 Praha - Letňany
SUMMARY:CP-U16M-Z1D: SK Prosek-Plzeň
END:VEVENT
BEGIN:VEVENT
UID:35313135-6332-4138-b436-636534613832
DTSTAMP:20260421T090640Z
DESCRIPTION:6/6 Orion Praha - SK Prosek 0:2 (-13\,-12)
DTSTART;TZID=Europe/Berlin:20221015T163000
DTEND;TZID=Europe/Berlin:20221015T183000
LOCATION:ZŠ prof. Švejcara\, Mráčkova\, Mráčkova 3090 Praha - Modřany
SUMMARY:CP-U16M-Z1D: Orion Praha-SK Prosek
END:VEVENT
BEGIN:VEVENT
UID:38306339-3032-4537-b636-396237646161
DTSTAMP:20260421T090640Z
DESCRIPTION:2/2 SK Prosek - VK SPORT Rychnov nad Kněžnou\, z.s. 2:0 (21\,21
 )
DTSTART;TZID=Europe/Berlin:20221016T100000
DTEND;TZID=Europe/Berlin:20221016T120000
LOCATION:SH SK Prosek\, Lovosická 559 Praha - Letňany
SUMMARY:CP-U16M-Z1H: SK Prosek-VK SPORT Rychnov nad Kněžnou\, z.s.
END:VEVENT
BEGIN:VEVENT
UID:30323161-3031-4164-a533-383137646462
DTSTAMP:20260421T090640Z
DESCRIPTION:3/3 Kladno volejbal cz - SK Prosek 2:0 (22\,26)
DTSTART;TZID=Europe/Berlin:20221016T110000
DTEND;TZID=Europe/Berlin:20221016T130000
LOCATION:Kladenská sportovní hala\, Sportovců 817 Kladno - Rozdělov
SUMMARY:CP-U16M-Z1H: Kladno volejbal cz-SK Prosek
END:VEVENT
BEGIN:VEVENT
UID:66663861-3836-4362-b165-373438666431
DTSTAMP:20260421T090640Z
DESCRIPTION:1/2 VK Euro Sitex Příbram - SK Prosek 0:2 (-26\,-18)\no 3. míst
 o
DTSTART;TZID=Europe/Berlin:20221016T130000
DTEND;TZID=Europe/Berlin:20221016T150000
LOCATION:Tělocvična ZŠ Balbínova\, Balbínova 328 Příbram - Příbram II
SUMMARY:CP-U16M-Z1UMIS: VK Euro Sitex Příbram-SK Prosek
END:VEVENT
BEGIN:VEVENT
UID:39373531-3539-4333-b033-623866333137
DTSTAMP:20260421T090640Z
DESCRIPTION:1/2 SK Prosek - VK Euro Sitex Příbram 2:0 (9\,23)
DTSTART;TZID=Europe/Berlin:20221119T090000
DTEND;TZID=Europe/Berlin:20221119T110000
LOCATION:SH SK Prosek\, Lovosická 559 Praha - Letňany
SUMMARY:CP-U16M-Z2A: SK Prosek-VK Euro Sitex Příbram
END:VEVENT
BEGIN:VEVENT
UID:30613333-6166-4534-b366-656536616231
DTSTAMP:20260421T090640Z
DESCRIPTION:8/15 SK Prosek - SKV Ústí n. L. 2:0 (18\,9)
DTSTART;TZID=Europe/Berlin:20221119T174500
DTEND;TZID=Europe/Berlin:20221119T194500
LOCATION:SH SK Prosek\, Lovosická 559 Praha - Letňany
SUMMARY:CP-U16M-Z2A: SK Prosek-SKV Ústí n. L.
END:VEVENT
BEGIN:VEVENT
UID:35363031-3933-4530-b935-383032313736
DTSTAMP:20260421T090640Z
DESCRIPTION:12/24 SK Prosek - VK SPORT Rychnov nad Kněžnou\, z.s. 2:0 (13\,
 13)
DTSTART;TZID=Europe/Berlin:20221120T124500
DTEND;TZID=Europe/Berlin:20221120T144500
LOCATION:SH SK Prosek\, Lovosická 559 Praha - Letňany
SUMMARY:CP-U16M-Z2A: SK Prosek-VK SPORT Rychnov nad Kněžnou\, z.s.
END:VEVENT
BEGIN:VEVENT
UID:37626635-3762-4332-b031-393065373735
DTSTAMP:20260421T090640Z
DESCRIPTION:3/5 VK České Budějovice A - SK Prosek 2:0 (19\,16)
DTSTART;TZID=Europe/Berlin:20221119T113000
DTEND;TZID=Europe/Berlin:20221119T133000
LOCATION:ZŠ Oskara Nedbala České Budějovice\, O. Nedbala 882 České Budějovi
 ce - České Budějovice 2
SUMMARY:CP-U16M-Z2A: VK České Budějovice A-SK Prosek
END:VEVENT
BEGIN:VEVENT
UID:32303961-6438-4564-b336-363330366331
DTSTAMP:20260421T090640Z
DESCRIPTION:5/10 Sokol Mnichovo Hradiště - SK Prosek 0:2 (-17\,-16)
DTSTART;TZID=Europe/Berlin:20221119T140000
DTEND;TZID=Europe/Berlin:20221119T160000
LOCATION:Sportovní hala BIOS\, Sokolovská 254 Mnichovo Hradiště
SUMMARY:CP-U16M-Z2A: Sokol Mnichovo Hradiště-SK Prosek
END:VEVENT
BEGIN:VEVENT
UID:66326132-3061-4534-b661-393135656338
DTSTAMP:20260421T090640Z
DESCRIPTION:10/20 AERO Odolena Voda - SK Prosek 0:2 (-21\,-14)
DTSTART;TZID=Europe/Berlin:20221120T101500
DTEND;TZID=Europe/Berlin:20221120T121500
LOCATION:Sportovní hala\, Ke Stadionu 375 Odolena Voda
SUMMARY:CP-U16M-Z2A: AERO Odolena Voda-SK Prosek
END:VEVENT
BEGIN:VEVENT
UID:37386339-3063-4464-a366-613637336339
DTSTAMP:20260421T090640Z
DESCRIPTION:13/25 Kladno volejbal cz - SK Prosek 2:1 (16\,-21\,10)
DTSTART;TZID=Europe/Berlin:20221120T140000
DTEND;TZID=Europe/Berlin:20221120T160000
LOCATION:Kladenská sportovní hala\, Sportovců 817 Kladno - Rozdělov
SUMMARY:CP-U16M-Z2A: Kladno volejbal cz-SK Prosek
END:VEVENT
BEGIN:VEVENT
UID:66313565-6436-4838-b935-313462356433
DTSTAMP:20260421T090640Z
DESCRIPTION:8/16 SK Prosek - SKV Ústí n. L. 2:0 (15\,15)
DTSTART;TZID=Europe/Berlin:20221203T160000
DTEND;TZID=Europe/Berlin:20221203T180000
LOCATION:SH SK Prosek\, Lovosická 559 Praha - Letňany
SUMMARY:CP-U16M-Z3A: SK Prosek-SKV Ústí n. L.
END:VEVENT
BEGIN:VEVENT
UID:64616337-6366-4363-a461-336438333865
DTSTAMP:20260421T090640Z
DESCRIPTION:10/20 SK Prosek - Tělovýchovná jednota Jiskra Havlíčkův Brod z.
 s. 2:1 (15\,-23\,11)
DTSTART;TZID=Europe/Berlin:20221204T100000
DTEND;TZID=Europe/Berlin:20221204T120000
LOCATION:SH SK Prosek\, Lovosická 559 Praha - Letňany
SUMMARY:CP-U16M-Z3A: SK Prosek-Tělovýchovná jednota Jiskra Havlíčkův Brod z
 .s.
END:VEVENT
BEGIN:VEVENT
UID:31653234-3632-4338-b332-626362353631
DTSTAMP:20260421T090640Z
DESCRIPTION:12/24 SK Prosek - Sokol Mnichovo Hradiště 2:0 (15\,18)
DTSTART;TZID=Europe/Berlin:20221204T120000
DTEND;TZID=Europe/Berlin:20221204T140000
LOCATION:SH SK Prosek\, Lovosická 559 Praha - Letňany
SUMMARY:CP-U16M-Z3A: SK Prosek-Sokol Mnichovo Hradiště
END:VEVENT
BEGIN:VEVENT
UID:37326366-3136-4934-a463-613139666465
DTSTAMP:20260421T090640Z
DESCRIPTION:14/28 SK Prosek - VK České Budějovice A 1:2 (-24\,23\,-7)
DTSTART;TZID=Europe/Berlin:20221204T140000
DTEND;TZID=Europe/Berlin:20221204T160000
LOCATION:SH SK Prosek\, Lovosická 559 Praha - Letňany
SUMMARY:CP-U16M-Z3A: SK Prosek-VK České Budějovice A
END:VEVENT
BEGIN:VEVENT
UID:36383830-6631-4336-b964-383933326633
DTSTAMP:20260421T090640Z
DESCRIPTION:1/2 VK Euro Sitex Příbram - SK Prosek 0:2 (-24\,-17)
DTSTART;TZID=Europe/Berlin:20221203T090000
DTEND;TZID=Europe/Berlin:20221203T110000
LOCATION:Tělocvična ZŠ Balbínova\, Balbínova 328 Příbram - Příbram II
SUMMARY:CP-U16M-Z3A: VK Euro Sitex Příbram-SK Prosek
END:VEVENT
BEGIN:VEVENT
UID:32373936-3234-4637-a562-333565366163
DTSTAMP:20260421T090640Z
DESCRIPTION:3/6 VK Jirkov - SK Prosek 0:2 (-11\,-13)
DTSTART;TZID=Europe/Berlin:20221203T110000
DTEND;TZID=Europe/Berlin:20221203T130000
LOCATION:Sportovní hala MG a ZŠ Jirkov\, Krušnohorská 1675 Jirkov
SUMMARY:CP-U16M-Z3A: VK Jirkov-SK Prosek
END:VEVENT
BEGIN:VEVENT
UID:34363830-3164-4765-b934-343738323831
DTSTAMP:20260421T090640Z
DESCRIPTION:5/9 Kladno volejbal cz - SK Prosek 2:0 (22\,20)
DTSTART;TZID=Europe/Berlin:20221203T130000
DTEND;TZID=Europe/Berlin:20221203T150000
LOCATION:Kladenská sportovní hala\, Sportovců 817 Kladno - Rozdělov
SUMMARY:CP-U16M-Z3A: Kladno volejbal cz-SK Prosek
END:VEVENT
BEGIN:VEVENT
UID:30396465-3735-4931-a536-666439633439
DTSTAMP:20260421T090640Z
DESCRIPTION:3/6 SK Prosek - VK České Budějovice A 2:1 (-22\,18\,8)
DTSTART;TZID=Europe/Berlin:20230121T113000
DTEND;TZID=Europe/Berlin:20230121T133000
LOCATION:SH SK Prosek\, Lovosická 559 Praha - Letňany
SUMMARY:CP-U16M-4A: SK Prosek-VK České Budějovice A
END:VEVENT
BEGIN:VEVENT
UID:31366336-6137-4531-a631-316639636134
DTSTAMP:20260421T090640Z
DESCRIPTION:7/13 SK Prosek - Sokol Mnichovo Hradiště 2:0 (21\,20)
DTSTART;TZID=Europe/Berlin:20230121T153000
DTEND;TZID=Europe/Berlin:20230121T173000
LOCATION:SH SK Prosek\, Lovosická 559 Praha - Letňany
SUMMARY:CP-U16M-4A: SK Prosek-Sokol Mnichovo Hradiště
END:VEVENT
BEGIN:VEVENT
UID:33386364-3235-4639-b765-333630396564
DTSTAMP:20260421T090640Z
DESCRIPTION:13/24 SK Prosek - VSC Zlín 0:2 (-27\,-22)
DTSTART;TZID=Europe/Berlin:20230122T113000
DTEND;TZID=Europe/Berlin:20230122T133000
LOCATION:SH SK Prosek\, Lovosická 559 Praha - Letňany
SUMMARY:CP-U16M-4A: SK Prosek-VSC Zlín
END:VEVENT
BEGIN:VEVENT
UID:31643134-3135-4132-a465-653563366362
DTSTAMP:20260421T090640Z
DESCRIPTION:15/28 SK Prosek - TJ SOKOL LETOVICE\, z.s. 2:1 (-18\,19\,9)
DTSTART;TZID=Europe/Berlin:20230122T133000
DTEND;TZID=Europe/Berlin:20230122T153000
LOCATION:SH SK Prosek\, Lovosická 559 Praha - Letňany
SUMMARY:CP-U16M-4A: SK Prosek-TJ SOKOL LETOVICE\, z.s.
END:VEVENT
BEGIN:VEVENT
UID:34333036-6635-4235-b334-303335343462
DTSTAMP:20260421T090640Z
DESCRIPTION:2/4 VK Euro Sitex Příbram - SK Prosek 0:2 (-12\,-21)
DTSTART;TZID=Europe/Berlin:20230121T101500
DTEND;TZID=Europe/Berlin:20230121T121500
LOCATION:Tělocvična ZŠ Balbínova\, Balbínova 328 Příbram - Příbram II
SUMMARY:CP-U16M-4A: VK Euro Sitex Příbram-SK Prosek
END:VEVENT
BEGIN:VEVENT
UID:36653365-6230-4336-b735-316662656435
DTSTAMP:20260421T090640Z
DESCRIPTION:5/10 Kladno volejbal cz - SK Prosek 2:0 (15\,21)
DTSTART;TZID=Europe/Berlin:20230121T133000
DTEND;TZID=Europe/Berlin:20230121T153000
LOCATION:Kladenská sportovní hala\, Sportovců 817 Kladno - Rozdělov
SUMMARY:CP-U16M-4A: Kladno volejbal cz-SK Prosek
END:VEVENT
BEGIN:VEVENT
UID:34396634-6433-4766-b739-333231393364
DTSTAMP:20260421T090640Z
DESCRIPTION:11/20 Green Volley Frýdek-Místek\, z.s. - SK Prosek 1:2 (17\,-2
 2\,-8)
DTSTART;TZID=Europe/Berlin:20230122T093000
DTEND;TZID=Europe/Berlin:20230122T113000
LOCATION:Hala SPŠ\, 28. října 1639 Frýdek-Místek - Místek
SUMMARY:CP-U16M-4A: Green Volley Frýdek-Místek\, z.s.-SK Prosek
END:VEVENT
BEGIN:VEVENT
UID:39663165-6462-4433-b363-623931636230
DTSTAMP:20260421T090640Z
DESCRIPTION:1/2 SK Prosek - Kladno volejbal cz 0:2 (-20\,-23)
DTSTART;TZID=Europe/Berlin:20230211T090000
DTEND;TZID=Europe/Berlin:20230211T110000
LOCATION:SH SK Prosek\, Lovosická 559 Praha - Letňany
SUMMARY:CP-U16M-5A: SK Prosek-Kladno volejbal cz
END:VEVENT
BEGIN:VEVENT
UID:64336464-3931-4062-a536-363137636364
DTSTAMP:20260421T090640Z
DESCRIPTION:5/9 SK Prosek - VSC Zlín 0:2 (-20\,-22)
DTSTART;TZID=Europe/Berlin:20230211T141500
DTEND;TZID=Europe/Berlin:20230211T161500
LOCATION:SH SK Prosek\, Lovosická 559 Praha - Letňany
SUMMARY:CP-U16M-5A: SK Prosek-VSC Zlín
END:VEVENT
BEGIN:VEVENT
UID:32306135-6564-4637-b537-366531323765
DTSTAMP:20260421T090640Z
DESCRIPTION:9/17 SK Prosek - VK SPORT Rychnov nad Kněžnou\, z.s. 2:0 (10\,1
 6)
DTSTART;TZID=Europe/Berlin:20230212T090000
DTEND;TZID=Europe/Berlin:20230212T110000
LOCATION:SH SK Prosek\, Lovosická 559 Praha - Letňany
SUMMARY:CP-U16M-5A: SK Prosek-VK SPORT Rychnov nad Kněžnou\, z.s.
END:VEVENT
BEGIN:VEVENT
UID:64666163-3761-4337-b765-383432376230
DTSTAMP:20260421T090640Z
DESCRIPTION:14/27 SK Prosek - TJ Svitavy 2:1 (19\,-22\,13)
DTSTART;TZID=Europe/Berlin:20230212T153000
DTEND;TZID=Europe/Berlin:20230212T173000
LOCATION:SH SK Prosek\, Lovosická 559 Praha - Letňany
SUMMARY:CP-U16M-5A: SK Prosek-TJ Svitavy
END:VEVENT
BEGIN:VEVENT
UID:35653331-3964-4634-b763-623666633632
DTSTAMP:20260421T090640Z
DESCRIPTION:3/5 VK České Budějovice A - SK Prosek 2:0 (20\,24)
DTSTART;TZID=Europe/Berlin:20230211T114500
DTEND;TZID=Europe/Berlin:20230211T134500
LOCATION:ZŠ Oskara Nedbala České Budějovice\, O. Nedbala 882 České Budějovi
 ce - České Budějovice 2
SUMMARY:CP-U16M-5A: VK České Budějovice A-SK Prosek
END:VEVENT
BEGIN:VEVENT
UID:37643731-6531-4433-a535-386466343661
DTSTAMP:20260421T090640Z
DESCRIPTION:7/14 TJ SOKOL LETOVICE\, z.s. - SK Prosek 2:1 (17\,-18\,13)
DTSTART;TZID=Europe/Berlin:20230211T164500
DTEND;TZID=Europe/Berlin:20230211T184500
LOCATION:Sportovní hala Letovice\, V zahradách 831 Letovice
SUMMARY:CP-U16M-5A: TJ SOKOL LETOVICE\, z.s.-SK Prosek
END:VEVENT
BEGIN:VEVENT
UID:64633839-3966-4163-a163-323830353562
DTSTAMP:20260421T090640Z
DESCRIPTION:12/24 Green Volley Frýdek-Místek\, z.s. - SK Prosek 0:2 (-21\,-
 22)
DTSTART;TZID=Europe/Berlin:20230212T130000
DTEND;TZID=Europe/Berlin:20230212T150000
LOCATION:Hala SPŠ\, 28. října 1639 Frýdek-Místek - Místek
SUMMARY:CP-U16M-5A: Green Volley Frýdek-Místek\, z.s.-SK Prosek
END:VEVENT
BEGIN:VEVENT
UID:39326130-6162-4231-a436-643634656431
DTSTAMP:20260421T090640Z
DESCRIPTION:6/6 SK Prosek - VK Jirkov 2:0 (21\,17)
DTSTART;TZID=Europe/Berlin:20230318T131500
DTEND;TZID=Europe/Berlin:20230318T151500
LOCATION:SH SK Prosek\, Lovosická 559 Praha - Letňany
SUMMARY:CP-U16M-6A: SK Prosek-VK Jirkov
END:VEVENT
BEGIN:VEVENT
UID:37633834-3336-4038-a661-653636363734
DTSTAMP:20260421T090640Z
DESCRIPTION:2/2 TJ SOKOL LETOVICE\, z.s. - SK Prosek 0:2 (-15\,-22)
DTSTART;TZID=Europe/Berlin:20230317T163500
DTEND;TZID=Europe/Berlin:20230317T183500
LOCATION:Sportovní hala Letovice\, V zahradách 831 Letovice
SUMMARY:CP-U16M-6A: TJ SOKOL LETOVICE\, z.s.-SK Prosek
END:VEVENT
BEGIN:VEVENT
UID:36393534-3764-4436-a231-326138653765
DTSTAMP:20260421T090640Z
DESCRIPTION:3/3 Kladno volejbal cz - SK Prosek 2:0 (17\,21)
DTSTART;TZID=Europe/Berlin:20230318T093000
DTEND;TZID=Europe/Berlin:20230318T113000
LOCATION:Kladenská sportovní hala\, Sportovců 817 Kladno - Rozdělov
SUMMARY:CP-U16M-6A: Kladno volejbal cz-SK Prosek
END:VEVENT
BEGIN:VEVENT
UID:64396136-3730-4533-b130-306566393136
DTSTAMP:20260421T090640Z
DESCRIPTION:1/3 SK Prosek - Sokol Mnichovo Hradiště 2:1 (-15\,18\,7)\nA2-B3
DTSTART;TZID=Europe/Berlin:20230318T160000
DTEND;TZID=Europe/Berlin:20230318T180000
LOCATION:SH SK Prosek\, Lovosická 559 Praha - Letňany
SUMMARY:CP-U16M-6P1: SK Prosek-Sokol Mnichovo Hradiště
END:VEVENT
BEGIN:VEVENT
UID:35393838-6334-4331-a466-363166663334
DTSTAMP:20260421T090640Z
DESCRIPTION:3/11 SK Prosek - VSC Zlín 0:2 (-21\,-9)\nFinále 3-4
DTSTART;TZID=Europe/Berlin:20230319T120000
DTEND;TZID=Europe/Berlin:20230319T140000
LOCATION:SH SK Prosek\, Lovosická 559 Praha - Letňany
SUMMARY:CP-U16M-6P1: SK Prosek-VSC Zlín
END:VEVENT
BEGIN:VEVENT
UID:37636466-6465-4634-b534-666562613663
DTSTAMP:20260421T090640Z
DESCRIPTION:2/5 Green Volley Frýdek-Místek\, z.s. - SK Prosek 2:1 (-13\,24\
 ,10)\nsemifinále 4 (1.os.)
DTSTART;TZID=Europe/Berlin:20230319T090000
DTEND;TZID=Europe/Berlin:20230319T110000
LOCATION:Hala SPŠ\, 28. října 1639 Frýdek-Místek - Místek
SUMMARY:CP-U16M-6P1: Green Volley Frýdek-Místek\, z.s.-SK Prosek
END:VEVENT
END:VCALENDAR
