BEGIN:VCALENDAR
VERSION:2.0
PRODID:-//Volejbal Přerov B80206//NONSGML kigkonsult.se iCalcreator 2.41.80//
CALSCALE:GREGORIAN
UID:30326636-3865-4132-a566-396538633939
BEGIN:VEVENT
UID:65323335-6565-4764-a265-633133316539
DTSTAMP:20260425T173123Z
DESCRIPTION:2/2 Přerov B - VK UP Olomouc B 1:2 (18\,-18\,-13)
DTSTART;TZID=Europe/Berlin:20221001T100000
DTEND;TZID=Europe/Berlin:20221001T120000
LOCATION:UP Olomouc\, U sportovní haly 38 Olomouc - Lazce
SUMMARY:OLK-U16Z-KD: Přerov B-VK UP Olomouc B
END:VEVENT
BEGIN:VEVENT
UID:61333266-3539-4663-a539-376130316164
DTSTAMP:20260425T173123Z
DESCRIPTION:5/5 Přerov B - SK Kojetín 2016\, z.s. 2:0 (20\,16)
DTSTART;TZID=Europe/Berlin:20221001T130000
DTEND;TZID=Europe/Berlin:20221001T150000
LOCATION:UP Olomouc\, U sportovní haly 38 Olomouc - Lazce
SUMMARY:OLK-U16Z-KD: Přerov B-SK Kojetín 2016\, z.s.
END:VEVENT
BEGIN:VEVENT
UID:35393863-3132-4364-a531-616635316364
DTSTAMP:20260425T173123Z
DESCRIPTION:4/4 TJ Lanškroun - Přerov B 2:0 (24\,19)
DTSTART;TZID=Europe/Berlin:20221001T120000
DTEND;TZID=Europe/Berlin:20221001T140000
LOCATION:UP Olomouc\, U sportovní haly 38 Olomouc - Lazce
SUMMARY:OLK-U16Z-KD: TJ Lanškroun-Přerov B
END:VEVENT
BEGIN:VEVENT
UID:63393630-3437-4435-b239-333166323534
DTSTAMP:20260425T173123Z
DESCRIPTION:1/28 Přerov B - KRS Uničov 0:2 (-21\,-2)
DTSTART;TZID=Europe/Berlin:20221001T160000
DTEND;TZID=Europe/Berlin:20221001T180000
LOCATION:Městská sportovní hala\, Petřivalského 2884 Přerov - Přerov I-Měst
 o
SUMMARY:OLK-U16Z-KF4: Přerov B-KRS Uničov
END:VEVENT
BEGIN:VEVENT
UID:63663234-3830-4962-a666-373932613936
DTSTAMP:20260425T173123Z
DESCRIPTION:3/3 Přerov B - SK Kojetín 2016\, z.s. 0:2 (-21\,-17)
DTSTART;TZID=Europe/Berlin:20221008T110000
DTEND;TZID=Europe/Berlin:20221008T130000
LOCATION:Městská sportovní hala Petřivalského 2884 Přerov - Přerov I-Město
SUMMARY:OLK-U16Z-1C: Přerov B-SK Kojetín 2016\, z.s.
END:VEVENT
BEGIN:VEVENT
UID:34626166-6531-4066-b039-643263383266
DTSTAMP:20260425T173123Z
DESCRIPTION:1/1 VK UP Olomouc C - Přerov B 1:2 (-13\,23\,-13)
DTSTART;TZID=Europe/Berlin:20221008T090000
DTEND;TZID=Europe/Berlin:20221008T110000
LOCATION:UP Olomouc U sportovní haly 38 Olomouc - Lazce
SUMMARY:OLK-U16Z-1C: VK UP Olomouc C-Přerov B
END:VEVENT
BEGIN:VEVENT
UID:62646164-6630-4466-b661-633766396162
DTSTAMP:20260425T173123Z
DESCRIPTION:5/5 TJ Sokol Č. Třebová - Přerov B 2:1 (-22\,14\,8)
DTSTART;TZID=Europe/Berlin:20221008T130000
DTEND;TZID=Europe/Berlin:20221008T150000
LOCATION:VDA u Billy Habrmanova 2096 Česká Třebová
SUMMARY:OLK-U16Z-1C: TJ Sokol Č. Třebová-Přerov B
END:VEVENT
BEGIN:VEVENT
UID:62346161-3764-4035-a161-373865346432
DTSTAMP:20260425T173123Z
DESCRIPTION:2/2 Přerov B - TJ Sokol Šternberk 0:2 (-8\,-14)
DTSTART;TZID=Europe/Berlin:20221022T100000
DTEND;TZID=Europe/Berlin:20221022T120000
LOCATION:Městská sportovní hala Petřivalského 2884 Přerov - Přerov I-Město
SUMMARY:OLK-U16Z-2C: Přerov B-TJ Sokol Šternberk
END:VEVENT
BEGIN:VEVENT
UID:37656238-3062-4166-a361-393164633832
DTSTAMP:20260425T173123Z
DESCRIPTION:4/4 VK UP Olomouc C - Přerov B 0:2 (-13\,-6)
DTSTART;TZID=Europe/Berlin:20221022T120000
DTEND;TZID=Europe/Berlin:20221022T140000
LOCATION:UP Olomouc U sportovní haly 38 Olomouc - Lazce
SUMMARY:OLK-U16Z-2C: VK UP Olomouc C-Přerov B
END:VEVENT
BEGIN:VEVENT
UID:63303639-3064-4664-b630-316534346631
DTSTAMP:20260425T173123Z
DESCRIPTION:5/5 VAM Olomouc B - Přerov B 2:0 (19\,24)
DTSTART;TZID=Europe/Berlin:20221022T130000
DTEND;TZID=Europe/Berlin:20221022T150000
LOCATION:VOŠ a SPŠE Olomouc Božetěchova 755 Olomouc - Hodolany
SUMMARY:OLK-U16Z-2C: VAM Olomouc B-Přerov B
END:VEVENT
BEGIN:VEVENT
UID:34326636-3130-4237-b632-383066386461
DTSTAMP:20260425T173123Z
DESCRIPTION:5/5 Přerov B - TJ Lanškroun 0:2 (-12\,-8)
DTSTART;TZID=Europe/Berlin:20221113T130000
DTEND;TZID=Europe/Berlin:20221113T150000
LOCATION:VOŠ a SPŠE Olomouc\, Božetěchova 755 Olomouc - Hodolany
SUMMARY:OLK-U16Z-3C: Přerov B-TJ Lanškroun
END:VEVENT
BEGIN:VEVENT
UID:32393464-3039-4162-b966-353866383966
DTSTAMP:20260425T173123Z
DESCRIPTION:1/1 VAM Olomouc B - Přerov B 1:2 (-20\,18\,-14)
DTSTART;TZID=Europe/Berlin:20221113T090000
DTEND;TZID=Europe/Berlin:20221113T110000
LOCATION:VOŠ a SPŠE Olomouc\, Božetěchova 755 Olomouc - Hodolany
SUMMARY:OLK-U16Z-3C: VAM Olomouc B-Přerov B
END:VEVENT
BEGIN:VEVENT
UID:63333333-3035-4366-a333-356538393334
DTSTAMP:20260425T173123Z
DESCRIPTION:3/3 SK Kojetín 2016\, z.s. - Přerov B 2:0 (16\,21)
DTSTART;TZID=Europe/Berlin:20221113T110000
DTEND;TZID=Europe/Berlin:20221113T130000
LOCATION:VOŠ a SPŠE Olomouc\, Božetěchova 755 Olomouc - Hodolany
SUMMARY:OLK-U16Z-3C: SK Kojetín 2016\, z.s.-Přerov B
END:VEVENT
BEGIN:VEVENT
UID:37663031-3332-4330-b763-383136346234
DTSTAMP:20260425T173123Z
DESCRIPTION:2/2 Přerov B - VSK Zábřeh 2:1 (11\,-18\,12)
DTSTART;TZID=Europe/Berlin:20221210T100000
DTEND;TZID=Europe/Berlin:20221210T120000
LOCATION:Městská sportovní hala Petřivalského 2884 Přerov - Přerov I-Město
SUMMARY:OLK-U16Z-4D: Přerov B-VSK Zábřeh
END:VEVENT
BEGIN:VEVENT
UID:38333430-6433-4638-b361-373738353965
DTSTAMP:20260425T173123Z
DESCRIPTION:5/5 Přerov B - VK UP Olomouc C 2:0 (23\,10)
DTSTART;TZID=Europe/Berlin:20221210T130000
DTEND;TZID=Europe/Berlin:20221210T150000
LOCATION:Městská sportovní hala Petřivalského 2884 Přerov - Přerov I-Město
SUMMARY:OLK-U16Z-4D: Přerov B-VK UP Olomouc C
END:VEVENT
BEGIN:VEVENT
UID:34663633-3032-4633-a163-666262666536
DTSTAMP:20260425T173123Z
DESCRIPTION:4/4 VK UP Olomouc B - Přerov B 1:2 (19\,-22\,-6)
DTSTART;TZID=Europe/Berlin:20221210T120000
DTEND;TZID=Europe/Berlin:20221210T140000
LOCATION:UP Olomouc U sportovní haly 38 Olomouc - Lazce
SUMMARY:OLK-U16Z-4D: VK UP Olomouc B-Přerov B
END:VEVENT
BEGIN:VEVENT
UID:30656461-3566-4161-b433-646165386338
DTSTAMP:20260425T173123Z
DESCRIPTION:3/3 Přerov B - VK Prostějov B 2:0 (13\,22)
DTSTART;TZID=Europe/Berlin:20230128T110000
DTEND;TZID=Europe/Berlin:20230128T130000
LOCATION:SOŠ a SOU Lanškroun\, Sokolská 288 Lanškroun - Ostrovské Předměstí
SUMMARY:OLK-U16Z-5C: Přerov B-VK Prostějov B
END:VEVENT
BEGIN:VEVENT
UID:36396662-3230-4166-b462-303962613461
DTSTAMP:20260425T173123Z
DESCRIPTION:1/1 TJ Lanškroun - Přerov B 2:0 (11\,9)
DTSTART;TZID=Europe/Berlin:20230128T100000
DTEND;TZID=Europe/Berlin:20230128T120000
LOCATION:SOŠ a SOU Lanškroun\, Sokolská 288 Lanškroun - Ostrovské Předměstí
SUMMARY:OLK-U16Z-5C: TJ Lanškroun-Přerov B
END:VEVENT
BEGIN:VEVENT
UID:65633930-6462-4364-b966-373933353161
DTSTAMP:20260425T173123Z
DESCRIPTION:5/5 VAM Olomouc B - Přerov B 1:2 (-21\,14\,-12)
DTSTART;TZID=Europe/Berlin:20230128T120000
DTEND;TZID=Europe/Berlin:20230128T140000
LOCATION:SOŠ a SOU Lanškroun\, Sokolská 288 Lanškroun - Ostrovské Předměstí
SUMMARY:OLK-U16Z-5C: VAM Olomouc B-Přerov B
END:VEVENT
BEGIN:VEVENT
UID:36313232-6630-4230-b462-623461646532
DTSTAMP:20260425T173123Z
DESCRIPTION:2/2 Přerov B - VK Prostějov B 0:2 (-17\,-23)
DTSTART;TZID=Europe/Berlin:20230325T090000
DTEND;TZID=Europe/Berlin:20230325T110000
LOCATION:Národní sportovní centrum\, Za velodromem 4187 Prostějov
SUMMARY:OLK-U16Z-6C: Přerov B-VK Prostějov B
END:VEVENT
BEGIN:VEVENT
UID:31363831-3463-4139-b436-613537306262
DTSTAMP:20260425T173123Z
DESCRIPTION:5/5 Přerov B - VK UP Olomouc C 2:1 (20\,-12\,6)
DTSTART;TZID=Europe/Berlin:20230325T130000
DTEND;TZID=Europe/Berlin:20230325T150000
LOCATION:Národní sportovní centrum\, Za velodromem 4187 Prostějov
SUMMARY:OLK-U16Z-6C: Přerov B-VK UP Olomouc C
END:VEVENT
BEGIN:VEVENT
UID:39333664-3833-4339-a562-373630633737
DTSTAMP:20260425T173123Z
DESCRIPTION:4/4 TJ Sokol Šternberk - Přerov B 2:0 (25\,13)
DTSTART;TZID=Europe/Berlin:20230325T110000
DTEND;TZID=Europe/Berlin:20230325T130000
LOCATION:Národní sportovní centrum\, Za velodromem 4187 Prostějov
SUMMARY:OLK-U16Z-6C: TJ Sokol Šternberk-Přerov B
END:VEVENT
END:VCALENDAR
