BEGIN:VCALENDAR
VERSION:2.0
PRODID:-//Sokol Praha Vršovice80234//NONSGML kigkonsult.se iCalcreator 2.41.80//
CALSCALE:GREGORIAN
UID:61666131-6538-4164-b833-636366653235
BEGIN:VEVENT
UID:34633465-6635-4566-a332-373636306533
DTSTAMP:20260422T150328Z
DESCRIPTION:1/1 Sokol Praha Vršovice - SAVO Praha 2:0 (6\,6)
DTSTART;TZID=Europe/Berlin:20221001T090000
DTEND;TZID=Europe/Berlin:20221001T110000
LOCATION:SKŠ ZŠ Mikulova Praha\, Mikulova 1594 Praha - Chodov
SUMMARY:PP-U14Z-1-E: Sokol Praha Vršovice-SAVO Praha
END:VEVENT
BEGIN:VEVENT
UID:37633935-3138-4239-b265-626439643965
DTSTAMP:20260422T150328Z
DESCRIPTION:3/6 Sokol Praha Vršovice - Mikulova C 2:0 (14\,12)
DTSTART;TZID=Europe/Berlin:20221001T110000
DTEND;TZID=Europe/Berlin:20221001T130000
LOCATION:SKŠ ZŠ Mikulova Praha\, Mikulova 1594 Praha - Chodov
SUMMARY:PP-U14Z-1-E: Sokol Praha Vršovice-Mikulova C
END:VEVENT
BEGIN:VEVENT
UID:65323131-3832-4565-a134-666334663563
DTSTAMP:20260422T150328Z
DESCRIPTION:2/3 Kometa Praha C - Sokol Praha Vršovice 0:2 (-11\,-14)
DTSTART;TZID=Europe/Berlin:20221001T100000
DTEND;TZID=Europe/Berlin:20221001T120000
LOCATION:SKŠ ZŠ Mikulova Praha\, Mikulova 1594 Praha - Chodov
SUMMARY:PP-U14Z-1-E: Kometa Praha C-Sokol Praha Vršovice
END:VEVENT
BEGIN:VEVENT
UID:65353036-3764-4535-b939-393664383564
DTSTAMP:20260422T150328Z
DESCRIPTION:5/9 Radotín - Sokol Praha Vršovice 1:2 (-15\,21\,-10)
DTSTART;TZID=Europe/Berlin:20221001T140000
DTEND;TZID=Europe/Berlin:20221001T160000
LOCATION:SKŠ ZŠ Mikulova Praha\, Mikulova 1594 Praha - Chodov
SUMMARY:PP-U14Z-1-E: Radotín-Sokol Praha Vršovice
END:VEVENT
BEGIN:VEVENT
UID:61333364-6365-4566-b461-373130306264
DTSTAMP:20260422T150328Z
DESCRIPTION:3/3 Sokol Praha Vršovice - Španielka 2:0 (14\,24)
DTSTART;TZID=Europe/Berlin:20221105T110000
DTEND;TZID=Europe/Berlin:20221105T130000
LOCATION:Tělocvična ZŠ\, Španielova 1111 Praha - Řepy
SUMMARY:PP-U14Z-2-D: Sokol Praha Vršovice-Španielka
END:VEVENT
BEGIN:VEVENT
UID:33376362-6139-4937-a330-336136373764
DTSTAMP:20260422T150328Z
DESCRIPTION:1/1 Slavia Praha - Sokol Praha Vršovice 2:0 (13\,21)
DTSTART;TZID=Europe/Berlin:20221105T090000
DTEND;TZID=Europe/Berlin:20221105T110000
LOCATION:Tělocvična ZŠ\, Španielova 1111 Praha - Řepy
SUMMARY:PP-U14Z-2-D: Slavia Praha-Sokol Praha Vršovice
END:VEVENT
BEGIN:VEVENT
UID:30346166-3430-4630-a139-643635623439
DTSTAMP:20260422T150328Z
DESCRIPTION:5/5 Orion Praha B - Sokol Praha Vršovice 2:0 (22\,16)
DTSTART;TZID=Europe/Berlin:20221105T130000
DTEND;TZID=Europe/Berlin:20221105T150000
LOCATION:Tělocvična ZŠ\, Španielova 1111 Praha - Řepy
SUMMARY:PP-U14Z-2-D: Orion Praha B-Sokol Praha Vršovice
END:VEVENT
BEGIN:VEVENT
UID:37353063-6263-4934-a435-393238373863
DTSTAMP:20260422T150328Z
DESCRIPTION:3/5 Sokol Praha Vršovice - Radotín 2:0 (21\,16)
DTSTART;TZID=Europe/Berlin:20221203T140000
DTEND;TZID=Europe/Berlin:20221203T160000
LOCATION:SKŠ ZŠ Mikulova Praha\, Mikulova 1594 Praha - Chodov
SUMMARY:PP-U14Z-3-E: Sokol Praha Vršovice-Radotín
END:VEVENT
BEGIN:VEVENT
UID:32636261-6638-4962-b232-643130386639
DTSTAMP:20260422T150328Z
DESCRIPTION:4/7 Sokol Praha Vršovice - Kometa Praha C 2:0 (8\,6)
DTSTART;TZID=Europe/Berlin:20221203T150000
DTEND;TZID=Europe/Berlin:20221203T170000
LOCATION:SKŠ ZŠ Mikulova Praha\, Mikulova 1594 Praha - Chodov
SUMMARY:PP-U14Z-3-E: Sokol Praha Vršovice-Kometa Praha C
END:VEVENT
BEGIN:VEVENT
UID:64353031-6237-4434-b932-653637303331
DTSTAMP:20260422T150328Z
DESCRIPTION:1/2 SAVO Praha - Sokol Praha Vršovice 0:2 (-10\,-11)
DTSTART;TZID=Europe/Berlin:20221203T110000
DTEND;TZID=Europe/Berlin:20221203T130000
LOCATION:SKŠ ZŠ Mikulova Praha\, Mikulova 1594 Praha - Chodov
SUMMARY:PP-U14Z-3-E: SAVO Praha-Sokol Praha Vršovice
END:VEVENT
BEGIN:VEVENT
UID:31336366-3937-4664-b033-376266646263
DTSTAMP:20260422T150328Z
DESCRIPTION:5/10 Mikulova C - Sokol Praha Vršovice 0:2 (-21\,-23)
DTSTART;TZID=Europe/Berlin:20221203T160000
DTEND;TZID=Europe/Berlin:20221203T180000
LOCATION:SKŠ ZŠ Mikulova Praha\, Mikulova 1594 Praha - Chodov
SUMMARY:PP-U14Z-3-E: Mikulova C-Sokol Praha Vršovice
END:VEVENT
BEGIN:VEVENT
UID:31386136-6438-4538-b066-656239643861
DTSTAMP:20260422T150328Z
DESCRIPTION:3/3 Sokol Praha Vršovice - Orion Praha B 2:0 (11\,16)
DTSTART;TZID=Europe/Berlin:20230107T110000
DTEND;TZID=Europe/Berlin:20230107T130000
LOCATION:Tělocvična ZŠ Na Šutce\, Na Šutce 440 Praha - Troja
SUMMARY:PP-U14Z-4-D: Sokol Praha Vršovice-Orion Praha B
END:VEVENT
BEGIN:VEVENT
UID:30653863-3738-4439-b130-366433303538
DTSTAMP:20260422T150328Z
DESCRIPTION:1/1 Slavia Praha - Sokol Praha Vršovice 1:2 (-16\,17\,-10)
DTSTART;TZID=Europe/Berlin:20230107T090000
DTEND;TZID=Europe/Berlin:20230107T110000
LOCATION:Tělocvična ZŠ Na Šutce\, Na Šutce 440 Praha - Troja
SUMMARY:PP-U14Z-4-D: Slavia Praha-Sokol Praha Vršovice
END:VEVENT
BEGIN:VEVENT
UID:31633962-3031-4066-b432-306330356234
DTSTAMP:20260422T150328Z
DESCRIPTION:5/5 Kometa Praha B - Sokol Praha Vršovice 0:2 (-19\,-19)
DTSTART;TZID=Europe/Berlin:20230107T130000
DTEND;TZID=Europe/Berlin:20230107T150000
LOCATION:Tělocvična ZŠ Na Šutce\, Na Šutce 440 Praha - Troja
SUMMARY:PP-U14Z-4-D: Kometa Praha B-Sokol Praha Vršovice
END:VEVENT
BEGIN:VEVENT
UID:30343166-3063-4131-a663-386333333764
DTSTAMP:20260422T150328Z
DESCRIPTION:3/3 Sokol Praha Vršovice - Mikulova B 0:2 (-20\,-13)
DTSTART;TZID=Europe/Berlin:20230128T110000
DTEND;TZID=Europe/Berlin:20230128T130000
LOCATION:SKŠ ZŠ Mikulova Praha\, Mikulova 1594 Praha - Chodov
SUMMARY:PP-U14Z-5-C: Sokol Praha Vršovice-Mikulova B
END:VEVENT
BEGIN:VEVENT
UID:36653037-3537-4366-b131-336533636363
DTSTAMP:20260422T150328Z
DESCRIPTION:1/1 Meteor Praha A - Sokol Praha Vršovice 2:0 (18\,19)
DTSTART;TZID=Europe/Berlin:20230128T090000
DTEND;TZID=Europe/Berlin:20230128T110000
LOCATION:SKŠ ZŠ Mikulova Praha\, Mikulova 1594 Praha - Chodov
SUMMARY:PP-U14Z-5-C: Meteor Praha A-Sokol Praha Vršovice
END:VEVENT
BEGIN:VEVENT
UID:35373635-3564-4530-b463-643564613762
DTSTAMP:20260422T150328Z
DESCRIPTION:5/5 Studio Sport - Sokol Praha Vršovice 1:2 (18\,-16\,-14)
DTSTART;TZID=Europe/Berlin:20230128T130000
DTEND;TZID=Europe/Berlin:20230128T150000
LOCATION:SKŠ ZŠ Mikulova Praha\, Mikulova 1594 Praha - Chodov
SUMMARY:PP-U14Z-5-C: Studio Sport-Sokol Praha Vršovice
END:VEVENT
BEGIN:VEVENT
UID:30333834-3962-4262-b031-386165356239
DTSTAMP:20260422T150329Z
DESCRIPTION:3/6 Sokol Praha Vršovice - VK Lvi Praha 1:2 (-17\,24\,-13)
DTSTART;TZID=Europe/Berlin:20230304T110000
DTEND;TZID=Europe/Berlin:20230304T130000
LOCATION:Sokol Bubeneč\, Korunovační 630 Praha - Bubeneč
SUMMARY:PP-U14Z-6-C: Sokol Praha Vršovice-VK Lvi Praha
END:VEVENT
BEGIN:VEVENT
UID:37313166-3463-4163-a463-616631383164
DTSTAMP:20260422T150329Z
DESCRIPTION:1/2 Meteor Praha A - Sokol Praha Vršovice 2:0 (18\,19)
DTSTART;TZID=Europe/Berlin:20230304T090000
DTEND;TZID=Europe/Berlin:20230304T110000
LOCATION:Sokol Bubeneč\, Korunovační 630 Praha - Bubeneč
SUMMARY:PP-U14Z-6-C: Meteor Praha A-Sokol Praha Vršovice
END:VEVENT
BEGIN:VEVENT
UID:62643230-6235-4637-a166-646662386165
DTSTAMP:20260422T150329Z
DESCRIPTION:2/3 TJ Sokol Horní Počernice - Sokol Praha Vršovice 1:2 (-23\,2
 3\,-7)
DTSTART;TZID=Europe/Berlin:20230304T100000
DTEND;TZID=Europe/Berlin:20230304T120000
LOCATION:Sokol Bubeneč\, Korunovační 630 Praha - Bubeneč
SUMMARY:PP-U14Z-6-C: TJ Sokol Horní Počernice-Sokol Praha Vršovice
END:VEVENT
BEGIN:VEVENT
UID:36646231-3161-4630-b266-623637313438
DTSTAMP:20260422T150329Z
DESCRIPTION:6/6 Sokol Praha Vršovice - Mikulova A 1:2 (-13\,23\,-10)
DTSTART;TZID=Europe/Berlin:20230415T140000
DTEND;TZID=Europe/Berlin:20230415T160000
LOCATION:ZŠ Žernosecká\, Žernosecká 1597 Praha - Kobylisy
SUMMARY:PP-U14Z-7-C: Sokol Praha Vršovice-Mikulova A
END:VEVENT
BEGIN:VEVENT
UID:62666436-6332-4236-b538-343139303565
DTSTAMP:20260422T150329Z
DESCRIPTION:2/2 Meteor Praha A - Sokol Praha Vršovice 2:0 (14\,25)
DTSTART;TZID=Europe/Berlin:20230415T100000
DTEND;TZID=Europe/Berlin:20230415T120000
LOCATION:ZŠ Žernosecká\, Žernosecká 1597 Praha - Kobylisy
SUMMARY:PP-U14Z-7-C: Meteor Praha A-Sokol Praha Vršovice
END:VEVENT
BEGIN:VEVENT
UID:34346131-3332-4434-a530-626637656136
DTSTAMP:20260422T150329Z
DESCRIPTION:3/3 Slavia Praha - Sokol Praha Vršovice 2:0 (14\,22)
DTSTART;TZID=Europe/Berlin:20230415T110000
DTEND;TZID=Europe/Berlin:20230415T130000
LOCATION:ZŠ Žernosecká\, Žernosecká 1597 Praha - Kobylisy
SUMMARY:PP-U14Z-7-C: Slavia Praha-Sokol Praha Vršovice
END:VEVENT
END:VCALENDAR
