BEGIN:VCALENDAR
VERSION:2.0
PRODID:-//Kometa Praha C80237//NONSGML kigkonsult.se iCalcreator 2.41.80//
CALSCALE:GREGORIAN
UID:61376164-6263-4061-a231-316666343665
BEGIN:VEVENT
UID:35626664-3132-4462-b637-666230313238
DTSTAMP:20260422T150341Z
DESCRIPTION:2/3 Kometa Praha C - Sokol Praha Vršovice 0:2 (-11\,-14)
DTSTART;TZID=Europe/Berlin:20221001T100000
DTEND;TZID=Europe/Berlin:20221001T120000
LOCATION:SKŠ ZŠ Mikulova Praha\, Mikulova 1594 Praha - Chodov
SUMMARY:PP-U14Z-1-E: Kometa Praha C-Sokol Praha Vršovice
END:VEVENT
BEGIN:VEVENT
UID:65336233-6131-4532-b761-653561613436
DTSTAMP:20260422T150341Z
DESCRIPTION:3/5 Kometa Praha C - Radotín 0:2 (-8\,-11)
DTSTART;TZID=Europe/Berlin:20221001T110000
DTEND;TZID=Europe/Berlin:20221001T130000
LOCATION:SKŠ ZŠ Mikulova Praha\, Mikulova 1594 Praha - Chodov
SUMMARY:PP-U14Z-1-E: Kometa Praha C-Radotín
END:VEVENT
BEGIN:VEVENT
UID:35363538-6635-4965-a632-633166363736
DTSTAMP:20260422T150341Z
DESCRIPTION:4/8 Mikulova C - Kometa Praha C 2:0 (17\,16)
DTSTART;TZID=Europe/Berlin:20221001T120000
DTEND;TZID=Europe/Berlin:20221001T140000
LOCATION:SKŠ ZŠ Mikulova Praha\, Mikulova 1594 Praha - Chodov
SUMMARY:PP-U14Z-1-E: Mikulova C-Kometa Praha C
END:VEVENT
BEGIN:VEVENT
UID:63626662-6133-4932-a364-333665323862
DTSTAMP:20260422T150341Z
DESCRIPTION:5/10 SAVO Praha - Kometa Praha C 0:2 (-15\,-14)
DTSTART;TZID=Europe/Berlin:20221001T140000
DTEND;TZID=Europe/Berlin:20221001T160000
LOCATION:SKŠ ZŠ Mikulova Praha\, Mikulova 1594 Praha - Chodov
SUMMARY:PP-U14Z-1-E: SAVO Praha-Kometa Praha C
END:VEVENT
BEGIN:VEVENT
UID:62323763-6165-4530-b537-643062633137
DTSTAMP:20260422T150341Z
DESCRIPTION:4/7 Kometa Praha C - SAVO Praha 2:0 (9\,20)
DTSTART;TZID=Europe/Berlin:20221105T120000
DTEND;TZID=Europe/Berlin:20221105T140000
LOCATION:SKŠ ZŠ Mikulova Praha\, Mikulova 1594 Praha - Chodov
SUMMARY:PP-U14Z-2-E: Kometa Praha C-SAVO Praha
END:VEVENT
BEGIN:VEVENT
UID:62363662-6635-4666-b734-646663613338
DTSTAMP:20260422T150341Z
DESCRIPTION:5/9 Kometa Praha C - Radotín 0:2 (-16\,-16)
DTSTART;TZID=Europe/Berlin:20221105T140000
DTEND;TZID=Europe/Berlin:20221105T160000
LOCATION:SKŠ ZŠ Mikulova Praha\, Mikulova 1594 Praha - Chodov
SUMMARY:PP-U14Z-2-E: Kometa Praha C-Radotín
END:VEVENT
BEGIN:VEVENT
UID:65343934-3466-4235-a363-616666643936
DTSTAMP:20260422T150341Z
DESCRIPTION:1/2 Mikulova C - Kometa Praha C 2:0 (5\,17)
DTSTART;TZID=Europe/Berlin:20221105T090000
DTEND;TZID=Europe/Berlin:20221105T110000
LOCATION:SKŠ ZŠ Mikulova Praha\, Mikulova 1594 Praha - Chodov
SUMMARY:PP-U14Z-2-E: Mikulova C-Kometa Praha C
END:VEVENT
BEGIN:VEVENT
UID:32626632-6634-4166-b335-383037353861
DTSTAMP:20260422T150341Z
DESCRIPTION:3/5 Kometa Praha B - Kometa Praha C 2:0 (17\,17)
DTSTART;TZID=Europe/Berlin:20221105T110000
DTEND;TZID=Europe/Berlin:20221105T130000
LOCATION:SKŠ ZŠ Mikulova Praha\, Mikulova 1594 Praha - Chodov
SUMMARY:PP-U14Z-2-E: Kometa Praha B-Kometa Praha C
END:VEVENT
BEGIN:VEVENT
UID:31356330-6136-4532-a231-343235386239
DTSTAMP:20260422T150341Z
DESCRIPTION:1/1 Kometa Praha C - Radotín 0:2 (-22\,-14)
DTSTART;TZID=Europe/Berlin:20221203T110000
DTEND;TZID=Europe/Berlin:20221203T130000
LOCATION:SKŠ ZŠ Mikulova Praha\, Mikulova 1594 Praha - Chodov
SUMMARY:PP-U14Z-3-E: Kometa Praha C-Radotín
END:VEVENT
BEGIN:VEVENT
UID:37316333-6139-4632-b065-383637326361
DTSTAMP:20260422T150341Z
DESCRIPTION:5/9 Kometa Praha C - SAVO Praha 2:0 (27\,17)
DTSTART;TZID=Europe/Berlin:20221203T160000
DTEND;TZID=Europe/Berlin:20221203T180000
LOCATION:SKŠ ZŠ Mikulova Praha\, Mikulova 1594 Praha - Chodov
SUMMARY:PP-U14Z-3-E: Kometa Praha C-SAVO Praha
END:VEVENT
BEGIN:VEVENT
UID:39663662-6562-4331-b732-633038386264
DTSTAMP:20260422T150341Z
DESCRIPTION:2/4 Mikulova C - Kometa Praha C 2:0 (9\,22)
DTSTART;TZID=Europe/Berlin:20221203T130000
DTEND;TZID=Europe/Berlin:20221203T150000
LOCATION:SKŠ ZŠ Mikulova Praha\, Mikulova 1594 Praha - Chodov
SUMMARY:PP-U14Z-3-E: Mikulova C-Kometa Praha C
END:VEVENT
BEGIN:VEVENT
UID:61346436-3837-4739-b239-666263333165
DTSTAMP:20260422T150341Z
DESCRIPTION:4/7 Sokol Praha Vršovice - Kometa Praha C 2:0 (8\,6)
DTSTART;TZID=Europe/Berlin:20221203T150000
DTEND;TZID=Europe/Berlin:20221203T170000
LOCATION:SKŠ ZŠ Mikulova Praha\, Mikulova 1594 Praha - Chodov
SUMMARY:PP-U14Z-3-E: Sokol Praha Vršovice-Kometa Praha C
END:VEVENT
BEGIN:VEVENT
UID:36646266-6536-4661-b539-626635653637
DTSTAMP:20260422T150341Z
DESCRIPTION:4/7 Kometa Praha C - SAVO Praha 2:0 (12\,14)
DTSTART;TZID=Europe/Berlin:20230107T120000
DTEND;TZID=Europe/Berlin:20230107T140000
LOCATION:Tělocvična ZŠ\, Španielova 1111 Praha - Řepy
SUMMARY:PP-U14Z-4-E: Kometa Praha C-SAVO Praha
END:VEVENT
BEGIN:VEVENT
UID:62353133-6664-4564-b430-306564373834
DTSTAMP:20260422T150341Z
DESCRIPTION:5/9 Kometa Praha C - Radotín 0:2 (-11\,-23)
DTSTART;TZID=Europe/Berlin:20230107T130000
DTEND;TZID=Europe/Berlin:20230107T150000
LOCATION:Tělocvična ZŠ\, Španielova 1111 Praha - Řepy
SUMMARY:PP-U14Z-4-E: Kometa Praha C-Radotín
END:VEVENT
BEGIN:VEVENT
UID:34396333-6663-4535-a265-663162313966
DTSTAMP:20260422T150341Z
DESCRIPTION:1/2 Mikulova C - Kometa Praha C 2:0 (12\,17)
DTSTART;TZID=Europe/Berlin:20230107T090000
DTEND;TZID=Europe/Berlin:20230107T110000
LOCATION:Tělocvična ZŠ\, Španielova 1111 Praha - Řepy
SUMMARY:PP-U14Z-4-E: Mikulova C-Kometa Praha C
END:VEVENT
BEGIN:VEVENT
UID:35383234-3166-4337-a132-656662626530
DTSTAMP:20260422T150341Z
DESCRIPTION:3/5 Španielka - Kometa Praha C 2:1 (-18\,21\,10)
DTSTART;TZID=Europe/Berlin:20230107T110000
DTEND;TZID=Europe/Berlin:20230107T130000
LOCATION:Tělocvična ZŠ\, Španielova 1111 Praha - Řepy
SUMMARY:PP-U14Z-4-E: Španielka-Kometa Praha C
END:VEVENT
BEGIN:VEVENT
UID:66616564-6162-4438-b335-656161313862
DTSTAMP:20260422T150341Z
DESCRIPTION:4/7 Kometa Praha C - SAVO Praha 2:1 (-23\,18\,10)
DTSTART;TZID=Europe/Berlin:20230128T120000
DTEND;TZID=Europe/Berlin:20230128T140000
LOCATION:ZŠ Dolní Břežany\, Na Vršku 290 Dolní Břežany
SUMMARY:PP-U14Z-5-E: Kometa Praha C-SAVO Praha
END:VEVENT
BEGIN:VEVENT
UID:38613765-3731-4764-b665-373439353962
DTSTAMP:20260422T150341Z
DESCRIPTION:5/9 Kometa Praha C - Mikulova C 0:2 (-19\,-9)
DTSTART;TZID=Europe/Berlin:20230128T130000
DTEND;TZID=Europe/Berlin:20230128T150000
LOCATION:ZŠ Dolní Břežany\, Na Vršku 290 Dolní Břežany
SUMMARY:PP-U14Z-5-E: Kometa Praha C-Mikulova C
END:VEVENT
BEGIN:VEVENT
UID:32613830-3864-4932-b362-383732303230
DTSTAMP:20260422T150341Z
DESCRIPTION:1/2 Španielka - Kometa Praha C 0:2 (-23\,-22)
DTSTART;TZID=Europe/Berlin:20230128T090000
DTEND;TZID=Europe/Berlin:20230128T110000
LOCATION:ZŠ Dolní Břežany\, Na Vršku 290 Dolní Břežany
SUMMARY:PP-U14Z-5-E: Španielka-Kometa Praha C
END:VEVENT
BEGIN:VEVENT
UID:62663261-6663-4233-b539-343837396463
DTSTAMP:20260422T150341Z
DESCRIPTION:3/5 Orion Praha B - Kometa Praha C 2:1 (14\,-25\,12)
DTSTART;TZID=Europe/Berlin:20230128T110000
DTEND;TZID=Europe/Berlin:20230128T130000
LOCATION:ZŠ Dolní Břežany\, Na Vršku 290 Dolní Břežany
SUMMARY:PP-U14Z-5-E: Orion Praha B-Kometa Praha C
END:VEVENT
BEGIN:VEVENT
UID:39663232-6137-4538-b134-646538353863
DTSTAMP:20260422T150341Z
DESCRIPTION:1/2 Kometa Praha C - SAVO Praha 2:0 (15\,18)
DTSTART;TZID=Europe/Berlin:20230304T090000
DTEND;TZID=Europe/Berlin:20230304T110000
LOCATION:Tělocvična ZŠ\, Španielova 1111 Praha - Řepy
SUMMARY:PP-U14Z-6-E: Kometa Praha C-SAVO Praha
END:VEVENT
BEGIN:VEVENT
UID:64383135-3963-4439-a237-656330346139
DTSTAMP:20260422T150341Z
DESCRIPTION:4/8 Kometa Praha C - Kometa Praha B 0:2 (-22\,-9)
DTSTART;TZID=Europe/Berlin:20230304T120000
DTEND;TZID=Europe/Berlin:20230304T140000
LOCATION:Tělocvična ZŠ\, Španielova 1111 Praha - Řepy
SUMMARY:PP-U14Z-6-E: Kometa Praha C-Kometa Praha B
END:VEVENT
BEGIN:VEVENT
UID:65393435-3938-4538-b835-363339656632
DTSTAMP:20260422T150341Z
DESCRIPTION:2/4 Španielka - Kometa Praha C 2:0 (10\,19)
DTSTART;TZID=Europe/Berlin:20230304T100000
DTEND;TZID=Europe/Berlin:20230304T120000
LOCATION:Tělocvična ZŠ\, Španielova 1111 Praha - Řepy
SUMMARY:PP-U14Z-6-E: Španielka-Kometa Praha C
END:VEVENT
BEGIN:VEVENT
UID:31393039-3166-4735-b235-356537363638
DTSTAMP:20260422T150341Z
DESCRIPTION:3/6 Mikulova C - Kometa Praha C 2:0 (17\,8)
DTSTART;TZID=Europe/Berlin:20230304T110000
DTEND;TZID=Europe/Berlin:20230304T130000
LOCATION:Tělocvična ZŠ\, Španielova 1111 Praha - Řepy
SUMMARY:PP-U14Z-6-E: Mikulova C-Kometa Praha C
END:VEVENT
BEGIN:VEVENT
UID:30613930-3033-4066-b065-616163326335
DTSTAMP:20260422T150341Z
DESCRIPTION:4/7 Kometa Praha C - SAVO Praha 2:1 (14\,-19\,7)
DTSTART;TZID=Europe/Berlin:20230415T120000
DTEND;TZID=Europe/Berlin:20230415T140000
LOCATION:Tělocvična ZŠ\, Španielova 1111 Praha - Řepy
SUMMARY:PP-U14Z-7-E: Kometa Praha C-SAVO Praha
END:VEVENT
BEGIN:VEVENT
UID:32646664-3534-4733-a266-666262626563
DTSTAMP:20260422T150341Z
DESCRIPTION:5/9 Kometa Praha C - Španielka 2:0 (22\,11)
DTSTART;TZID=Europe/Berlin:20230415T130000
DTEND;TZID=Europe/Berlin:20230415T150000
LOCATION:Tělocvična ZŠ\, Španielova 1111 Praha - Řepy
SUMMARY:PP-U14Z-7-E: Kometa Praha C-Španielka
END:VEVENT
BEGIN:VEVENT
UID:61323335-6437-4063-a630-333731623362
DTSTAMP:20260422T150341Z
DESCRIPTION:1/2 Mikulova C - Kometa Praha C 0:2 (-23\,-23)
DTSTART;TZID=Europe/Berlin:20230415T090000
DTEND;TZID=Europe/Berlin:20230415T110000
LOCATION:Tělocvična ZŠ\, Španielova 1111 Praha - Řepy
SUMMARY:PP-U14Z-7-E: Mikulova C-Kometa Praha C
END:VEVENT
BEGIN:VEVENT
UID:64393864-3465-4731-b461-313239386136
DTSTAMP:20260422T150341Z
DESCRIPTION:3/5 Radotín - Kometa Praha C 2:0 (16\,9)
DTSTART;TZID=Europe/Berlin:20230415T110000
DTEND;TZID=Europe/Berlin:20230415T130000
LOCATION:Tělocvična ZŠ\, Španielova 1111 Praha - Řepy
SUMMARY:PP-U14Z-7-E: Radotín-Kometa Praha C
END:VEVENT
END:VCALENDAR
