BEGIN:VCALENDAR
VERSION:2.0
PRODID:-//Mikulova Praha A80239//NONSGML kigkonsult.se iCalcreator 2.41.80//
CALSCALE:GREGORIAN
UID:31353761-3433-4766-b737-666564336634
BEGIN:VEVENT
UID:63366265-6135-4338-b539-323037626464
DTSTAMP:20260422T085132Z
DESCRIPTION:3/6 Mikulova A - Kometa Praha A 1:2 (-13\,18\,-12)
DTSTART;TZID=Europe/Berlin:20221001T160000
DTEND;TZID=Europe/Berlin:20221001T180000
LOCATION:SKŠ ZŠ Mikulova Praha\, Mikulova 1594 Praha - Chodov
SUMMARY:PP-U14Z-1-B: Mikulova A-Kometa Praha A
END:VEVENT
BEGIN:VEVENT
UID:34373464-3239-4661-b338-386332383961
DTSTAMP:20260422T085132Z
DESCRIPTION:1/2 Meteor Praha A - Mikulova A 2:1 (13\,-24\,9)
DTSTART;TZID=Europe/Berlin:20221001T130000
DTEND;TZID=Europe/Berlin:20221001T150000
LOCATION:SKŠ ZŠ Mikulova Praha\, Mikulova 1594 Praha - Chodov
SUMMARY:PP-U14Z-1-B: Meteor Praha A-Mikulova A
END:VEVENT
BEGIN:VEVENT
UID:32633063-3836-4435-b939-343539303033
DTSTAMP:20260422T085132Z
DESCRIPTION:2/3 Střešovice - Mikulova A 2:1 (14\,-23\,11)
DTSTART;TZID=Europe/Berlin:20221001T150000
DTEND;TZID=Europe/Berlin:20221001T170000
LOCATION:SKŠ ZŠ Mikulova Praha\, Mikulova 1594 Praha - Chodov
SUMMARY:PP-U14Z-1-B: Střešovice-Mikulova A
END:VEVENT
BEGIN:VEVENT
UID:31396632-3438-4664-b962-343631323732
DTSTAMP:20260422T085132Z
DESCRIPTION:6/6 Mikulova A - Mikulova B 2:0 (22\,21)
DTSTART;TZID=Europe/Berlin:20221105T160000
DTEND;TZID=Europe/Berlin:20221105T180000
LOCATION:SKŠ ZŠ Mikulova Praha\, Mikulova 1594 Praha - Chodov
SUMMARY:PP-U14Z-2-B: Mikulova A-Mikulova B
END:VEVENT
BEGIN:VEVENT
UID:35333634-3865-4462-a437-636362366130
DTSTAMP:20260422T085132Z
DESCRIPTION:2/2 Střešovice - Mikulova A 2:1 (-15\,22\,3)
DTSTART;TZID=Europe/Berlin:20221105T130000
DTEND;TZID=Europe/Berlin:20221105T150000
LOCATION:SKŠ ZŠ Mikulova Praha\, Mikulova 1594 Praha - Chodov
SUMMARY:PP-U14Z-2-B: Střešovice-Mikulova A
END:VEVENT
BEGIN:VEVENT
UID:64393837-6366-4132-b637-393132353561
DTSTAMP:20260422T085132Z
DESCRIPTION:3/3 Olymp Praha B - Mikulova A 2:0 (17\,18)
DTSTART;TZID=Europe/Berlin:20221105T150000
DTEND;TZID=Europe/Berlin:20221105T170000
LOCATION:SKŠ ZŠ Mikulova Praha\, Mikulova 1594 Praha - Chodov
SUMMARY:PP-U14Z-2-B: Olymp Praha B-Mikulova A
END:VEVENT
BEGIN:VEVENT
UID:31393237-3130-4630-b737-616230626162
DTSTAMP:20260422T085132Z
DESCRIPTION:6/6 Mikulova A - VK Lvi Praha 2:0 (23\,18)
DTSTART;TZID=Europe/Berlin:20221203T120000
DTEND;TZID=Europe/Berlin:20221203T140000
LOCATION:SKŠ ZŠ Mikulova Praha\, Mikulova 1594 Praha - Chodov
SUMMARY:PP-U14Z-3-B: Mikulova A-VK Lvi Praha
END:VEVENT
BEGIN:VEVENT
UID:65613636-3534-4964-b435-363366643635
DTSTAMP:20260422T085132Z
DESCRIPTION:2/2 Olymp Praha B - Mikulova A 2:0 (6\,19)
DTSTART;TZID=Europe/Berlin:20221203T090000
DTEND;TZID=Europe/Berlin:20221203T110000
LOCATION:SKŠ ZŠ Mikulova Praha\, Mikulova 1594 Praha - Chodov
SUMMARY:PP-U14Z-3-B: Olymp Praha B-Mikulova A
END:VEVENT
BEGIN:VEVENT
UID:62666166-3132-4037-a661-353662656365
DTSTAMP:20260422T085132Z
DESCRIPTION:3/3 TJ ABC Braník - Mikulova A 2:0 (12\,22)
DTSTART;TZID=Europe/Berlin:20221203T100000
DTEND;TZID=Europe/Berlin:20221203T120000
LOCATION:SKŠ ZŠ Mikulova Praha\, Mikulova 1594 Praha - Chodov
SUMMARY:PP-U14Z-3-B: TJ ABC Braník-Mikulova A
END:VEVENT
BEGIN:VEVENT
UID:30626436-3135-4738-a564-333763356338
DTSTAMP:20260422T085132Z
DESCRIPTION:6/6 Mikulova A - Kometa Praha A 1:2 (-9\,23\,-9)
DTSTART;TZID=Europe/Berlin:20230107T140000
DTEND;TZID=Europe/Berlin:20230107T160000
LOCATION:Sokolovna Braník\, Branická 275 Praha - Braník
SUMMARY:PP-U14Z-4-B: Mikulova A-Kometa Praha A
END:VEVENT
BEGIN:VEVENT
UID:64636663-6433-4465-b230-353731623337
DTSTAMP:20260422T085132Z
DESCRIPTION:2/2 TJ ABC Braník - Mikulova A 2:0 (15\,17)
DTSTART;TZID=Europe/Berlin:20230107T100000
DTEND;TZID=Europe/Berlin:20230107T120000
LOCATION:Sokolovna Braník\, Branická 275 Praha - Braník
SUMMARY:PP-U14Z-4-B: TJ ABC Braník-Mikulova A
END:VEVENT
BEGIN:VEVENT
UID:30393535-3965-4935-a464-353931333064
DTSTAMP:20260422T085132Z
DESCRIPTION:3/3 Meteor Praha A - Mikulova A 1:2 (-17\,9\,-13)
DTSTART;TZID=Europe/Berlin:20230107T110000
DTEND;TZID=Europe/Berlin:20230107T130000
LOCATION:Sokolovna Braník\, Branická 275 Praha - Braník
SUMMARY:PP-U14Z-4-B: Meteor Praha A-Mikulova A
END:VEVENT
BEGIN:VEVENT
UID:61616662-3133-4864-a634-613434623961
DTSTAMP:20260422T085132Z
DESCRIPTION:6/6 Mikulova A - Olymp Praha B 0:2 (-19\,-25)
DTSTART;TZID=Europe/Berlin:20230128T140000
DTEND;TZID=Europe/Berlin:20230128T160000
LOCATION:SKŠ ZŠ Mikulova Praha\, Mikulova 1594 Praha - Chodov
SUMMARY:PP-U14Z-5-B: Mikulova A-Olymp Praha B
END:VEVENT
BEGIN:VEVENT
UID:66306130-6539-4537-a436-393864616663
DTSTAMP:20260422T085132Z
DESCRIPTION:2/2 TJ ABC Braník - Mikulova A 1:2 (16\,-20\,-15)
DTSTART;TZID=Europe/Berlin:20230128T100000
DTEND;TZID=Europe/Berlin:20230128T120000
LOCATION:SKŠ ZŠ Mikulova Praha\, Mikulova 1594 Praha - Chodov
SUMMARY:PP-U14Z-5-B: TJ ABC Braník-Mikulova A
END:VEVENT
BEGIN:VEVENT
UID:64663664-6335-4139-a236-633736346638
DTSTAMP:20260422T085132Z
DESCRIPTION:3/3 VK Lvi Praha - Mikulova A 2:1 (-24\,10\,11)
DTSTART;TZID=Europe/Berlin:20230128T110000
DTEND;TZID=Europe/Berlin:20230128T130000
LOCATION:SKŠ ZŠ Mikulova Praha\, Mikulova 1594 Praha - Chodov
SUMMARY:PP-U14Z-5-B: VK Lvi Praha-Mikulova A
END:VEVENT
BEGIN:VEVENT
UID:33376566-6262-4033-b532-626633333630
DTSTAMP:20260422T085132Z
DESCRIPTION:6/6 Mikulova A - Kometa Praha A 0:2 (-17\,-15)
DTSTART;TZID=Europe/Berlin:20230304T140000
DTEND;TZID=Europe/Berlin:20230304T160000
LOCATION:Tělocvična ZŠ Na Šutce\, Na Šutce 440 Praha - Troja
SUMMARY:PP-U14Z-6-B: Mikulova A-Kometa Praha A
END:VEVENT
BEGIN:VEVENT
UID:36653231-6330-4631-a133-613861343533
DTSTAMP:20260422T085132Z
DESCRIPTION:2/2 TJ ABC Braník - Mikulova A 2:0 (19\,20)
DTSTART;TZID=Europe/Berlin:20230304T100000
DTEND;TZID=Europe/Berlin:20230304T120000
LOCATION:Tělocvična ZŠ Na Šutce\, Na Šutce 440 Praha - Troja
SUMMARY:PP-U14Z-6-B: TJ ABC Braník-Mikulova A
END:VEVENT
BEGIN:VEVENT
UID:35346464-6465-4930-b031-323935666137
DTSTAMP:20260422T085132Z
DESCRIPTION:3/3 Mikulova B - Mikulova A 2:1 (18\,-13\,9)
DTSTART;TZID=Europe/Berlin:20230304T110000
DTEND;TZID=Europe/Berlin:20230304T130000
LOCATION:Tělocvična ZŠ Na Šutce\, Na Šutce 440 Praha - Troja
SUMMARY:PP-U14Z-6-B: Mikulova B-Mikulova A
END:VEVENT
BEGIN:VEVENT
UID:62343736-3964-4732-b063-313561663530
DTSTAMP:20260422T085132Z
DESCRIPTION:1/1 Mikulova A - Slavia Praha 1:2 (-17\,10\,-12)
DTSTART;TZID=Europe/Berlin:20230415T090000
DTEND;TZID=Europe/Berlin:20230415T110000
LOCATION:ZŠ Žernosecká\, Žernosecká 1597 Praha - Kobylisy
SUMMARY:PP-U14Z-7-C: Mikulova A-Slavia Praha
END:VEVENT
BEGIN:VEVENT
UID:33303361-3833-4535-a566-383030633438
DTSTAMP:20260422T085132Z
DESCRIPTION:4/4 Mikulova A - Meteor Praha A 0:2 (-22\,-23)
DTSTART;TZID=Europe/Berlin:20230415T120000
DTEND;TZID=Europe/Berlin:20230415T140000
LOCATION:ZŠ Žernosecká\, Žernosecká 1597 Praha - Kobylisy
SUMMARY:PP-U14Z-7-C: Mikulova A-Meteor Praha A
END:VEVENT
BEGIN:VEVENT
UID:63333162-6464-4662-a132-303665313734
DTSTAMP:20260422T085132Z
DESCRIPTION:6/6 Sokol Praha Vršovice - Mikulova A 1:2 (-13\,23\,-10)
DTSTART;TZID=Europe/Berlin:20230415T140000
DTEND;TZID=Europe/Berlin:20230415T160000
LOCATION:ZŠ Žernosecká\, Žernosecká 1597 Praha - Kobylisy
SUMMARY:PP-U14Z-7-C: Sokol Praha Vršovice-Mikulova A
END:VEVENT
END:VCALENDAR
