BEGIN:VCALENDAR
VERSION:2.0
PRODID:-//Orion Praha A80242//NONSGML kigkonsult.se iCalcreator 2.41.80//
CALSCALE:GREGORIAN
UID:65356638-6666-4638-b539-373838376263
BEGIN:VEVENT
UID:65356232-3434-4364-b562-306330653236
DTSTAMP:20260422T191332Z
DESCRIPTION:1/1 Orion Praha A - Olymp Praha A 2:0 (16\,15)
DTSTART;TZID=Europe/Berlin:20221001T090000
DTEND;TZID=Europe/Berlin:20221001T110000
LOCATION:VCM OLYMP PRAHA \, Radlická 115 Praha - Radlice
SUMMARY:PP-U14Z-1-A: Orion Praha A-Olymp Praha A
END:VEVENT
BEGIN:VEVENT
UID:32653765-6662-4031-b738-316563616237
DTSTAMP:20260422T191332Z
DESCRIPTION:4/4 Orion Praha A - VK Lvi Praha 2:0 (12\,13)
DTSTART;TZID=Europe/Berlin:20221001T120000
DTEND;TZID=Europe/Berlin:20221001T140000
LOCATION:VCM OLYMP PRAHA \, Radlická 115 Praha - Radlice
SUMMARY:PP-U14Z-1-A: Orion Praha A-VK Lvi Praha
END:VEVENT
BEGIN:VEVENT
UID:65373634-6530-4061-b139-383938356566
DTSTAMP:20260422T191332Z
DESCRIPTION:6/6 Mikulova B - Orion Praha A 0:2 (-12\,-17)
DTSTART;TZID=Europe/Berlin:20221001T140000
DTEND;TZID=Europe/Berlin:20221001T160000
LOCATION:VCM OLYMP PRAHA \, Radlická 115 Praha - Radlice
SUMMARY:PP-U14Z-1-A: Mikulova B-Orion Praha A
END:VEVENT
BEGIN:VEVENT
UID:35626565-3562-4166-b434-323932373264
DTSTAMP:20260422T191332Z
DESCRIPTION:1/1 Orion Praha A - Kometa Praha A 2:0 (8\,20)
DTSTART;TZID=Europe/Berlin:20221105T090000
DTEND;TZID=Europe/Berlin:20221105T110000
LOCATION:VCM OLYMP PRAHA \, Radlická 115 Praha - Radlice
SUMMARY:PP-U14Z-2-A: Orion Praha A-Kometa Praha A
END:VEVENT
BEGIN:VEVENT
UID:38613131-3162-4566-a364-363064353930
DTSTAMP:20260422T191332Z
DESCRIPTION:4/4 Orion Praha A - Olymp Praha A 2:1 (23\,-21\,13)
DTSTART;TZID=Europe/Berlin:20221105T120000
DTEND;TZID=Europe/Berlin:20221105T140000
LOCATION:VCM OLYMP PRAHA \, Radlická 115 Praha - Radlice
SUMMARY:PP-U14Z-2-A: Orion Praha A-Olymp Praha A
END:VEVENT
BEGIN:VEVENT
UID:34303566-3939-4066-a662-346233396162
DTSTAMP:20260422T191332Z
DESCRIPTION:6/6 VK Lvi Praha - Orion Praha A 0:2 (-14\,-12)
DTSTART;TZID=Europe/Berlin:20221105T140000
DTEND;TZID=Europe/Berlin:20221105T160000
LOCATION:VCM OLYMP PRAHA \, Radlická 115 Praha - Radlice
SUMMARY:PP-U14Z-2-A: VK Lvi Praha-Orion Praha A
END:VEVENT
BEGIN:VEVENT
UID:30336235-6665-4236-b638-636232613433
DTSTAMP:20260422T191332Z
DESCRIPTION:1/1 Orion Praha A - Střešovice 2:0 (24\,20)
DTSTART;TZID=Europe/Berlin:20221203T090000
DTEND;TZID=Europe/Berlin:20221203T110000
LOCATION:ZŠ Dolní Břežany\, Na Vršku 290 Dolní Břežany
SUMMARY:PP-U14Z-3-A: Orion Praha A-Střešovice
END:VEVENT
BEGIN:VEVENT
UID:31646563-3862-4439-a265-333764343161
DTSTAMP:20260422T191332Z
DESCRIPTION:4/4 Orion Praha A - Olymp Praha A 2:0 (23\,14)
DTSTART;TZID=Europe/Berlin:20221203T120000
DTEND;TZID=Europe/Berlin:20221203T140000
LOCATION:ZŠ Dolní Břežany\, Na Vršku 290 Dolní Břežany
SUMMARY:PP-U14Z-3-A: Orion Praha A-Olymp Praha A
END:VEVENT
BEGIN:VEVENT
UID:39626365-6266-4165-a361-313535346562
DTSTAMP:20260422T191332Z
DESCRIPTION:6/6 Kometa Praha A - Orion Praha A 1:2 (23\,-16\,-7)
DTSTART;TZID=Europe/Berlin:20221203T140000
DTEND;TZID=Europe/Berlin:20221203T160000
LOCATION:ZŠ Dolní Břežany\, Na Vršku 290 Dolní Břežany
SUMMARY:PP-U14Z-3-A: Kometa Praha A-Orion Praha A
END:VEVENT
BEGIN:VEVENT
UID:63653064-3033-4663-b262-373539363165
DTSTAMP:20260422T191332Z
DESCRIPTION:1/1 Orion Praha A - Olymp Praha B 2:0 (12\,9)
DTSTART;TZID=Europe/Berlin:20230107T090000
DTEND;TZID=Europe/Berlin:20230107T110000
LOCATION:VCM OLYMP PRAHA \, Radlická 115 Praha - Radlice
SUMMARY:PP-U14Z-4-A: Orion Praha A-Olymp Praha B
END:VEVENT
BEGIN:VEVENT
UID:64326463-3839-4934-b263-313937353133
DTSTAMP:20260422T191332Z
DESCRIPTION:4/4 Orion Praha A - Olymp Praha A 2:0 (23\,15)
DTSTART;TZID=Europe/Berlin:20230107T120000
DTEND;TZID=Europe/Berlin:20230107T140000
LOCATION:VCM OLYMP PRAHA \, Radlická 115 Praha - Radlice
SUMMARY:PP-U14Z-4-A: Orion Praha A-Olymp Praha A
END:VEVENT
BEGIN:VEVENT
UID:39386633-3738-4233-b137-306131396462
DTSTAMP:20260422T191332Z
DESCRIPTION:6/6 Střešovice - Orion Praha A 0:2 (-10\,-16)
DTSTART;TZID=Europe/Berlin:20230107T140000
DTEND;TZID=Europe/Berlin:20230107T160000
LOCATION:VCM OLYMP PRAHA \, Radlická 115 Praha - Radlice
SUMMARY:PP-U14Z-4-A: Střešovice-Orion Praha A
END:VEVENT
BEGIN:VEVENT
UID:62366636-6562-4130-b162-646664323239
DTSTAMP:20260422T191332Z
DESCRIPTION:1/1 Orion Praha A - Kometa Praha A 2:0 (21\,22)
DTSTART;TZID=Europe/Berlin:20230128T140000
DTEND;TZID=Europe/Berlin:20230128T160000
LOCATION:ZŠ Dolní Břežany\, Na Vršku 290 Dolní Břežany
SUMMARY:PP-U14Z-5-A: Orion Praha A-Kometa Praha A
END:VEVENT
BEGIN:VEVENT
UID:65353431-3137-4137-b562-636431643965
DTSTAMP:20260422T191332Z
DESCRIPTION:4/4 Orion Praha A - Olymp Praha A 2:0 (22\,16)
DTSTART;TZID=Europe/Berlin:20230128T150000
DTEND;TZID=Europe/Berlin:20230128T170000
LOCATION:ZŠ Dolní Břežany\, Na Vršku 290 Dolní Břežany
SUMMARY:PP-U14Z-5-A: Orion Praha A-Olymp Praha A
END:VEVENT
BEGIN:VEVENT
UID:34643966-3239-4639-b563-373434616332
DTSTAMP:20260422T191332Z
DESCRIPTION:6/6 Střešovice - Orion Praha A 0:2 (-10\,-21)
DTSTART;TZID=Europe/Berlin:20230128T160000
DTEND;TZID=Europe/Berlin:20230128T180000
LOCATION:ZŠ Dolní Břežany\, Na Vršku 290 Dolní Břežany
SUMMARY:PP-U14Z-5-A: Střešovice-Orion Praha A
END:VEVENT
BEGIN:VEVENT
UID:30626335-3930-4635-b739-616664316630
DTSTAMP:20260422T191332Z
DESCRIPTION:1/1 Orion Praha A - Olymp Praha B 2:0 (17\,18)
DTSTART;TZID=Europe/Berlin:20230304T090000
DTEND;TZID=Europe/Berlin:20230304T110000
LOCATION:VCM OLYMP PRAHA \, Radlická 115 Praha - Radlice
SUMMARY:PP-U14Z-6-A: Orion Praha A-Olymp Praha B
END:VEVENT
BEGIN:VEVENT
UID:61616533-6664-4835-a438-663136333665
DTSTAMP:20260422T191332Z
DESCRIPTION:4/4 Orion Praha A - Olymp Praha A 2:1 (26\,-20\,9)
DTSTART;TZID=Europe/Berlin:20230304T120000
DTEND;TZID=Europe/Berlin:20230304T140000
LOCATION:VCM OLYMP PRAHA \, Radlická 115 Praha - Radlice
SUMMARY:PP-U14Z-6-A: Orion Praha A-Olymp Praha A
END:VEVENT
BEGIN:VEVENT
UID:66393463-3664-4165-b061-303233353633
DTSTAMP:20260422T191332Z
DESCRIPTION:6/6 Střešovice - Orion Praha A 0:2 (-22\,-19)
DTSTART;TZID=Europe/Berlin:20230304T140000
DTEND;TZID=Europe/Berlin:20230304T160000
LOCATION:VCM OLYMP PRAHA \, Radlická 115 Praha - Radlice
SUMMARY:PP-U14Z-6-A: Střešovice-Orion Praha A
END:VEVENT
BEGIN:VEVENT
UID:65333231-3631-4563-a261-383836373633
DTSTAMP:20260422T191332Z
DESCRIPTION:1/1 Orion Praha A - Mikulova B 2:0 (10\,13)
DTSTART;TZID=Europe/Berlin:20230415T090000
DTEND;TZID=Europe/Berlin:20230415T110000
LOCATION:ZŠ Dolní Břežany\, Na Vršku 290 Dolní Břežany
SUMMARY:PP-U14Z-7-A: Orion Praha A-Mikulova B
END:VEVENT
BEGIN:VEVENT
UID:39646665-3436-4436-b466-323330356261
DTSTAMP:20260422T191332Z
DESCRIPTION:4/4 Orion Praha A - Olymp Praha A 2:1 (14\,-14\,13)
DTSTART;TZID=Europe/Berlin:20230415T120000
DTEND;TZID=Europe/Berlin:20230415T140000
LOCATION:ZŠ Dolní Břežany\, Na Vršku 290 Dolní Břežany
SUMMARY:PP-U14Z-7-A: Orion Praha A-Olymp Praha A
END:VEVENT
BEGIN:VEVENT
UID:31343463-6464-4738-b763-353966343230
DTSTAMP:20260422T191332Z
DESCRIPTION:6/6 Olymp Praha B - Orion Praha A 0:2 (-11\,-15)
DTSTART;TZID=Europe/Berlin:20230415T140000
DTEND;TZID=Europe/Berlin:20230415T160000
LOCATION:ZŠ Dolní Břežany\, Na Vršku 290 Dolní Břežany
SUMMARY:PP-U14Z-7-A: Olymp Praha B-Orion Praha A
END:VEVENT
END:VCALENDAR
