BEGIN:VCALENDAR
VERSION:2.0
PRODID:-//Meteor Praha A80243//NONSGML kigkonsult.se iCalcreator 2.41.80//
CALSCALE:GREGORIAN
UID:61383539-3635-4537-b536-653733306661
BEGIN:VEVENT
UID:36656632-6236-4164-a530-353832393331
DTSTAMP:20260422T164602Z
DESCRIPTION:1/2 Meteor Praha A - Mikulova A 2:1 (13\,-24\,9)
DTSTART;TZID=Europe/Berlin:20221001T130000
DTEND;TZID=Europe/Berlin:20221001T150000
LOCATION:SKŠ ZŠ Mikulova Praha\, Mikulova 1594 Praha - Chodov
SUMMARY:PP-U14Z-1-B: Meteor Praha A-Mikulova A
END:VEVENT
BEGIN:VEVENT
UID:33316630-3866-4139-b033-336261623130
DTSTAMP:20260422T164602Z
DESCRIPTION:3/5 Meteor Praha A - Střešovice 0:2 (-20\,-13)
DTSTART;TZID=Europe/Berlin:20221001T160000
DTEND;TZID=Europe/Berlin:20221001T180000
LOCATION:SKŠ ZŠ Mikulova Praha\, Mikulova 1594 Praha - Chodov
SUMMARY:PP-U14Z-1-B: Meteor Praha A-Střešovice
END:VEVENT
BEGIN:VEVENT
UID:30376539-6238-4238-b738-376238363562
DTSTAMP:20260422T164602Z
DESCRIPTION:2/4 Kometa Praha A - Meteor Praha A 2:0 (17\,12)
DTSTART;TZID=Europe/Berlin:20221001T150000
DTEND;TZID=Europe/Berlin:20221001T170000
LOCATION:SKŠ ZŠ Mikulova Praha\, Mikulova 1594 Praha - Chodov
SUMMARY:PP-U14Z-1-B: Kometa Praha A-Meteor Praha A
END:VEVENT
BEGIN:VEVENT
UID:39313732-3039-4135-b864-623939653932
DTSTAMP:20260422T164602Z
DESCRIPTION:1/1 Meteor Praha A - TJ Sokol Horní Počernice 2:1 (-20\,21\,5)
DTSTART;TZID=Europe/Berlin:20221105T090000
DTEND;TZID=Europe/Berlin:20221105T110000
LOCATION:Sokolovna Braník\, Branická 275 Praha - Braník
SUMMARY:PP-U14Z-2-C: Meteor Praha A-TJ Sokol Horní Počernice
END:VEVENT
BEGIN:VEVENT
UID:31633164-3537-4434-b065-613562653838
DTSTAMP:20260422T164602Z
DESCRIPTION:4/4 Meteor Praha A - TJ ABC Braník 0:2 (-15\,-22)
DTSTART;TZID=Europe/Berlin:20221105T120000
DTEND;TZID=Europe/Berlin:20221105T140000
LOCATION:Sokolovna Braník\, Branická 275 Praha - Braník
SUMMARY:PP-U14Z-2-C: Meteor Praha A-TJ ABC Braník
END:VEVENT
BEGIN:VEVENT
UID:34363065-3736-4537-a431-366438633935
DTSTAMP:20260422T164602Z
DESCRIPTION:6/6 Studio Sport - Meteor Praha A 1:2 (16\,-16\,-14)
DTSTART;TZID=Europe/Berlin:20221105T140000
DTEND;TZID=Europe/Berlin:20221105T160000
LOCATION:Sokolovna Braník\, Branická 275 Praha - Braník
SUMMARY:PP-U14Z-2-C: Studio Sport-Meteor Praha A
END:VEVENT
BEGIN:VEVENT
UID:34646335-3737-4165-b462-383035366235
DTSTAMP:20260422T164602Z
DESCRIPTION:2/2 Meteor Praha A - Studio Sport 2:1 (18\,-18\,9)
DTSTART;TZID=Europe/Berlin:20221203T100000
DTEND;TZID=Europe/Berlin:20221203T120000
LOCATION:Sportovní hala Slavia Praha\, Vladivostocká 1460 Praha - Vršovice
SUMMARY:PP-U14Z-3-C: Meteor Praha A-Studio Sport
END:VEVENT
BEGIN:VEVENT
UID:39336564-3937-4435-b161-343937653835
DTSTAMP:20260422T164602Z
DESCRIPTION:5/5 Meteor Praha A - Slavia Praha 2:0 (19\,15)
DTSTART;TZID=Europe/Berlin:20221203T130000
DTEND;TZID=Europe/Berlin:20221203T150000
LOCATION:Sportovní hala Slavia Praha\, Vladivostocká 1460 Praha - Vršovice
SUMMARY:PP-U14Z-3-C: Meteor Praha A-Slavia Praha
END:VEVENT
BEGIN:VEVENT
UID:64393030-3662-4462-a266-366161313731
DTSTAMP:20260422T164602Z
DESCRIPTION:4/4 Mikulova B - Meteor Praha A 0:2 (-25\,-13)
DTSTART;TZID=Europe/Berlin:20221203T120000
DTEND;TZID=Europe/Berlin:20221203T140000
LOCATION:Sportovní hala Slavia Praha\, Vladivostocká 1460 Praha - Vršovice
SUMMARY:PP-U14Z-3-C: Mikulova B-Meteor Praha A
END:VEVENT
BEGIN:VEVENT
UID:34386335-6132-4133-b666-613162336238
DTSTAMP:20260422T164602Z
DESCRIPTION:3/3 Meteor Praha A - Mikulova A 1:2 (-17\,9\,-13)
DTSTART;TZID=Europe/Berlin:20230107T110000
DTEND;TZID=Europe/Berlin:20230107T130000
LOCATION:Sokolovna Braník\, Branická 275 Praha - Braník
SUMMARY:PP-U14Z-4-B: Meteor Praha A-Mikulova A
END:VEVENT
BEGIN:VEVENT
UID:37623635-3465-4136-b533-356135666434
DTSTAMP:20260422T164602Z
DESCRIPTION:1/1 Kometa Praha A - Meteor Praha A 2:0 (7\,22)
DTSTART;TZID=Europe/Berlin:20230107T090000
DTEND;TZID=Europe/Berlin:20230107T110000
LOCATION:Sokolovna Braník\, Branická 275 Praha - Braník
SUMMARY:PP-U14Z-4-B: Kometa Praha A-Meteor Praha A
END:VEVENT
BEGIN:VEVENT
UID:38386533-3031-4136-a636-353161303930
DTSTAMP:20260422T164602Z
DESCRIPTION:5/5 TJ ABC Braník - Meteor Praha A 2:0 (15\,20)
DTSTART;TZID=Europe/Berlin:20230107T130000
DTEND;TZID=Europe/Berlin:20230107T150000
LOCATION:Sokolovna Braník\, Branická 275 Praha - Braník
SUMMARY:PP-U14Z-4-B: TJ ABC Braník-Meteor Praha A
END:VEVENT
BEGIN:VEVENT
UID:36323065-3437-4061-b834-633132333936
DTSTAMP:20260422T164602Z
DESCRIPTION:1/1 Meteor Praha A - Sokol Praha Vršovice 2:0 (18\,19)
DTSTART;TZID=Europe/Berlin:20230128T090000
DTEND;TZID=Europe/Berlin:20230128T110000
LOCATION:SKŠ ZŠ Mikulova Praha\, Mikulova 1594 Praha - Chodov
SUMMARY:PP-U14Z-5-C: Meteor Praha A-Sokol Praha Vršovice
END:VEVENT
BEGIN:VEVENT
UID:61316234-6539-4039-b638-396233386264
DTSTAMP:20260422T164602Z
DESCRIPTION:4/4 Meteor Praha A - Studio Sport 2:0 (21\,7)
DTSTART;TZID=Europe/Berlin:20230128T120000
DTEND;TZID=Europe/Berlin:20230128T140000
LOCATION:SKŠ ZŠ Mikulova Praha\, Mikulova 1594 Praha - Chodov
SUMMARY:PP-U14Z-5-C: Meteor Praha A-Studio Sport
END:VEVENT
BEGIN:VEVENT
UID:65343064-6262-4461-b166-343064373936
DTSTAMP:20260422T164602Z
DESCRIPTION:6/6 Mikulova B - Meteor Praha A 2:0 (13\,13)
DTSTART;TZID=Europe/Berlin:20230128T140000
DTEND;TZID=Europe/Berlin:20230128T160000
LOCATION:SKŠ ZŠ Mikulova Praha\, Mikulova 1594 Praha - Chodov
SUMMARY:PP-U14Z-5-C: Mikulova B-Meteor Praha A
END:VEVENT
BEGIN:VEVENT
UID:33636238-3366-4135-b466-336263373433
DTSTAMP:20260422T164602Z
DESCRIPTION:1/2 Meteor Praha A - Sokol Praha Vršovice 2:0 (18\,19)
DTSTART;TZID=Europe/Berlin:20230304T090000
DTEND;TZID=Europe/Berlin:20230304T110000
LOCATION:Sokol Bubeneč\, Korunovační 630 Praha - Bubeneč
SUMMARY:PP-U14Z-6-C: Meteor Praha A-Sokol Praha Vršovice
END:VEVENT
BEGIN:VEVENT
UID:37346664-6161-4862-a234-383663663332
DTSTAMP:20260422T164602Z
DESCRIPTION:3/5 Meteor Praha A - TJ Sokol Horní Počernice 2:0 (27\,19)
DTSTART;TZID=Europe/Berlin:20230304T110000
DTEND;TZID=Europe/Berlin:20230304T130000
LOCATION:Sokol Bubeneč\, Korunovační 630 Praha - Bubeneč
SUMMARY:PP-U14Z-6-C: Meteor Praha A-TJ Sokol Horní Počernice
END:VEVENT
BEGIN:VEVENT
UID:39366464-6636-4233-b463-643731303063
DTSTAMP:20260422T164602Z
DESCRIPTION:2/4 VK Lvi Praha - Meteor Praha A 2:0 (20\,23)
DTSTART;TZID=Europe/Berlin:20230304T100000
DTEND;TZID=Europe/Berlin:20230304T120000
LOCATION:Sokol Bubeneč\, Korunovační 630 Praha - Bubeneč
SUMMARY:PP-U14Z-6-C: VK Lvi Praha-Meteor Praha A
END:VEVENT
BEGIN:VEVENT
UID:66333761-6162-4562-a535-396636373063
DTSTAMP:20260422T164602Z
DESCRIPTION:2/2 Meteor Praha A - Sokol Praha Vršovice 2:0 (14\,25)
DTSTART;TZID=Europe/Berlin:20230415T100000
DTEND;TZID=Europe/Berlin:20230415T120000
LOCATION:ZŠ Žernosecká\, Žernosecká 1597 Praha - Kobylisy
SUMMARY:PP-U14Z-7-C: Meteor Praha A-Sokol Praha Vršovice
END:VEVENT
BEGIN:VEVENT
UID:63643732-3936-4934-a363-303966626262
DTSTAMP:20260422T164602Z
DESCRIPTION:5/5 Meteor Praha A - Slavia Praha 2:1 (21\,-21\,10)
DTSTART;TZID=Europe/Berlin:20230415T130000
DTEND;TZID=Europe/Berlin:20230415T150000
LOCATION:ZŠ Žernosecká\, Žernosecká 1597 Praha - Kobylisy
SUMMARY:PP-U14Z-7-C: Meteor Praha A-Slavia Praha
END:VEVENT
BEGIN:VEVENT
UID:34613733-3661-4633-b236-653764653133
DTSTAMP:20260422T164602Z
DESCRIPTION:4/4 Mikulova A - Meteor Praha A 0:2 (-22\,-23)
DTSTART;TZID=Europe/Berlin:20230415T120000
DTEND;TZID=Europe/Berlin:20230415T140000
LOCATION:ZŠ Žernosecká\, Žernosecká 1597 Praha - Kobylisy
SUMMARY:PP-U14Z-7-C: Mikulova A-Meteor Praha A
END:VEVENT
END:VCALENDAR
