BEGIN:VCALENDAR
VERSION:2.0
PRODID:-//Lvi Praha B80272//NONSGML kigkonsult.se iCalcreator 2.41.80//
CALSCALE:GREGORIAN
UID:61376364-6538-4638-a239-363036663735
BEGIN:VEVENT
UID:66363063-3532-4632-b630-383966663466
DTSTAMP:20260423T111511Z
DESCRIPTION:1/1 Lvi Praha B - Sokol Praha Vršovice 3:1 (22\,-19\,18\,16)
DTSTART;TZID=Europe/Berlin:20221008T090000
DTEND;TZID=Europe/Berlin:20221008T110000
LOCATION:FZŠ Mezi Školami\, Mezi školami 2322 Praha - Stodůlky
SUMMARY:PP-U18Z-1-E: Lvi Praha B-Sokol Praha Vršovice
END:VEVENT
BEGIN:VEVENT
UID:34316530-6165-4961-b537-306463646431
DTSTAMP:20260423T111511Z
DESCRIPTION:2/2 SAVO Praha B - Lvi Praha B 0:3 (-8\,-13\,-16)
DTSTART;TZID=Europe/Berlin:20221008T100000
DTEND;TZID=Europe/Berlin:20221008T120000
LOCATION:FZŠ Mezi Školami\, Mezi školami 2322 Praha - Stodůlky
SUMMARY:PP-U18Z-1-E: SAVO Praha B-Lvi Praha B
END:VEVENT
BEGIN:VEVENT
UID:64323665-6538-4531-b739-626438356238
DTSTAMP:20260423T111511Z
DESCRIPTION:3/3 Lvi Praha B - Mikulova D 3:0 (22\,24\,23)
DTSTART;TZID=Europe/Berlin:20221112T110000
DTEND;TZID=Europe/Berlin:20221112T130000
LOCATION:SKŠ ZŠ Mikulova Praha\, Mikulova 1594 Praha - Chodov
SUMMARY:PP-U18Z-2-D: Lvi Praha B-Mikulova D
END:VEVENT
BEGIN:VEVENT
UID:30333036-3732-4036-b730-623838623166
DTSTAMP:20260423T111511Z
DESCRIPTION:1/1 SK JOKY - Lvi Praha B 1:3 (-15\,-24\,20\,-20)
DTSTART;TZID=Europe/Berlin:20221112T090000
DTEND;TZID=Europe/Berlin:20221112T110000
LOCATION:SKŠ ZŠ Mikulova Praha\, Mikulova 1594 Praha - Chodov
SUMMARY:PP-U18Z-2-D: SK JOKY-Lvi Praha B
END:VEVENT
BEGIN:VEVENT
UID:64326666-3533-4433-b533-376465393135
DTSTAMP:20260423T111511Z
DESCRIPTION:3/3 Lvi Praha B - Orion Praha B 2:1 (-28\,20\,11)
DTSTART;TZID=Europe/Berlin:20221210T110000
DTEND;TZID=Europe/Berlin:20221210T130000
LOCATION:Tělocvična ZŠ\, Španielova 1111 Praha - Řepy
SUMMARY:PP-U18Z-3-C: Lvi Praha B-Orion Praha B
END:VEVENT
BEGIN:VEVENT
UID:64343534-3431-4466-b962-633231636230
DTSTAMP:20260423T111511Z
DESCRIPTION:1/1 Španielka B - Lvi Praha B 2:1 (-21\,22\,9)
DTSTART;TZID=Europe/Berlin:20221210T090000
DTEND;TZID=Europe/Berlin:20221210T110000
LOCATION:Tělocvična ZŠ\, Španielova 1111 Praha - Řepy
SUMMARY:PP-U18Z-3-C: Španielka B-Lvi Praha B
END:VEVENT
BEGIN:VEVENT
UID:37393035-6236-4836-b834-313162643562
DTSTAMP:20260423T111511Z
DESCRIPTION:5/5 Radotínský SK - Lvi Praha B 0:2 (-12\,-8)
DTSTART;TZID=Europe/Berlin:20221210T130000
DTEND;TZID=Europe/Berlin:20221210T150000
LOCATION:Tělocvična ZŠ\, Španielova 1111 Praha - Řepy
SUMMARY:PP-U18Z-3-C: Radotínský SK-Lvi Praha B
END:VEVENT
BEGIN:VEVENT
UID:36643163-6333-4365-b637-376266626563
DTSTAMP:20260423T111511Z
DESCRIPTION:2/2 Lvi Praha B - Orion Praha B 2:0 (23\,17)
DTSTART;TZID=Europe/Berlin:20230114T090000
DTEND;TZID=Europe/Berlin:20230114T110000
LOCATION:FZŠ Brdičkova\, Brdičkova 1878 Praha - Stodůlky
SUMMARY:PP-U18Z-4-C: Lvi Praha B-Orion Praha B
END:VEVENT
BEGIN:VEVENT
UID:38663336-6463-4265-a163-363139333134
DTSTAMP:20260423T111511Z
DESCRIPTION:5/5 Lvi Praha B - Kometa Praha B 2:0 (11\,15)
DTSTART;TZID=Europe/Berlin:20230114T110000
DTEND;TZID=Europe/Berlin:20230114T130000
LOCATION:FZŠ Brdičkova\, Brdičkova 1878 Praha - Stodůlky
SUMMARY:PP-U18Z-4-C: Lvi Praha B-Kometa Praha B
END:VEVENT
BEGIN:VEVENT
UID:63663137-6134-4835-b163-643230396338
DTSTAMP:20260423T111511Z
DESCRIPTION:4/4 TJ HP - Lvi Praha B 2:1 (17\,-26\,6)
DTSTART;TZID=Europe/Berlin:20230114T100000
DTEND;TZID=Europe/Berlin:20230114T120000
LOCATION:FZŠ Brdičkova\, Brdičkova 1878 Praha - Stodůlky
SUMMARY:PP-U18Z-4-C: TJ HP-Lvi Praha B
END:VEVENT
BEGIN:VEVENT
UID:38303732-3965-4963-b062-646566383963
DTSTAMP:20260423T111511Z
DESCRIPTION:2/2 Lvi Praha B - Orion Praha B 2:1 (22\,-20\,14)
DTSTART;TZID=Europe/Berlin:20230218T100000
DTEND;TZID=Europe/Berlin:20230218T120000
LOCATION:Sokolovna Vršovice\, Sportovní 111 Praha - Vršovice
SUMMARY:PP-U18Z-5-C: Lvi Praha B-Orion Praha B
END:VEVENT
BEGIN:VEVENT
UID:62616433-3361-4438-b535-653663386661
DTSTAMP:20260423T111511Z
DESCRIPTION:5/5 Lvi Praha B - Sokol Praha Vršovice 2:0 (0\,0)
DTSTART;TZID=Europe/Berlin:20230218T130000
DTEND;TZID=Europe/Berlin:20230218T150000
LOCATION:Sokolovna Vršovice\, Sportovní 111 Praha - Vršovice
SUMMARY:PP-U18Z-5-C: Lvi Praha B-Sokol Praha Vršovice
END:VEVENT
BEGIN:VEVENT
UID:39366561-3732-4765-a565-613432333363
DTSTAMP:20260423T111511Z
DESCRIPTION:4/4 Španielka B - Lvi Praha B 2:0 (22\,20)
DTSTART;TZID=Europe/Berlin:20230218T120000
DTEND;TZID=Europe/Berlin:20230218T140000
LOCATION:Sokolovna Vršovice\, Sportovní 111 Praha - Vršovice
SUMMARY:PP-U18Z-5-C: Španielka B-Lvi Praha B
END:VEVENT
BEGIN:VEVENT
UID:65616162-3933-4439-a364-326436343033
DTSTAMP:20260423T111511Z
DESCRIPTION:6/6 Lvi Praha B - TJ ABC Braník 0:2 (-16\,-15)
DTSTART;TZID=Europe/Berlin:20230401T140000
DTEND;TZID=Europe/Berlin:20230401T160000
LOCATION:SKŠ ZŠ Mikulova Praha\, Mikulova 1594 Praha - Chodov
SUMMARY:PP-U18Z-6-C: Lvi Praha B-TJ ABC Braník
END:VEVENT
BEGIN:VEVENT
UID:37663533-6539-4037-b665-643463633864
DTSTAMP:20260423T111511Z
DESCRIPTION:2/2 Orion Praha B - Lvi Praha B 2:1 (16\,-15\,12)
DTSTART;TZID=Europe/Berlin:20230401T100000
DTEND;TZID=Europe/Berlin:20230401T120000
LOCATION:SKŠ ZŠ Mikulova Praha\, Mikulova 1594 Praha - Chodov
SUMMARY:PP-U18Z-6-C: Orion Praha B-Lvi Praha B
END:VEVENT
BEGIN:VEVENT
UID:38353439-3766-4431-b232-393830343139
DTSTAMP:20260423T111511Z
DESCRIPTION:3/3 Mikulova C - Lvi Praha B 1:2 (-16\,20\,-12)
DTSTART;TZID=Europe/Berlin:20230401T110000
DTEND;TZID=Europe/Berlin:20230401T130000
LOCATION:SKŠ ZŠ Mikulova Praha\, Mikulova 1594 Praha - Chodov
SUMMARY:PP-U18Z-6-C: Mikulova C-Lvi Praha B
END:VEVENT
END:VCALENDAR
