BEGIN:VCALENDAR
VERSION:2.0
PRODID:-//Slavia Praha80287//NONSGML kigkonsult.se iCalcreator 2.41.80//
CALSCALE:GREGORIAN
UID:31663338-6638-4763-a535-356133373537
BEGIN:VEVENT
UID:35633039-6235-4534-a566-633336326437
DTSTAMP:20260423T050033Z
DESCRIPTION:3/3 Slavia Praha - Dansport Praha 2:1 (-23\,17\,8)
DTSTART;TZID=Europe/Berlin:20221008T110000
DTEND;TZID=Europe/Berlin:20221008T130000
LOCATION:Sportovní hala Slavia Praha\, Vladivostocká 1460 Praha - Vršovice
SUMMARY:PP-U18Z-1-A: Slavia Praha-Dansport Praha
END:VEVENT
BEGIN:VEVENT
UID:36613130-3232-4133-b734-663861323839
DTSTAMP:20260423T050033Z
DESCRIPTION:1/1 Mikulova B - Slavia Praha 2:0 (23\,19)
DTSTART;TZID=Europe/Berlin:20221008T090000
DTEND;TZID=Europe/Berlin:20221008T110000
LOCATION:Sportovní hala Slavia Praha\, Vladivostocká 1460 Praha - Vršovice
SUMMARY:PP-U18Z-1-A: Mikulova B-Slavia Praha
END:VEVENT
BEGIN:VEVENT
UID:33363938-3532-4661-b833-336661386333
DTSTAMP:20260423T050033Z
DESCRIPTION:5/5 TJ ABC Braník - Slavia Praha 0:2 (-16\,-19)
DTSTART;TZID=Europe/Berlin:20221008T130000
DTEND;TZID=Europe/Berlin:20221008T150000
LOCATION:Sportovní hala Slavia Praha\, Vladivostocká 1460 Praha - Vršovice
SUMMARY:PP-U18Z-1-A: TJ ABC Braník-Slavia Praha
END:VEVENT
BEGIN:VEVENT
UID:63653762-6366-4138-b863-663065643562
DTSTAMP:20260423T050033Z
DESCRIPTION:2/2 Slavia Praha - TJ ABC Braník 2:1 (17\,-21\,5)
DTSTART;TZID=Europe/Berlin:20221112T100000
DTEND;TZID=Europe/Berlin:20221112T120000
LOCATION:SKŠ ZŠ Mikulova Praha\, Mikulova 1594 Praha - Chodov
SUMMARY:PP-U18Z-2-A: Slavia Praha-TJ ABC Braník
END:VEVENT
BEGIN:VEVENT
UID:31653937-3662-4361-a531-633963633131
DTSTAMP:20260423T050033Z
DESCRIPTION:5/5 Slavia Praha - SAVO Praha A 0:2 (-11\,-16)
DTSTART;TZID=Europe/Berlin:20221112T130000
DTEND;TZID=Europe/Berlin:20221112T150000
LOCATION:SKŠ ZŠ Mikulova Praha\, Mikulova 1594 Praha - Chodov
SUMMARY:PP-U18Z-2-A: Slavia Praha-SAVO Praha A
END:VEVENT
BEGIN:VEVENT
UID:38326535-6666-4232-a334-376633616536
DTSTAMP:20260423T050033Z
DESCRIPTION:4/4 Mikulova B - Slavia Praha 2:0 (24\,12)
DTSTART;TZID=Europe/Berlin:20221112T120000
DTEND;TZID=Europe/Berlin:20221112T140000
LOCATION:SKŠ ZŠ Mikulova Praha\, Mikulova 1594 Praha - Chodov
SUMMARY:PP-U18Z-2-A: Mikulova B-Slavia Praha
END:VEVENT
BEGIN:VEVENT
UID:63373161-3933-4230-a231-313935383061
DTSTAMP:20260423T050033Z
DESCRIPTION:6/6 Slavia Praha - Mikulova B 2:0 (19\,23)
DTSTART;TZID=Europe/Berlin:20221210T140000
DTEND;TZID=Europe/Berlin:20221210T160000
LOCATION:FZŠ Mezi Školami\, Mezi školami 2322 Praha - Stodůlky
SUMMARY:PP-U18Z-3-A: Slavia Praha-Mikulova B
END:VEVENT
BEGIN:VEVENT
UID:66373764-3434-4161-a630-663438396464
DTSTAMP:20260423T050033Z
DESCRIPTION:2/2 SAVO Praha A - Slavia Praha 1:2 (21\,-22\,-10)
DTSTART;TZID=Europe/Berlin:20221210T100000
DTEND;TZID=Europe/Berlin:20221210T120000
LOCATION:FZŠ Mezi Školami\, Mezi školami 2322 Praha - Stodůlky
SUMMARY:PP-U18Z-3-A: SAVO Praha A-Slavia Praha
END:VEVENT
BEGIN:VEVENT
UID:36646563-3637-4536-b239-373030643936
DTSTAMP:20260423T050033Z
DESCRIPTION:3/3 Kometa Praha C - Slavia Praha 0:2 (-17\,-15)
DTSTART;TZID=Europe/Berlin:20221210T110000
DTEND;TZID=Europe/Berlin:20221210T130000
LOCATION:FZŠ Mezi Školami\, Mezi školami 2322 Praha - Stodůlky
SUMMARY:PP-U18Z-3-A: Kometa Praha C-Slavia Praha
END:VEVENT
BEGIN:VEVENT
UID:30663563-6363-4466-a566-626639636362
DTSTAMP:20260423T050033Z
DESCRIPTION:1/1 Slavia Praha - TJ ABC Braník 2:0 (17\,8)
DTSTART;TZID=Europe/Berlin:20230114T090000
DTEND;TZID=Europe/Berlin:20230114T110000
LOCATION:Jana\, Vladivostocká 1460 Praha - Vršovice
SUMMARY:PP-U18Z-4-A: Slavia Praha-TJ ABC Braník
END:VEVENT
BEGIN:VEVENT
UID:39393037-6334-4530-b133-333566353830
DTSTAMP:20260423T050033Z
DESCRIPTION:4/4 Slavia Praha - SAVO Praha A 0:2 (-19\,-22)
DTSTART;TZID=Europe/Berlin:20230114T120000
DTEND;TZID=Europe/Berlin:20230114T140000
LOCATION:Jana\, Vladivostocká 1460 Praha - Vršovice
SUMMARY:PP-U18Z-4-A: Slavia Praha-SAVO Praha A
END:VEVENT
BEGIN:VEVENT
UID:39393134-3463-4462-b833-313365346136
DTSTAMP:20260423T050033Z
DESCRIPTION:6/6 Mikulova B - Slavia Praha 2:0 (18\,13)
DTSTART;TZID=Europe/Berlin:20230114T140000
DTEND;TZID=Europe/Berlin:20230114T160000
LOCATION:Jana\, Vladivostocká 1460 Praha - Vršovice
SUMMARY:PP-U18Z-4-A: Mikulova B-Slavia Praha
END:VEVENT
BEGIN:VEVENT
UID:33666163-6534-4730-a135-326631643263
DTSTAMP:20260423T050033Z
DESCRIPTION:2/2 Slavia Praha - SAVO Praha A 0:2 (-10\,-14)
DTSTART;TZID=Europe/Berlin:20230218T100000
DTEND;TZID=Europe/Berlin:20230218T120000
LOCATION:Tělocvična ZŠ\, Španielova 1111 Praha - Řepy
SUMMARY:PP-U18Z-5-A: Slavia Praha-SAVO Praha A
END:VEVENT
BEGIN:VEVENT
UID:39323466-6639-4138-b337-306262333432
DTSTAMP:20260423T050033Z
DESCRIPTION:5/5 Slavia Praha - Španielka A 0:2 (-15\,-27)
DTSTART;TZID=Europe/Berlin:20230218T130000
DTEND;TZID=Europe/Berlin:20230218T150000
LOCATION:Tělocvična ZŠ\, Španielova 1111 Praha - Řepy
SUMMARY:PP-U18Z-5-A: Slavia Praha-Španielka A
END:VEVENT
BEGIN:VEVENT
UID:37626339-6363-4031-a538-643037313731
DTSTAMP:20260423T050033Z
DESCRIPTION:4/4 Mikulova B - Slavia Praha 1:2 (-17\,14\,-15)
DTSTART;TZID=Europe/Berlin:20230218T120000
DTEND;TZID=Europe/Berlin:20230218T140000
LOCATION:Tělocvična ZŠ\, Španielova 1111 Praha - Řepy
SUMMARY:PP-U18Z-5-A: Mikulova B-Slavia Praha
END:VEVENT
BEGIN:VEVENT
UID:35316363-6535-4436-a434-363834376439
DTSTAMP:20260423T050033Z
DESCRIPTION:1/1 Slavia Praha - Španielka B 0:2 (-20\,-20)
DTSTART;TZID=Europe/Berlin:20230401T090000
DTEND;TZID=Europe/Berlin:20230401T110000
LOCATION:Tělocvična ZŠ\, Španielova 1111 Praha - Řepy
SUMMARY:PP-U18Z-6-B: Slavia Praha-Španielka B
END:VEVENT
BEGIN:VEVENT
UID:61386136-3536-4935-b932-383231616262
DTSTAMP:20260423T050033Z
DESCRIPTION:4/4 Slavia Praha - Dansport Praha 2:1 (22\,-26\,13)
DTSTART;TZID=Europe/Berlin:20230401T120000
DTEND;TZID=Europe/Berlin:20230401T140000
LOCATION:Tělocvična ZŠ\, Španielova 1111 Praha - Řepy
SUMMARY:PP-U18Z-6-B: Slavia Praha-Dansport Praha
END:VEVENT
BEGIN:VEVENT
UID:61333463-3438-4239-b239-316337336532
DTSTAMP:20260423T050033Z
DESCRIPTION:6/6 Kometa Praha C - Slavia Praha 0:2 (-13\,-9)
DTSTART;TZID=Europe/Berlin:20230401T140000
DTEND;TZID=Europe/Berlin:20230401T160000
LOCATION:Tělocvična ZŠ\, Španielova 1111 Praha - Řepy
SUMMARY:PP-U18Z-6-B: Kometa Praha C-Slavia Praha
END:VEVENT
END:VCALENDAR
