BEGIN:VCALENDAR
VERSION:2.0
PRODID:-//Orion80316//NONSGML kigkonsult.se iCalcreator 2.41.80//
CALSCALE:GREGORIAN
UID:64363331-3730-4436-b230-353865353263
BEGIN:VEVENT
UID:36643538-6632-4335-a163-393263633132
DTSTAMP:20260423T044349Z
DESCRIPTION:6/6 Orion - Dansport 1:2 (19\,-19\,-11)
DTSTART;TZID=Europe/Berlin:20221022T110000
DTEND;TZID=Europe/Berlin:20221022T130000
LOCATION:Sokol Bubeneč\, Korunovační 630 Praha - Bubeneč
SUMMARY:PP-U18M-1-A: Orion-Dansport
END:VEVENT
BEGIN:VEVENT
UID:61613732-3939-4934-b066-326439663862
DTSTAMP:20260423T044349Z
DESCRIPTION:2/2 SK Meteor Praha - Orion 0:2 (-24\,-13)
DTSTART;TZID=Europe/Berlin:20221022T090000
DTEND;TZID=Europe/Berlin:20221022T110000
LOCATION:Sokol Bubeneč\, Korunovační 630 Praha - Bubeneč
SUMMARY:PP-U18M-1-A: SK Meteor Praha-Orion
END:VEVENT
BEGIN:VEVENT
UID:36653261-6539-4866-b636-356535306635
DTSTAMP:20260423T044349Z
DESCRIPTION:3/3 Sokol Praha Vršovice - Orion 0:2 (-20\,-17)
DTSTART;TZID=Europe/Berlin:20221022T100000
DTEND;TZID=Europe/Berlin:20221022T120000
LOCATION:Sokol Bubeneč\, Korunovační 630 Praha - Bubeneč
SUMMARY:PP-U18M-1-A: Sokol Praha Vršovice-Orion
END:VEVENT
BEGIN:VEVENT
UID:36353430-6362-4561-b861-343766306663
DTSTAMP:20260423T044349Z
DESCRIPTION:6/6 Orion - Dansport 0:2 (-20\,-18)
DTSTART;TZID=Europe/Berlin:20221126T110000
DTEND;TZID=Europe/Berlin:20221126T130000
LOCATION:Sokol Bubeneč\, Korunovační 630 Praha - Bubeneč
SUMMARY:PP-U18M-2-A: Orion-Dansport
END:VEVENT
BEGIN:VEVENT
UID:66316566-6635-4732-b335-326264316430
DTSTAMP:20260423T044349Z
DESCRIPTION:2/2 SK Meteor Praha - Orion 0:2 (-21\,-16)
DTSTART;TZID=Europe/Berlin:20221126T090000
DTEND;TZID=Europe/Berlin:20221126T110000
LOCATION:Sokol Bubeneč\, Korunovační 630 Praha - Bubeneč
SUMMARY:PP-U18M-2-A: SK Meteor Praha-Orion
END:VEVENT
BEGIN:VEVENT
UID:39616439-3266-4238-b264-633937373239
DTSTAMP:20260423T044349Z
DESCRIPTION:3/3 Sokol Praha Vršovice - Orion 0:2 (-12\,-8)
DTSTART;TZID=Europe/Berlin:20221126T100000
DTEND;TZID=Europe/Berlin:20221126T120000
LOCATION:Sokol Bubeneč\, Korunovační 630 Praha - Bubeneč
SUMMARY:PP-U18M-2-A: Sokol Praha Vršovice-Orion
END:VEVENT
BEGIN:VEVENT
UID:64666530-3665-4636-a231-313133643032
DTSTAMP:20260423T044349Z
DESCRIPTION:6/6 Orion - Dansport 2:0 (17\,23)
DTSTART;TZID=Europe/Berlin:20221217T110000
DTEND;TZID=Europe/Berlin:20221217T130000
LOCATION:Sokol Bubeneč\, Korunovační 630 Praha - Bubeneč
SUMMARY:PP-U18M-3-A: Orion-Dansport
END:VEVENT
BEGIN:VEVENT
UID:30336136-3762-4537-a136-323033386638
DTSTAMP:20260423T044349Z
DESCRIPTION:2/2 SK Meteor Praha - Orion 0:2 (-12\,-22)
DTSTART;TZID=Europe/Berlin:20221217T090000
DTEND;TZID=Europe/Berlin:20221217T110000
LOCATION:Sokol Bubeneč\, Korunovační 630 Praha - Bubeneč
SUMMARY:PP-U18M-3-A: SK Meteor Praha-Orion
END:VEVENT
BEGIN:VEVENT
UID:65316333-6235-4030-b262-646665383136
DTSTAMP:20260423T044349Z
DESCRIPTION:3/3 Sokol Praha Vršovice - Orion 0:2 (-16\,-8)
DTSTART;TZID=Europe/Berlin:20221217T100000
DTEND;TZID=Europe/Berlin:20221217T120000
LOCATION:Sokol Bubeneč\, Korunovační 630 Praha - Bubeneč
SUMMARY:PP-U18M-3-A: Sokol Praha Vršovice-Orion
END:VEVENT
BEGIN:VEVENT
UID:32656237-3462-4333-b264-646130313933
DTSTAMP:20260423T044349Z
DESCRIPTION:6/6 Orion - Dansport 1:2 (24\,-22\,-10)
DTSTART;TZID=Europe/Berlin:20230128T110000
DTEND;TZID=Europe/Berlin:20230128T130000
LOCATION:Sokol Bubeneč\, Korunovační 630 Praha - Bubeneč
SUMMARY:PP-U18M-4-A: Orion-Dansport
END:VEVENT
BEGIN:VEVENT
UID:35633438-3736-4236-a536-633630333636
DTSTAMP:20260423T044349Z
DESCRIPTION:2/2 SK Meteor Praha - Orion 0:2 (-9\,-13)
DTSTART;TZID=Europe/Berlin:20230128T090000
DTEND;TZID=Europe/Berlin:20230128T110000
LOCATION:Sokol Bubeneč\, Korunovační 630 Praha - Bubeneč
SUMMARY:PP-U18M-4-A: SK Meteor Praha-Orion
END:VEVENT
BEGIN:VEVENT
UID:63343264-3933-4861-b932-626139316365
DTSTAMP:20260423T044349Z
DESCRIPTION:3/3 Sokol Praha Vršovice - Orion 0:2 (-17\,-9)
DTSTART;TZID=Europe/Berlin:20230128T100000
DTEND;TZID=Europe/Berlin:20230128T120000
LOCATION:Sokol Bubeneč\, Korunovační 630 Praha - Bubeneč
SUMMARY:PP-U18M-4-A: Sokol Praha Vršovice-Orion
END:VEVENT
BEGIN:VEVENT
UID:36616561-3633-4237-a438-393832326236
DTSTAMP:20260423T044349Z
DESCRIPTION:6/6 Orion - Dansport 1:2 (-21\,16\,-11)
DTSTART;TZID=Europe/Berlin:20230325T110000
DTEND;TZID=Europe/Berlin:20230325T130000
LOCATION:Sokol Bubeneč\, Korunovační 630 Praha - Bubeneč
SUMMARY:PP-U18M-5-A: Orion-Dansport
END:VEVENT
BEGIN:VEVENT
UID:31306165-3436-4438-b133-653866386139
DTSTAMP:20260423T044349Z
DESCRIPTION:2/2 SK Meteor Praha - Orion 0:2 (-15\,-14)
DTSTART;TZID=Europe/Berlin:20230325T090000
DTEND;TZID=Europe/Berlin:20230325T110000
LOCATION:Sokol Bubeneč\, Korunovační 630 Praha - Bubeneč
SUMMARY:PP-U18M-5-A: SK Meteor Praha-Orion
END:VEVENT
BEGIN:VEVENT
UID:63643766-3437-4235-a438-323533663831
DTSTAMP:20260423T044349Z
DESCRIPTION:3/3 Sokol Praha Vršovice - Orion 0:2 (-19\,-17)
DTSTART;TZID=Europe/Berlin:20230325T100000
DTEND;TZID=Europe/Berlin:20230325T120000
LOCATION:Sokol Bubeneč\, Korunovační 630 Praha - Bubeneč
SUMMARY:PP-U18M-5-A: Sokol Praha Vršovice-Orion
END:VEVENT
END:VCALENDAR
