BEGIN:VCALENDAR
VERSION:2.0
PRODID:-//VK Lvi Praha B80319//NONSGML kigkonsult.se iCalcreator 2.41.80//
CALSCALE:GREGORIAN
UID:32393062-3939-4738-b430-326538396335
BEGIN:VEVENT
UID:35383263-3864-4036-b930-383638373062
DTSTAMP:20260422T224154Z
DESCRIPTION:7/7 VK Lvi Praha B - Orion Praha B 2:1 (-20\,19\,14)
DTSTART;TZID=Europe/Berlin:20221016T120000
DTEND;TZID=Europe/Berlin:20221016T140000
LOCATION:Sokol Bubeneč\, Korunovační 630 Praha - Bubeneč
SUMMARY:PP-U20M-1-A: VK Lvi Praha B-Orion Praha B
END:VEVENT
BEGIN:VEVENT
UID:63323636-6530-4235-a362-626462643162
DTSTAMP:20260422T224154Z
DESCRIPTION:9/9 VK Lvi Praha B - SK Meteor Praha 2:0 (9\,22)
DTSTART;TZID=Europe/Berlin:20221016T130000
DTEND;TZID=Europe/Berlin:20221016T150000
LOCATION:Sokol Bubeneč\, Korunovační 630 Praha - Bubeneč
SUMMARY:PP-U20M-1-A: VK Lvi Praha B-SK Meteor Praha
END:VEVENT
BEGIN:VEVENT
UID:38383534-3363-4535-a435-326538363631
DTSTAMP:20260422T224154Z
DESCRIPTION:2/2 SK Prosek B - VK Lvi Praha B 0:2 (-11\,-14)
DTSTART;TZID=Europe/Berlin:20221016T090000
DTEND;TZID=Europe/Berlin:20221016T110000
LOCATION:Sokol Bubeneč\, Korunovační 630 Praha - Bubeneč
SUMMARY:PP-U20M-1-A: SK Prosek B-VK Lvi Praha B
END:VEVENT
BEGIN:VEVENT
UID:66333338-3436-4663-b031-396433623165
DTSTAMP:20260422T224154Z
DESCRIPTION:5/5 Dansport - VK Lvi Praha B 2:1 (-23\,15\,7)
DTSTART;TZID=Europe/Berlin:20221016T110000
DTEND;TZID=Europe/Berlin:20221016T130000
LOCATION:Sokol Bubeneč\, Korunovační 630 Praha - Bubeneč
SUMMARY:PP-U20M-1-A: Dansport-VK Lvi Praha B
END:VEVENT
BEGIN:VEVENT
UID:62356464-6535-4430-b766-633033323731
DTSTAMP:20260422T224154Z
DESCRIPTION:7/7 VK Lvi Praha B - Orion Praha B 2:0 (23\,21)
DTSTART;TZID=Europe/Berlin:20221120T120000
DTEND;TZID=Europe/Berlin:20221120T140000
LOCATION:Sokol Bubeneč\, Korunovační 630 Praha - Bubeneč
SUMMARY:PP-U20M-2-A: VK Lvi Praha B-Orion Praha B
END:VEVENT
BEGIN:VEVENT
UID:30386364-3932-4862-b265-366565346165
DTSTAMP:20260422T224154Z
DESCRIPTION:9/9 VK Lvi Praha B - SK Meteor Praha 1:2 (-28\,19\,-11)
DTSTART;TZID=Europe/Berlin:20221120T130000
DTEND;TZID=Europe/Berlin:20221120T150000
LOCATION:Sokol Bubeneč\, Korunovační 630 Praha - Bubeneč
SUMMARY:PP-U20M-2-A: VK Lvi Praha B-SK Meteor Praha
END:VEVENT
BEGIN:VEVENT
UID:31623764-3739-4266-b736-376665623431
DTSTAMP:20260422T224154Z
DESCRIPTION:2/2 SK Prosek B - VK Lvi Praha B 1:2 (-22\,14\,-11)
DTSTART;TZID=Europe/Berlin:20221120T090000
DTEND;TZID=Europe/Berlin:20221120T110000
LOCATION:Sokol Bubeneč\, Korunovační 630 Praha - Bubeneč
SUMMARY:PP-U20M-2-A: SK Prosek B-VK Lvi Praha B
END:VEVENT
BEGIN:VEVENT
UID:66333265-6237-4362-a635-363034333966
DTSTAMP:20260422T224154Z
DESCRIPTION:5/5 Dansport - VK Lvi Praha B 2:0 (17\,17)
DTSTART;TZID=Europe/Berlin:20221120T110000
DTEND;TZID=Europe/Berlin:20221120T130000
LOCATION:Sokol Bubeneč\, Korunovační 630 Praha - Bubeneč
SUMMARY:PP-U20M-2-A: Dansport-VK Lvi Praha B
END:VEVENT
BEGIN:VEVENT
UID:61663036-6539-4134-a437-656465643763
DTSTAMP:20260422T224154Z
DESCRIPTION:7/7 VK Lvi Praha B - Orion Praha B 2:1 (17\,-19\,10)
DTSTART;TZID=Europe/Berlin:20221218T120000
DTEND;TZID=Europe/Berlin:20221218T140000
LOCATION:Sokol Bubeneč\, Korunovační 630 Praha - Bubeneč
SUMMARY:PP-U20M-3-A: VK Lvi Praha B-Orion Praha B
END:VEVENT
BEGIN:VEVENT
UID:61323361-3038-4131-b637-666235616135
DTSTAMP:20260422T224154Z
DESCRIPTION:9/9 VK Lvi Praha B - SK Meteor Praha 0:2 (-22\,-20)
DTSTART;TZID=Europe/Berlin:20221218T130000
DTEND;TZID=Europe/Berlin:20221218T150000
LOCATION:Sokol Bubeneč\, Korunovační 630 Praha - Bubeneč
SUMMARY:PP-U20M-3-A: VK Lvi Praha B-SK Meteor Praha
END:VEVENT
BEGIN:VEVENT
UID:30323861-6433-4233-b731-383939393635
DTSTAMP:20260422T224154Z
DESCRIPTION:2/2 SK Prosek B - VK Lvi Praha B 1:2 (24\,-22\,-7)
DTSTART;TZID=Europe/Berlin:20221218T090000
DTEND;TZID=Europe/Berlin:20221218T110000
LOCATION:Sokol Bubeneč\, Korunovační 630 Praha - Bubeneč
SUMMARY:PP-U20M-3-A: SK Prosek B-VK Lvi Praha B
END:VEVENT
BEGIN:VEVENT
UID:62663264-6339-4265-b334-623730303232
DTSTAMP:20260422T224154Z
DESCRIPTION:5/5 Dansport - VK Lvi Praha B 2:0 (17\,14)
DTSTART;TZID=Europe/Berlin:20221218T110000
DTEND;TZID=Europe/Berlin:20221218T130000
LOCATION:Sokol Bubeneč\, Korunovační 630 Praha - Bubeneč
SUMMARY:PP-U20M-3-A: Dansport-VK Lvi Praha B
END:VEVENT
BEGIN:VEVENT
UID:63313638-3466-4161-b761-613430323230
DTSTAMP:20260422T224154Z
DESCRIPTION:7/7 VK Lvi Praha B - Orion Praha B 2:0 (21\,19)
DTSTART;TZID=Europe/Berlin:20230122T120000
DTEND;TZID=Europe/Berlin:20230122T140000
LOCATION:Sokol Bubeneč\, Korunovační 630 Praha - Bubeneč
SUMMARY:PP-U20M-4-A: VK Lvi Praha B-Orion Praha B
END:VEVENT
BEGIN:VEVENT
UID:32623835-3233-4163-b037-363465346434
DTSTAMP:20260422T224154Z
DESCRIPTION:9/9 VK Lvi Praha B - SK Meteor Praha 0:2 (-19\,-21)
DTSTART;TZID=Europe/Berlin:20230122T130000
DTEND;TZID=Europe/Berlin:20230122T150000
LOCATION:Sokol Bubeneč\, Korunovační 630 Praha - Bubeneč
SUMMARY:PP-U20M-4-A: VK Lvi Praha B-SK Meteor Praha
END:VEVENT
BEGIN:VEVENT
UID:64643633-6262-4462-b730-353464356231
DTSTAMP:20260422T224154Z
DESCRIPTION:2/2 SK Prosek B - VK Lvi Praha B 0:2 (-23\,-16)
DTSTART;TZID=Europe/Berlin:20230122T090000
DTEND;TZID=Europe/Berlin:20230122T110000
LOCATION:Sokol Bubeneč\, Korunovační 630 Praha - Bubeneč
SUMMARY:PP-U20M-4-A: SK Prosek B-VK Lvi Praha B
END:VEVENT
BEGIN:VEVENT
UID:37656530-3762-4863-a561-613765613563
DTSTAMP:20260422T224154Z
DESCRIPTION:5/5 Dansport - VK Lvi Praha B 2:1 (-17\,18\,13)
DTSTART;TZID=Europe/Berlin:20230122T110000
DTEND;TZID=Europe/Berlin:20230122T130000
LOCATION:Sokol Bubeneč\, Korunovační 630 Praha - Bubeneč
SUMMARY:PP-U20M-4-A: Dansport-VK Lvi Praha B
END:VEVENT
BEGIN:VEVENT
UID:39393836-3936-4130-b438-303737623836
DTSTAMP:20260422T224155Z
DESCRIPTION:7/7 VK Lvi Praha B - Orion Praha B 1:2 (24\,-19\,-7)
DTSTART;TZID=Europe/Berlin:20230401T120000
DTEND;TZID=Europe/Berlin:20230401T140000
LOCATION:Sokol Bubeneč\, Korunovační 630 Praha - Bubeneč
SUMMARY:PP-U20M-5-A: VK Lvi Praha B-Orion Praha B
END:VEVENT
BEGIN:VEVENT
UID:31613539-3434-4732-a362-373933646639
DTSTAMP:20260422T224155Z
DESCRIPTION:9/9 VK Lvi Praha B - SK Meteor Praha 1:2 (-19\,15\,-14)
DTSTART;TZID=Europe/Berlin:20230401T130000
DTEND;TZID=Europe/Berlin:20230401T150000
LOCATION:Sokol Bubeneč\, Korunovační 630 Praha - Bubeneč
SUMMARY:PP-U20M-5-A: VK Lvi Praha B-SK Meteor Praha
END:VEVENT
BEGIN:VEVENT
UID:33313763-3763-4333-b238-356266366365
DTSTAMP:20260422T224155Z
DESCRIPTION:2/2 SK Prosek B - VK Lvi Praha B 1:2 (27\,-24\,-13)
DTSTART;TZID=Europe/Berlin:20230401T090000
DTEND;TZID=Europe/Berlin:20230401T110000
LOCATION:Sokol Bubeneč\, Korunovační 630 Praha - Bubeneč
SUMMARY:PP-U20M-5-A: SK Prosek B-VK Lvi Praha B
END:VEVENT
BEGIN:VEVENT
UID:35623661-3633-4564-b266-303861363333
DTSTAMP:20260422T224155Z
DESCRIPTION:5/5 Dansport - VK Lvi Praha B 2:1 (22\,-23\,12)
DTSTART;TZID=Europe/Berlin:20230401T110000
DTEND;TZID=Europe/Berlin:20230401T130000
LOCATION:Sokol Bubeneč\, Korunovační 630 Praha - Bubeneč
SUMMARY:PP-U20M-5-A: Dansport-VK Lvi Praha B
END:VEVENT
END:VCALENDAR
