BEGIN:VCALENDAR
VERSION:2.0
PRODID:-//Orion Praha B80321//NONSGML kigkonsult.se iCalcreator 2.41.80//
CALSCALE:GREGORIAN
UID:33313364-3965-4362-b430-313230616666
BEGIN:VEVENT
UID:63373564-3065-4733-b838-303832376666
DTSTAMP:20260422T165847Z
DESCRIPTION:4/4 Orion Praha B - SK Prosek B 0:2 (-15\,-18)
DTSTART;TZID=Europe/Berlin:20221016T100000
DTEND;TZID=Europe/Berlin:20221016T120000
LOCATION:Sokol Bubeneč\, Korunovační 630 Praha - Bubeneč
SUMMARY:PP-U20M-1-A: Orion Praha B-SK Prosek B
END:VEVENT
BEGIN:VEVENT
UID:64633538-3264-4237-a531-343130366438
DTSTAMP:20260422T165847Z
DESCRIPTION:10/10 Orion Praha B - Dansport 0:2 (-23\,-23)
DTSTART;TZID=Europe/Berlin:20221016T130000
DTEND;TZID=Europe/Berlin:20221016T150000
LOCATION:Sokol Bubeneč\, Korunovační 630 Praha - Bubeneč
SUMMARY:PP-U20M-1-A: Orion Praha B-Dansport
END:VEVENT
BEGIN:VEVENT
UID:36303762-3038-4234-b638-613834353566
DTSTAMP:20260422T165847Z
DESCRIPTION:1/1 SK Meteor Praha - Orion Praha B 0:2 (-15\,-22)
DTSTART;TZID=Europe/Berlin:20221016T090000
DTEND;TZID=Europe/Berlin:20221016T110000
LOCATION:Sokol Bubeneč\, Korunovační 630 Praha - Bubeneč
SUMMARY:PP-U20M-1-A: SK Meteor Praha-Orion Praha B
END:VEVENT
BEGIN:VEVENT
UID:62393336-3932-4666-b438-663363383536
DTSTAMP:20260422T165847Z
DESCRIPTION:7/7 VK Lvi Praha B - Orion Praha B 2:1 (-20\,19\,14)
DTSTART;TZID=Europe/Berlin:20221016T120000
DTEND;TZID=Europe/Berlin:20221016T140000
LOCATION:Sokol Bubeneč\, Korunovační 630 Praha - Bubeneč
SUMMARY:PP-U20M-1-A: VK Lvi Praha B-Orion Praha B
END:VEVENT
BEGIN:VEVENT
UID:30336332-6635-4937-b566-393163343231
DTSTAMP:20260422T165847Z
DESCRIPTION:4/4 Orion Praha B - SK Prosek B 1:2 (-11\,22\,-11)
DTSTART;TZID=Europe/Berlin:20221120T100000
DTEND;TZID=Europe/Berlin:20221120T120000
LOCATION:Sokol Bubeneč\, Korunovační 630 Praha - Bubeneč
SUMMARY:PP-U20M-2-A: Orion Praha B-SK Prosek B
END:VEVENT
BEGIN:VEVENT
UID:35363632-3036-4430-b239-386461633966
DTSTAMP:20260422T165847Z
DESCRIPTION:10/10 Orion Praha B - Dansport 1:2 (20\,-18\,-9)
DTSTART;TZID=Europe/Berlin:20221120T130000
DTEND;TZID=Europe/Berlin:20221120T150000
LOCATION:Sokol Bubeneč\, Korunovační 630 Praha - Bubeneč
SUMMARY:PP-U20M-2-A: Orion Praha B-Dansport
END:VEVENT
BEGIN:VEVENT
UID:63643265-3136-4133-b732-616134333630
DTSTAMP:20260422T165847Z
DESCRIPTION:1/1 SK Meteor Praha - Orion Praha B 1:2 (24\,-23\,-13)
DTSTART;TZID=Europe/Berlin:20221120T090000
DTEND;TZID=Europe/Berlin:20221120T110000
LOCATION:Sokol Bubeneč\, Korunovační 630 Praha - Bubeneč
SUMMARY:PP-U20M-2-A: SK Meteor Praha-Orion Praha B
END:VEVENT
BEGIN:VEVENT
UID:62666437-6263-4363-a463-323464373635
DTSTAMP:20260422T165847Z
DESCRIPTION:7/7 VK Lvi Praha B - Orion Praha B 2:0 (23\,21)
DTSTART;TZID=Europe/Berlin:20221120T120000
DTEND;TZID=Europe/Berlin:20221120T140000
LOCATION:Sokol Bubeneč\, Korunovační 630 Praha - Bubeneč
SUMMARY:PP-U20M-2-A: VK Lvi Praha B-Orion Praha B
END:VEVENT
BEGIN:VEVENT
UID:31396130-6239-4934-a434-393062356630
DTSTAMP:20260422T165847Z
DESCRIPTION:4/4 Orion Praha B - SK Prosek B 1:2 (-23\,18\,-5)
DTSTART;TZID=Europe/Berlin:20221218T100000
DTEND;TZID=Europe/Berlin:20221218T120000
LOCATION:Sokol Bubeneč\, Korunovační 630 Praha - Bubeneč
SUMMARY:PP-U20M-3-A: Orion Praha B-SK Prosek B
END:VEVENT
BEGIN:VEVENT
UID:62383738-3431-4062-b234-633234623539
DTSTAMP:20260422T165847Z
DESCRIPTION:10/10 Orion Praha B - Dansport 0:2 (-20\,-22)
DTSTART;TZID=Europe/Berlin:20221218T130000
DTEND;TZID=Europe/Berlin:20221218T150000
LOCATION:Sokol Bubeneč\, Korunovační 630 Praha - Bubeneč
SUMMARY:PP-U20M-3-A: Orion Praha B-Dansport
END:VEVENT
BEGIN:VEVENT
UID:31343934-3563-4134-a364-343063323333
DTSTAMP:20260422T165847Z
DESCRIPTION:1/1 SK Meteor Praha - Orion Praha B 2:0 (13\,24)
DTSTART;TZID=Europe/Berlin:20221218T090000
DTEND;TZID=Europe/Berlin:20221218T110000
LOCATION:Sokol Bubeneč\, Korunovační 630 Praha - Bubeneč
SUMMARY:PP-U20M-3-A: SK Meteor Praha-Orion Praha B
END:VEVENT
BEGIN:VEVENT
UID:39356538-6336-4166-b261-653739613436
DTSTAMP:20260422T165847Z
DESCRIPTION:7/7 VK Lvi Praha B - Orion Praha B 2:1 (17\,-19\,10)
DTSTART;TZID=Europe/Berlin:20221218T120000
DTEND;TZID=Europe/Berlin:20221218T140000
LOCATION:Sokol Bubeneč\, Korunovační 630 Praha - Bubeneč
SUMMARY:PP-U20M-3-A: VK Lvi Praha B-Orion Praha B
END:VEVENT
BEGIN:VEVENT
UID:35376634-3963-4431-a565-633735626534
DTSTAMP:20260422T165847Z
DESCRIPTION:4/4 Orion Praha B - SK Prosek B 2:0 (16\,20)
DTSTART;TZID=Europe/Berlin:20230122T100000
DTEND;TZID=Europe/Berlin:20230122T120000
LOCATION:Sokol Bubeneč\, Korunovační 630 Praha - Bubeneč
SUMMARY:PP-U20M-4-A: Orion Praha B-SK Prosek B
END:VEVENT
BEGIN:VEVENT
UID:63353137-6631-4332-b162-623138343465
DTSTAMP:20260422T165847Z
DESCRIPTION:10/10 Orion Praha B - Dansport 1:2 (-22\,17\,-12)
DTSTART;TZID=Europe/Berlin:20230122T130000
DTEND;TZID=Europe/Berlin:20230122T150000
LOCATION:Sokol Bubeneč\, Korunovační 630 Praha - Bubeneč
SUMMARY:PP-U20M-4-A: Orion Praha B-Dansport
END:VEVENT
BEGIN:VEVENT
UID:31653431-3766-4332-b930-373435653237
DTSTAMP:20260422T165847Z
DESCRIPTION:1/1 SK Meteor Praha - Orion Praha B 2:0 (16\,23)
DTSTART;TZID=Europe/Berlin:20230122T090000
DTEND;TZID=Europe/Berlin:20230122T110000
LOCATION:Sokol Bubeneč\, Korunovační 630 Praha - Bubeneč
SUMMARY:PP-U20M-4-A: SK Meteor Praha-Orion Praha B
END:VEVENT
BEGIN:VEVENT
UID:64636134-6366-4639-b564-383234393161
DTSTAMP:20260422T165847Z
DESCRIPTION:7/7 VK Lvi Praha B - Orion Praha B 2:0 (21\,19)
DTSTART;TZID=Europe/Berlin:20230122T120000
DTEND;TZID=Europe/Berlin:20230122T140000
LOCATION:Sokol Bubeneč\, Korunovační 630 Praha - Bubeneč
SUMMARY:PP-U20M-4-A: VK Lvi Praha B-Orion Praha B
END:VEVENT
BEGIN:VEVENT
UID:35666532-3365-4536-b930-373766323438
DTSTAMP:20260422T165847Z
DESCRIPTION:4/4 Orion Praha B - SK Prosek B 2:0 (20\,25)
DTSTART;TZID=Europe/Berlin:20230401T100000
DTEND;TZID=Europe/Berlin:20230401T120000
LOCATION:Sokol Bubeneč\, Korunovační 630 Praha - Bubeneč
SUMMARY:PP-U20M-5-A: Orion Praha B-SK Prosek B
END:VEVENT
BEGIN:VEVENT
UID:63363531-3439-4030-a166-303937343864
DTSTAMP:20260422T165847Z
DESCRIPTION:10/10 Orion Praha B - Dansport 0:2 (-21\,-22)
DTSTART;TZID=Europe/Berlin:20230401T130000
DTEND;TZID=Europe/Berlin:20230401T150000
LOCATION:Sokol Bubeneč\, Korunovační 630 Praha - Bubeneč
SUMMARY:PP-U20M-5-A: Orion Praha B-Dansport
END:VEVENT
BEGIN:VEVENT
UID:66623363-3964-4034-b936-356235396166
DTSTAMP:20260422T165847Z
DESCRIPTION:1/1 SK Meteor Praha - Orion Praha B 2:1 (-18\,21\,11)
DTSTART;TZID=Europe/Berlin:20230401T090000
DTEND;TZID=Europe/Berlin:20230401T110000
LOCATION:Sokol Bubeneč\, Korunovační 630 Praha - Bubeneč
SUMMARY:PP-U20M-5-A: SK Meteor Praha-Orion Praha B
END:VEVENT
BEGIN:VEVENT
UID:33316566-6435-4039-a136-346362613237
DTSTAMP:20260422T165847Z
DESCRIPTION:7/7 VK Lvi Praha B - Orion Praha B 1:2 (24\,-19\,-7)
DTSTART;TZID=Europe/Berlin:20230401T120000
DTEND;TZID=Europe/Berlin:20230401T140000
LOCATION:Sokol Bubeneč\, Korunovační 630 Praha - Bubeneč
SUMMARY:PP-U20M-5-A: VK Lvi Praha B-Orion Praha B
END:VEVENT
END:VCALENDAR
