BEGIN:VCALENDAR
VERSION:2.0
PRODID:-//SAVO Praha80423//NONSGML kigkonsult.se iCalcreator 2.41.80//
CALSCALE:GREGORIAN
UID:30356463-3732-4061-b334-313230396531
BEGIN:VEVENT
UID:37613065-3436-4539-b166-653939363236
DTSTAMP:20260421T183710Z
DESCRIPTION:1/5 SAVO A - Řeporyje A 3:2 (23\,-25\,21\,-20\,10)
DTSTART;TZID=Europe/Berlin:20220901T173000
DTEND;TZID=Europe/Berlin:20220901T193000
LOCATION:TJ Sokol Stodůlky Kovářova 1617\, 155 00 Praha 13-Stodůlky
SUMMARY:PP-Z-3-A: SAVO A-Řeporyje A
END:VEVENT
BEGIN:VEVENT
UID:62303730-3931-4365-b332-353436643836
DTSTAMP:20260421T183710Z
DESCRIPTION:3/14 SAVO A - Orion A 3:1 (22\,-22\,22\,23)
DTSTART;TZID=Europe/Berlin:20220908T173000
DTEND;TZID=Europe/Berlin:20220908T193000
LOCATION:TJ Sokol Stodůlky Kovářova 1617\, 155 00 Praha 13-Stodůlky
SUMMARY:PP-Z-3-A: SAVO A-Orion A
END:VEVENT
BEGIN:VEVENT
UID:64623737-3866-4364-b062-306662613461
DTSTAMP:20260421T183710Z
DESCRIPTION:5/23 SAVO A - VK ŽIŽKA C 3:1 (18\,-19\,20\,20)
DTSTART;TZID=Europe/Berlin:20220915T173000
DTEND;TZID=Europe/Berlin:20220915T193000
LOCATION:TJ Sokol Stodůlky Kovářova 1617\, 155 00 Praha 13-Stodůlky
SUMMARY:PP-Z-3-A: SAVO A-VK ŽIŽKA C
END:VEVENT
BEGIN:VEVENT
UID:64353931-6564-4966-b631-623335346636
DTSTAMP:20260421T183710Z
DESCRIPTION:7/32 SAVO A - Vysočany A 3:1 (10\,-23\,25\,18)
DTSTART;TZID=Europe/Berlin:20230502T180000
DTEND;TZID=Europe/Berlin:20230502T200000
LOCATION:TJ Sokol Stodůlky Kovářova 1617\, 155 00 Praha 13-Stodůlky
SUMMARY:PP-Z-3-A: SAVO A-Vysočany A
END:VEVENT
BEGIN:VEVENT
UID:62366461-6235-4635-b437-353531613737
DTSTAMP:20260421T183710Z
DESCRIPTION:9/41 SAVO A - VSK MFF D 3:1 (21\,19\,-8\,25)
DTSTART;TZID=Europe/Berlin:20230511T180000
DTEND;TZID=Europe/Berlin:20230511T200000
LOCATION:TJ Sokol Stodůlky Kovářova 1617\, 155 00 Praha 13-Stodůlky
SUMMARY:PP-Z-3-A: SAVO A-VSK MFF D
END:VEVENT
BEGIN:VEVENT
UID:34333230-3733-4261-b438-313633306663
DTSTAMP:20260421T183710Z
DESCRIPTION:10/50 SAVO A - Řeporyje A 2:3 (-18\,17\,-17\,21\,-12)\n!změna p
 ořadatelství!
DTSTART;TZID=Europe/Berlin:20230516T180000
DTEND;TZID=Europe/Berlin:20230516T200000
LOCATION:TJ Sokol Stodůlky Kovářova 1617\, 155 00 Praha 13-Stodůlky
SUMMARY:PP-Z-3-A: SAVO A-Řeporyje A
END:VEVENT
BEGIN:VEVENT
UID:65373937-3431-4634-b538-373630303933
DTSTAMP:20260421T183710Z
DESCRIPTION:11/52 SAVO A - Řepy A 3:1 (22\,26\,-21\,15)
DTSTART;TZID=Europe/Berlin:20230518T180000
DTEND;TZID=Europe/Berlin:20230518T200000
LOCATION:TJ Sokol Stodůlky Kovářova 1617\, 155 00 Praha 13-Stodůlky
SUMMARY:PP-Z-3-A: SAVO A-Řepy A
END:VEVENT
BEGIN:VEVENT
UID:64323862-6537-4664-b533-323638333033
DTSTAMP:20260421T183710Z
DESCRIPTION:13/63 SAVO A - Meteor B 0:3 (-26\,-13\,-23)
DTSTART;TZID=Europe/Berlin:20230530T180000
DTEND;TZID=Europe/Berlin:20230530T200000
LOCATION:TJ Sokol Stodůlky Kovářova 1617\, 155 00 Praha 13-Stodůlky
SUMMARY:PP-Z-3-A: SAVO A-Meteor B
END:VEVENT
BEGIN:VEVENT
UID:66663764-3764-4731-a462-646635313165
DTSTAMP:20260421T183710Z
DESCRIPTION:15/74 SAVO A - Michle A 3:1 (9\,17\,-20\,19)
DTSTART;TZID=Europe/Berlin:20230608T180000
DTEND;TZID=Europe/Berlin:20230608T200000
LOCATION:TJ Sokol Stodůlky Kovářova 1617\, 155 00 Praha 13-Stodůlky
SUMMARY:PP-Z-3-A: SAVO A-Michle A
END:VEVENT
BEGIN:VEVENT
UID:32656531-6632-4265-a537-363466626562
DTSTAMP:20260421T183710Z
DESCRIPTION:17/85 SAVO A - Meteor D 3:0 (22\,12\,14)
DTSTART;TZID=Europe/Berlin:20230615T180000
DTEND;TZID=Europe/Berlin:20230615T200000
LOCATION:TJ Sokol Stodůlky Kovářova 1617\, 155 00 Praha 13-Stodůlky
SUMMARY:PP-Z-3-A: SAVO A-Meteor D
END:VEVENT
BEGIN:VEVENT
UID:65336336-3636-4837-b037-633864346534
DTSTAMP:20260421T183710Z
DESCRIPTION:2/7 Řepy A - SAVO A 0:3 (-14\,-23\,-23)
DTSTART;TZID=Europe/Berlin:20220906T173000
DTEND;TZID=Europe/Berlin:20220906T193000
LOCATION:antukové kurty za Sokolovnou (Na Chobotě 125\, Praha 17 Řepy\, 163
  00)
SUMMARY:PP-Z-3-A: Řepy A-SAVO A
END:VEVENT
BEGIN:VEVENT
UID:33343066-3461-4339-b966-303536616238
DTSTAMP:20260421T183710Z
DESCRIPTION:4/18 Meteor B - SAVO A 1:3 (-20\,18\,-11\,-15)
DTSTART;TZID=Europe/Berlin:20220913T173000
DTEND;TZID=Europe/Berlin:20220913T193000
LOCATION:Volejbalové kurty SK Meteor Praha U Meteoru 29/3\, 180 00 Praha 8
SUMMARY:PP-Z-3-A: Meteor B-SAVO A
END:VEVENT
BEGIN:VEVENT
UID:35333735-6639-4335-a535-646331613838
DTSTAMP:20260421T183710Z
DESCRIPTION:6/29 Michle A - SAVO A 0:3 (-23\,-12\,-17)
DTSTART;TZID=Europe/Berlin:20230509T180000
DTEND;TZID=Europe/Berlin:20230509T200000
LOCATION:hřiště TJ Sokol Michle\, Pod Stárkou 16-18\, 140 00 Praha 4 (křižo
 vatka ulic Pod Stárkou a Nad Vinným potokem)
SUMMARY:PP-Z-3-A: Michle A-SAVO A
END:VEVENT
BEGIN:VEVENT
UID:30663666-3933-4331-a131-643764353262
DTSTAMP:20260421T183710Z
DESCRIPTION:8/40 Meteor D - SAVO A 3:2 (17\,18\,-27\,-12\,11)
DTSTART;TZID=Europe/Berlin:20230504T180000
DTEND;TZID=Europe/Berlin:20230504T200000
LOCATION:Volejbalové kurty SK Meteor Praha U Meteoru 29/3\, 180 00 Praha 8
SUMMARY:PP-Z-3-A: Meteor D-SAVO A
END:VEVENT
BEGIN:VEVENT
UID:34613938-3430-4633-b065-663239323165
DTSTAMP:20260421T183710Z
DESCRIPTION:12/59 Orion A - SAVO A 0:3 (-14\,-21\,-21)
DTSTART;TZID=Europe/Berlin:20230525T180000
DTEND;TZID=Europe/Berlin:20230525T200000
LOCATION:hřiště ABC Braník Za Mlýnem 1778/10\, 147 00 Praha 4 – Braník
SUMMARY:PP-Z-3-A: Orion A-SAVO A
END:VEVENT
BEGIN:VEVENT
UID:62326363-3634-4533-b538-646137613763
DTSTAMP:20260421T183710Z
DESCRIPTION:14/68 VK ŽIŽKA C - SAVO A 0:3 (-15\,-15\,-18)
DTSTART;TZID=Europe/Berlin:20230601T180000
DTEND;TZID=Europe/Berlin:20230601T200000
LOCATION:TJ PRAGA U Lidového domu 11\, 190 00 Praha 9
SUMMARY:PP-Z-3-A: VK ŽIŽKA C-SAVO A
END:VEVENT
BEGIN:VEVENT
UID:64373238-6134-4364-b565-626630393462
DTSTAMP:20260421T183710Z
DESCRIPTION:16/77 Vysočany A - SAVO A 0:3 (-19\,-17\,-23)
DTSTART;TZID=Europe/Berlin:20230613T180000
DTEND;TZID=Europe/Berlin:20230613T200000
LOCATION:Volejbal Praga Za Lidovým domem 11\, 190 00 Praha 9
SUMMARY:PP-Z-3-A: Vysočany A-SAVO A
END:VEVENT
BEGIN:VEVENT
UID:35363966-3336-4161-b637-363061343437
DTSTAMP:20260421T183710Z
DESCRIPTION:18/86 VSK MFF D - SAVO A 0:3 (-25\,-20\,-20)
DTSTART;TZID=Europe/Berlin:20230620T180000
DTEND;TZID=Europe/Berlin:20230620T200000
LOCATION:Hřiště areálu VSK MFF UK na Albertově Albertov\, 128 00 Praha 2
SUMMARY:PP-Z-3-A: VSK MFF D-SAVO A
END:VEVENT
END:VCALENDAR
