BEGIN:VCALENDAR
VERSION:2.0
PRODID:-//Tělovýchovná jednota Slovan Bohnice - Praha 8 z.s.80430//NONSGML kigkonsult.se iCalcreator 2.41.80//
CALSCALE:GREGORIAN
UID:30666566-3439-4561-a231-336262303261
BEGIN:VEVENT
UID:63613864-3865-4434-b730-336439623635
DTSTAMP:20260422T001313Z
DESCRIPTION:1/2 Bohnice B - Modřany A 3:1 (12\,-23\,12\,22)
DTSTART;TZID=Europe/Berlin:20220831T173000
DTEND;TZID=Europe/Berlin:20220831T193000
LOCATION:hřiště areálu Slovanu Bohnice Bukolská 570/2\, Praha 8 (Čimický Há
 j) 18100
SUMMARY:PP-Z-3-B: Bohnice B-Modřany A
END:VEVENT
BEGIN:VEVENT
UID:35616535-6539-4630-b936-336565663562
DTSTAMP:20260422T001313Z
DESCRIPTION:3/11 Bohnice B - Uhříněves A 3:0 (17\,14\,17)
DTSTART;TZID=Europe/Berlin:20220907T173000
DTEND;TZID=Europe/Berlin:20220907T193000
LOCATION:hřiště areálu Slovanu Bohnice Bukolská 570/2\, Praha 8 (Čimický Há
 j) 18100
SUMMARY:PP-Z-3-B: Bohnice B-Uhříněves A
END:VEVENT
BEGIN:VEVENT
UID:36333663-6433-4166-b937-633732633766
DTSTAMP:20260422T001313Z
DESCRIPTION:4/20 Bohnice B - Řepy C 3:2 (-19\,-23\,16\,15\,9)
DTSTART;TZID=Europe/Berlin:20220912T173000
DTEND;TZID=Europe/Berlin:20220912T193000
LOCATION:hřiště areálu Slovanu Bohnice Bukolská 570/2\, Praha 8 (Čimický Há
 j) 18100
SUMMARY:PP-Z-3-B: Bohnice B-Řepy C
END:VEVENT
BEGIN:VEVENT
UID:64323062-6562-4338-b639-626338633762
DTSTAMP:20260422T001313Z
DESCRIPTION:6/29 Bohnice B - Žižkov D 3:0 (23\,20\,21)
DTSTART;TZID=Europe/Berlin:20220919T173000
DTEND;TZID=Europe/Berlin:20220919T193000
LOCATION:hřiště areálu Slovanu Bohnice Bukolská 570/2\, Praha 8 (Čimický Há
 j) 18100
SUMMARY:PP-Z-3-B: Bohnice B-Žižkov D
END:VEVENT
BEGIN:VEVENT
UID:61653636-6361-4265-b664-636231623333
DTSTAMP:20260422T001313Z
DESCRIPTION:8/38 Bohnice B - Vršovice B 3:1 (15\,-21\,15\,22)
DTSTART;TZID=Europe/Berlin:20230503T180000
DTEND;TZID=Europe/Berlin:20230503T200000
LOCATION:hřiště areálu Slovanu Bohnice Bukolská 570/2\, Praha 8 (Čimický Há
 j) 18100
SUMMARY:PP-Z-3-B: Bohnice B-Vršovice B
END:VEVENT
BEGIN:VEVENT
UID:66303564-3037-4330-a636-343334653831
DTSTAMP:20260422T001313Z
DESCRIPTION:11/55 Bohnice B - Smíchov B 3:0 (23\,24\,15)
DTSTART;TZID=Europe/Berlin:20230517T180000
DTEND;TZID=Europe/Berlin:20230517T200000
LOCATION:hřiště areálu Slovanu Bohnice Bukolská 570/2\, Praha 8 (Čimický Há
 j) 18100
SUMMARY:PP-Z-3-B: Bohnice B-Smíchov B
END:VEVENT
BEGIN:VEVENT
UID:36613463-3334-4737-b636-356239343162
DTSTAMP:20260422T001313Z
DESCRIPTION:14/67 Bohnice B - Malešice A 3:0 (17\,23\,14)
DTSTART;TZID=Europe/Berlin:20230626T180000
DTEND;TZID=Europe/Berlin:20230626T200000
LOCATION:hřiště areálu Slovanu Bohnice Bukolská 570/2\, Praha 8 (Čimický Há
 j) 18100
SUMMARY:PP-Z-3-B: Bohnice B-Malešice A
END:VEVENT
BEGIN:VEVENT
UID:31636530-3838-4463-b365-656462336135
DTSTAMP:20260422T001313Z
DESCRIPTION:16/78 Bohnice B - H. Počernice B 3:0 (20\,15\,9)
DTSTART;TZID=Europe/Berlin:20230612T180000
DTEND;TZID=Europe/Berlin:20230612T200000
LOCATION:hřiště areálu Slovanu Bohnice Bukolská 570/2\, Praha 8 (Čimický Há
 j) 18100
SUMMARY:PP-Z-3-B: Bohnice B-H. Počernice B
END:VEVENT
BEGIN:VEVENT
UID:64393438-3462-4034-a334-346531303364
DTSTAMP:20260422T001313Z
DESCRIPTION:18/89 Bohnice B - VSK MFF B 3:0 (14\,19\,13)
DTSTART;TZID=Europe/Berlin:20230621T180000
DTEND;TZID=Europe/Berlin:20230621T200000
LOCATION:hřiště areálu Slovanu Bohnice Bukolská 570/2\, Praha 8 (Čimický Há
 j) 18100
SUMMARY:PP-Z-3-B: Bohnice B-VSK MFF B
END:VEVENT
BEGIN:VEVENT
UID:35623366-3965-4834-a165-323931336439
DTSTAMP:20260422T001313Z
DESCRIPTION:2/10 Smíchov B - Bohnice B 1:3 (-21\,-20\,13\,-18)
DTSTART;TZID=Europe/Berlin:20220905T173000
DTEND;TZID=Europe/Berlin:20220905T193000
LOCATION:TJ Sokol I. Smíchov - Letní cvičiště Mrázovka\, Mrázovka 1173/5\, 
 Smíchov\, 150 00 Praha
SUMMARY:PP-Z-3-B: Smíchov B-Bohnice B
END:VEVENT
BEGIN:VEVENT
UID:65316436-6162-4261-a236-336364373730
DTSTAMP:20260422T001313Z
DESCRIPTION:5/22 Malešice A - Bohnice B 2:3 (-23\,-19\,20\,15\,-16)
DTSTART;TZID=Europe/Berlin:20230424T180000
DTEND;TZID=Europe/Berlin:20230424T200000
LOCATION:Volejbal SK Meteor Praha U Meteoru 29/3\, 180 00 Praha 8-Libeň
SUMMARY:PP-Z-3-B: Malešice A-Bohnice B
END:VEVENT
BEGIN:VEVENT
UID:32393734-3665-4765-b931-366565616361
DTSTAMP:20260422T001313Z
DESCRIPTION:7/33 H. Počernice B - Bohnice B 3:1 (-23\,13\,14\,15)
DTSTART;TZID=Europe/Berlin:20220921T173000
DTEND;TZID=Europe/Berlin:20220921T193000
LOCATION:Hřiště TJ Sokol Hor. Počernice (u sokolovny) Chvalkovická 203\, Pr
 aha 9 - Hor. Počernice 19300
SUMMARY:PP-Z-3-B: H. Počernice B-Bohnice B
END:VEVENT
BEGIN:VEVENT
UID:31373436-3433-4339-a535-356263373033
DTSTAMP:20260422T001313Z
DESCRIPTION:9/44 VSK MFF B - Bohnice B 0:3 (-19\,-16\,-21)
DTSTART;TZID=Europe/Berlin:20230510T180000
DTEND;TZID=Europe/Berlin:20230510T200000
LOCATION:Hřiště areálu VSK MFF UK na Albertově Albertov\, 128 00 Praha 2
SUMMARY:PP-Z-3-B: VSK MFF B-Bohnice B
END:VEVENT
BEGIN:VEVENT
UID:62373634-6633-4539-b665-623135663430
DTSTAMP:20260422T001313Z
DESCRIPTION:10/47 Modřany A - Bohnice B 0:3 (-13\,-24\,-13)
DTSTART;TZID=Europe/Berlin:20230515T180000
DTEND;TZID=Europe/Berlin:20230515T200000
LOCATION:TJ Sokol Modřany (u sokolovny) K Vltavě 410/23\, Praha 4 14300
SUMMARY:PP-Z-3-B: Modřany A-Bohnice B
END:VEVENT
BEGIN:VEVENT
UID:62616433-3538-4639-b464-333539343164
DTSTAMP:20260422T001313Z
DESCRIPTION:12/56 Uhříněves A - Bohnice B 0:3 (-16\,-19\,-18)
DTSTART;TZID=Europe/Berlin:20230524T180000
DTEND;TZID=Europe/Berlin:20230524T200000
LOCATION:SK Čechie Uhříněves V Bytovkách 72\, 104 00 Praha 10
SUMMARY:PP-Z-3-B: Uhříněves A-Bohnice B
END:VEVENT
BEGIN:VEVENT
UID:30373531-3036-4439-a633-356563353539
DTSTAMP:20260422T001313Z
DESCRIPTION:13/65 Řepy C - Bohnice B 3:1 (14\,19\,-19\,16)
DTSTART;TZID=Europe/Berlin:20230529T180000
DTEND;TZID=Europe/Berlin:20230529T200000
LOCATION:Antukové kurty za Sokolovnou\, vstup z ulice Žalanského Na Chobotě
  625/4\, 163 00 Praha 17 - Řepy
SUMMARY:PP-Z-3-B: Řepy C-Bohnice B
END:VEVENT
BEGIN:VEVENT
UID:64393866-3965-4039-b935-383031366164
DTSTAMP:20260422T001313Z
DESCRIPTION:15/74 Žižkov D - Bohnice B 0:3 (-18\,-21\,-19)
DTSTART;TZID=Europe/Berlin:20230607T180000
DTEND;TZID=Europe/Berlin:20230607T200000
LOCATION:TJ Sokol Žižkov I. hřiště na Vítkově (Koněvova 929/19 Praha 3 Žižk
 ov 13000)
SUMMARY:PP-Z-3-B: Žižkov D-Bohnice B
END:VEVENT
BEGIN:VEVENT
UID:62316531-6332-4463-a562-323962623965
DTSTAMP:20260422T001313Z
DESCRIPTION:17/83 Vršovice B - Bohnice B 2:3 (-21\,21\,-18\,15\,-10)
DTSTART;TZID=Europe/Berlin:20230614T180000
DTEND;TZID=Europe/Berlin:20230614T200000
LOCATION:sokolovna Vršovice - kurt (Vršovické náměstí 2 (vstup z ul. Sporto
 vní)\, Praha 10\, 101 00)
SUMMARY:PP-Z-3-B: Vršovice B-Bohnice B
END:VEVENT
END:VCALENDAR
