BEGIN:VCALENDAR
VERSION:2.0
PRODID:-//TJ ABC Braník80487//NONSGML kigkonsult.se iCalcreator 2.41.80//
CALSCALE:GREGORIAN
UID:66663964-3033-4635-b339-393439356338
BEGIN:VEVENT
UID:63336564-6632-4131-b531-343064333838
DTSTAMP:20260423T070845Z
DESCRIPTION:2/2 TJ ABC Braník - Dansport Praha 2:0 (20\,22)
DTSTART;TZID=Europe/Berlin:20221008T100000
DTEND;TZID=Europe/Berlin:20221008T120000
LOCATION:Sportovní hala Slavia Praha\, Vladivostocká 1460 Praha - Vršovice
SUMMARY:PP-U18Z-1-A: TJ ABC Braník-Dansport Praha
END:VEVENT
BEGIN:VEVENT
UID:37343461-3538-4662-b965-323339626339
DTSTAMP:20260423T070845Z
DESCRIPTION:5/5 TJ ABC Braník - Slavia Praha 0:2 (-16\,-19)
DTSTART;TZID=Europe/Berlin:20221008T130000
DTEND;TZID=Europe/Berlin:20221008T150000
LOCATION:Sportovní hala Slavia Praha\, Vladivostocká 1460 Praha - Vršovice
SUMMARY:PP-U18Z-1-A: TJ ABC Braník-Slavia Praha
END:VEVENT
BEGIN:VEVENT
UID:38633562-6337-4731-b230-643532313035
DTSTAMP:20260423T070845Z
DESCRIPTION:4/4 Mikulova B - TJ ABC Braník 2:0 (21\,23)
DTSTART;TZID=Europe/Berlin:20221008T120000
DTEND;TZID=Europe/Berlin:20221008T140000
LOCATION:Sportovní hala Slavia Praha\, Vladivostocká 1460 Praha - Vršovice
SUMMARY:PP-U18Z-1-A: Mikulova B-TJ ABC Braník
END:VEVENT
BEGIN:VEVENT
UID:30643962-3630-4335-a131-323536383433
DTSTAMP:20260423T070845Z
DESCRIPTION:6/6 TJ ABC Braník - Mikulova B 0:2 (-19\,-9)
DTSTART;TZID=Europe/Berlin:20221112T140000
DTEND;TZID=Europe/Berlin:20221112T160000
LOCATION:SKŠ ZŠ Mikulova Praha\, Mikulova 1594 Praha - Chodov
SUMMARY:PP-U18Z-2-A: TJ ABC Braník-Mikulova B
END:VEVENT
BEGIN:VEVENT
UID:61353936-3432-4631-b462-303661336162
DTSTAMP:20260423T070845Z
DESCRIPTION:2/2 Slavia Praha - TJ ABC Braník 2:1 (17\,-21\,5)
DTSTART;TZID=Europe/Berlin:20221112T100000
DTEND;TZID=Europe/Berlin:20221112T120000
LOCATION:SKŠ ZŠ Mikulova Praha\, Mikulova 1594 Praha - Chodov
SUMMARY:PP-U18Z-2-A: Slavia Praha-TJ ABC Braník
END:VEVENT
BEGIN:VEVENT
UID:33653034-6437-4361-a436-383034393863
DTSTAMP:20260423T070845Z
DESCRIPTION:3/3 SAVO Praha A - TJ ABC Braník 2:1 (15\,-16\,12)
DTSTART;TZID=Europe/Berlin:20221112T110000
DTEND;TZID=Europe/Berlin:20221112T130000
LOCATION:SKŠ ZŠ Mikulova Praha\, Mikulova 1594 Praha - Chodov
SUMMARY:PP-U18Z-2-A: SAVO Praha A-TJ ABC Braník
END:VEVENT
BEGIN:VEVENT
UID:63366334-6235-4661-b465-636365336436
DTSTAMP:20260423T070845Z
DESCRIPTION:1/1 TJ ABC Braník - Španielka A 2:1 (23\,-16\,10)
DTSTART;TZID=Europe/Berlin:20221210T090000
DTEND;TZID=Europe/Berlin:20221210T110000
LOCATION:Tělocvična ZŠ\, Španielova 1111 Praha - Řepy
SUMMARY:PP-U18Z-3-B: TJ ABC Braník-Španielka A
END:VEVENT
BEGIN:VEVENT
UID:30396666-3237-4461-b761-353532643561
DTSTAMP:20260423T070845Z
DESCRIPTION:4/4 TJ ABC Braník - Dansport Praha 2:0 (24\,19)
DTSTART;TZID=Europe/Berlin:20221210T120000
DTEND;TZID=Europe/Berlin:20221210T140000
LOCATION:Tělocvična ZŠ\, Španielova 1111 Praha - Řepy
SUMMARY:PP-U18Z-3-B: TJ ABC Braník-Dansport Praha
END:VEVENT
BEGIN:VEVENT
UID:66366262-3037-4137-b938-306265643735
DTSTAMP:20260423T070845Z
DESCRIPTION:6/6 TJ HP - TJ ABC Braník 0:2 (-17\,-13)
DTSTART;TZID=Europe/Berlin:20221210T140000
DTEND;TZID=Europe/Berlin:20221210T160000
LOCATION:Tělocvična ZŠ\, Španielova 1111 Praha - Řepy
SUMMARY:PP-U18Z-3-B: TJ HP-TJ ABC Braník
END:VEVENT
BEGIN:VEVENT
UID:34363062-3166-4339-b738-393330643462
DTSTAMP:20260423T070845Z
DESCRIPTION:3/3 TJ ABC Braník - Mikulova B 0:2 (-18\,-18)
DTSTART;TZID=Europe/Berlin:20230114T110000
DTEND;TZID=Europe/Berlin:20230114T130000
LOCATION:Jana\, Vladivostocká 1460 Praha - Vršovice
SUMMARY:PP-U18Z-4-A: TJ ABC Braník-Mikulova B
END:VEVENT
BEGIN:VEVENT
UID:39626266-6637-4638-b837-663031396435
DTSTAMP:20260423T070845Z
DESCRIPTION:1/1 Slavia Praha - TJ ABC Braník 2:0 (17\,8)
DTSTART;TZID=Europe/Berlin:20230114T090000
DTEND;TZID=Europe/Berlin:20230114T110000
LOCATION:Jana\, Vladivostocká 1460 Praha - Vršovice
SUMMARY:PP-U18Z-4-A: Slavia Praha-TJ ABC Braník
END:VEVENT
BEGIN:VEVENT
UID:31623665-3766-4563-b335-303266613633
DTSTAMP:20260423T070845Z
DESCRIPTION:5/5 SAVO Praha A - TJ ABC Braník 0:2 (-23\,-21)
DTSTART;TZID=Europe/Berlin:20230114T130000
DTEND;TZID=Europe/Berlin:20230114T150000
LOCATION:Jana\, Vladivostocká 1460 Praha - Vršovice
SUMMARY:PP-U18Z-4-A: SAVO Praha A-TJ ABC Braník
END:VEVENT
BEGIN:VEVENT
UID:32646534-6431-4630-a531-333332316361
DTSTAMP:20260423T070845Z
DESCRIPTION:1/1 TJ ABC Braník - TJ HP 0:2 (-22\,-25)
DTSTART;TZID=Europe/Berlin:20230218T090000
DTEND;TZID=Europe/Berlin:20230218T110000
LOCATION:TJ Sokol Horní Počernice\, Chvalkovická 2031 Praha - Horní Počerni
 ce
SUMMARY:PP-U18Z-5-B: TJ ABC Braník-TJ HP
END:VEVENT
BEGIN:VEVENT
UID:61623064-6165-4161-a231-373266343434
DTSTAMP:20260423T070845Z
DESCRIPTION:4/4 TJ ABC Braník - Dansport Praha 0:2 (-20\,-18)
DTSTART;TZID=Europe/Berlin:20230218T120000
DTEND;TZID=Europe/Berlin:20230218T140000
LOCATION:TJ Sokol Horní Počernice\, Chvalkovická 2031 Praha - Horní Počerni
 ce
SUMMARY:PP-U18Z-5-B: TJ ABC Braník-Dansport Praha
END:VEVENT
BEGIN:VEVENT
UID:34343537-3364-4261-b936-323663646233
DTSTAMP:20260423T070845Z
DESCRIPTION:6/6 Kometa Praha C - TJ ABC Braník 0:2 (-19\,-22)
DTSTART;TZID=Europe/Berlin:20230218T140000
DTEND;TZID=Europe/Berlin:20230218T160000
LOCATION:TJ Sokol Horní Počernice\, Chvalkovická 2031 Praha - Horní Počerni
 ce
SUMMARY:PP-U18Z-5-B: Kometa Praha C-TJ ABC Braník
END:VEVENT
BEGIN:VEVENT
UID:30373832-6235-4936-a337-633739323764
DTSTAMP:20260423T070845Z
DESCRIPTION:1/1 TJ ABC Braník - Mikulova C 2:0 (15\,23)
DTSTART;TZID=Europe/Berlin:20230401T090000
DTEND;TZID=Europe/Berlin:20230401T110000
LOCATION:SKŠ ZŠ Mikulova Praha\, Mikulova 1594 Praha - Chodov
SUMMARY:PP-U18Z-6-C: TJ ABC Braník-Mikulova C
END:VEVENT
BEGIN:VEVENT
UID:33313836-3632-4734-a338-326365613261
DTSTAMP:20260423T070845Z
DESCRIPTION:4/4 TJ ABC Braník - Orion Praha B 2:0 (18\,6)
DTSTART;TZID=Europe/Berlin:20230401T120000
DTEND;TZID=Europe/Berlin:20230401T140000
LOCATION:SKŠ ZŠ Mikulova Praha\, Mikulova 1594 Praha - Chodov
SUMMARY:PP-U18Z-6-C: TJ ABC Braník-Orion Praha B
END:VEVENT
BEGIN:VEVENT
UID:32363264-6666-4932-a233-356331343734
DTSTAMP:20260423T070845Z
DESCRIPTION:6/6 Lvi Praha B - TJ ABC Braník 0:2 (-16\,-15)
DTSTART;TZID=Europe/Berlin:20230401T140000
DTEND;TZID=Europe/Berlin:20230401T160000
LOCATION:SKŠ ZŠ Mikulova Praha\, Mikulova 1594 Praha - Chodov
SUMMARY:PP-U18Z-6-C: Lvi Praha B-TJ ABC Braník
END:VEVENT
END:VCALENDAR
