BEGIN:VCALENDAR
VERSION:2.0
PRODID:-//Volejbal Spirit80600//NONSGML kigkonsult.se iCalcreator 2.41.80//
CALSCALE:GREGORIAN
UID:39653331-3164-4463-a136-326333663561
BEGIN:VEVENT
UID:65373135-6336-4033-b439-613935633634
DTSTAMP:20260425T145040Z
DESCRIPTION:3/7 Říčany - SK Kometa Praha 0:2 (-17\,-7)
DTSTART;TZID=Europe/Berlin:20220924T110000
DTEND;TZID=Europe/Berlin:20220924T130000
LOCATION:Sportovní hala Světice\, U Hřiště 151 Světice
SUMMARY:CP-U16Z-Z1B: Říčany-SK Kometa Praha
END:VEVENT
BEGIN:VEVENT
UID:61363166-3963-4636-a139-663138333030
DTSTAMP:20260425T145040Z
DESCRIPTION:5/10 Říčany - TJ EMĚ Mělník B 0:2 (-7\,-9)
DTSTART;TZID=Europe/Berlin:20220924T130000
DTEND;TZID=Europe/Berlin:20220924T150000
LOCATION:Sportovní hala Světice\, U Hřiště 151 Světice
SUMMARY:CP-U16Z-Z1B: Říčany-TJ EMĚ Mělník B
END:VEVENT
BEGIN:VEVENT
UID:36306239-3062-4166-b663-623734373431
DTSTAMP:20260425T145040Z
DESCRIPTION:7/16 Říčany - VSK Český Krumlov 0:2 (-18\,-18)
DTSTART;TZID=Europe/Berlin:20220924T150000
DTEND;TZID=Europe/Berlin:20220924T170000
LOCATION:Sportovní hala Světice\, U Hřiště 151 Světice
SUMMARY:CP-U16Z-Z1B: Říčany-VSK Český Krumlov
END:VEVENT
BEGIN:VEVENT
UID:61386235-3637-4634-b736-313034333366
DTSTAMP:20260425T145040Z
DESCRIPTION:9/19 Říčany - Kladno volejbal 1:2 (20\,-15\,-3)
DTSTART;TZID=Europe/Berlin:20220924T170000
DTEND;TZID=Europe/Berlin:20220924T190000
LOCATION:Sportovní hala Světice\, U Hřiště 151 Světice
SUMMARY:CP-U16Z-Z1B: Říčany-Kladno volejbal
END:VEVENT
BEGIN:VEVENT
UID:31653666-3464-4938-b561-626430306238
DTSTAMP:20260425T145040Z
DESCRIPTION:10/21 Říčany - TJ Jiskra Nový Bor 0:2 (-19\,-18)
DTSTART;TZID=Europe/Berlin:20220925T090000
DTEND;TZID=Europe/Berlin:20220925T110000
LOCATION:Sportovní hala Světice\, U Hřiště 151 Světice
SUMMARY:CP-U16Z-Z1B: Říčany-TJ Jiskra Nový Bor
END:VEVENT
BEGIN:VEVENT
UID:63313038-3237-4236-b365-313332363437
DTSTAMP:20260425T145040Z
DESCRIPTION:12/25 Říčany - TJ Sokol Mnichovo Hradiště 0:2 (-19\,-17)
DTSTART;TZID=Europe/Berlin:20220925T110000
DTEND;TZID=Europe/Berlin:20220925T130000
LOCATION:Sportovní hala Světice\, U Hřiště 151 Světice
SUMMARY:CP-U16Z-Z1B: Říčany-TJ Sokol Mnichovo Hradiště
END:VEVENT
BEGIN:VEVENT
UID:31633963-6666-4139-b836-363134313837
DTSTAMP:20260425T145040Z
DESCRIPTION:1/1 SK Dansport Praha - Říčany 2:1 (15\,-23\,13)
DTSTART;TZID=Europe/Berlin:20220924T090000
DTEND;TZID=Europe/Berlin:20220924T110000
LOCATION:Sportovní hala Gymnázia Jana Keplera\, Parléřova 118 Praha - Hradč
 any
SUMMARY:CP-U16Z-Z1B: SK Dansport Praha-Říčany
END:VEVENT
BEGIN:VEVENT
UID:31323938-3631-4436-b233-343061323739
DTSTAMP:20260425T145040Z
DESCRIPTION:1/1 Říčany - TJ Jiskra Nový Bor 1:2 (-11\,12\,-10)
DTSTART;TZID=Europe/Berlin:20221015T093000
DTEND;TZID=Europe/Berlin:20221015T113000
LOCATION:Sportovní hala Světice\, U Hřiště 151 Světice
SUMMARY:CP-U16Z-Z2E: Říčany-TJ Jiskra Nový Bor
END:VEVENT
BEGIN:VEVENT
UID:64663366-3934-4462-b962-666665356237
DTSTAMP:20260425T145040Z
DESCRIPTION:3/6 Říčany - TJ ABC Braník 0:2 (-15\,-22)
DTSTART;TZID=Europe/Berlin:20221015T140000
DTEND;TZID=Europe/Berlin:20221015T160000
LOCATION:Sportovní hala Světice\, U Hřiště 151 Světice
SUMMARY:CP-U16Z-Z2E: Říčany-TJ ABC Braník
END:VEVENT
BEGIN:VEVENT
UID:31383064-6337-4635-b630-393034326561
DTSTAMP:20260425T145040Z
DESCRIPTION:4/11 Říčany - SK TŘEBÍN\, z.s. 2:0 (22\,10)
DTSTART;TZID=Europe/Berlin:20221015T153000
DTEND;TZID=Europe/Berlin:20221015T173000
LOCATION:Sportovní hala Světice\, U Hřiště 151 Světice
SUMMARY:CP-U16Z-Z2E: Říčany-SK TŘEBÍN\, z.s.
END:VEVENT
BEGIN:VEVENT
UID:32313736-3032-4037-a638-626338653231
DTSTAMP:20260425T145040Z
DESCRIPTION:6/15 Říčany - SK Volejbal Kolín 2:0 (20\,26)
DTSTART;TZID=Europe/Berlin:20221016T090000
DTEND;TZID=Europe/Berlin:20221016T110000
LOCATION:Sportovní hala Světice\, U Hřiště 151 Světice
SUMMARY:CP-U16Z-Z2E: Říčany-SK Volejbal Kolín
END:VEVENT
BEGIN:VEVENT
UID:61643838-3433-4035-b430-666664343031
DTSTAMP:20260425T145040Z
DESCRIPTION:2/4 TJ Orion Praha B - Říčany 0:2 (-22\,-19)
DTSTART;TZID=Europe/Berlin:20221015T110000
DTEND;TZID=Europe/Berlin:20221015T130000
LOCATION:ZŠ Dolní Břežany\, Na Vršku 290 Dolní Břežany
SUMMARY:CP-U16Z-Z2E: TJ Orion Praha B-Říčany
END:VEVENT
BEGIN:VEVENT
UID:34656433-6665-4835-b037-653530376637
DTSTAMP:20260425T145040Z
DESCRIPTION:7/17 TJ EMĚ Mělník A - Říčany 0:2 (-10\,-9)
DTSTART;TZID=Europe/Berlin:20221016T103000
DTEND;TZID=Europe/Berlin:20221016T123000
LOCATION:Tělocvična ZŠ J. Matiegky\, Pražská 2817 Mělník
SUMMARY:CP-U16Z-Z2E: TJ EMĚ Mělník A-Říčany
END:VEVENT
BEGIN:VEVENT
UID:65336438-3663-4534-a530-643332386265
DTSTAMP:20260425T145040Z
DESCRIPTION:4/8 Říčany - SK Dansport Praha 0:2 (-17\,-17)
DTSTART;TZID=Europe/Berlin:20221119T133000
DTEND;TZID=Europe/Berlin:20221119T153000
LOCATION:Sportovní hala Světice\, U Hřiště 151 Světice
SUMMARY:CP-U16Z-Z3D: Říčany-SK Dansport Praha
END:VEVENT
BEGIN:VEVENT
UID:63313632-3238-4330-a239-316338323935
DTSTAMP:20260425T145040Z
DESCRIPTION:2/3 VK Slavia Plzeň - Říčany 2:0 (20\,15)
DTSTART;TZID=Europe/Berlin:20221119T103000
DTEND;TZID=Europe/Berlin:20221119T123000
LOCATION:Tělocvična 15.ZŠ\, Terezie Brzkové 863 Plzeň - Skvrňany
SUMMARY:CP-U16Z-Z3D: VK Slavia Plzeň-Říčany
END:VEVENT
BEGIN:VEVENT
UID:64386330-6666-4331-a462-303765376163
DTSTAMP:20260425T145040Z
DESCRIPTION:6/11 Mikulova B - Říčany 1:2 (24\,-22\,-12)
DTSTART;TZID=Europe/Berlin:20221119T163000
DTEND;TZID=Europe/Berlin:20221119T183000
LOCATION:tělocvičny ZŠ Mikulova\, Mikulova 1594 Praha - Chodov
SUMMARY:CP-U16Z-Z3D: Mikulova B-Říčany
END:VEVENT
BEGIN:VEVENT
UID:31366236-6236-4331-b230-303635346332
DTSTAMP:20260425T145040Z
DESCRIPTION:7/13 VSK Spartak Děčín - Říčany 1:2 (-21\,12\,-10)
DTSTART;TZID=Europe/Berlin:20221119T180000
DTEND;TZID=Europe/Berlin:20221119T200000
LOCATION:Tělocvična SPŠSaSt a VOŠ Děčín\, Čsl. armády 681 Děčín - Děčín I-D
 ěčín
SUMMARY:CP-U16Z-Z3D: VSK Spartak Děčín-Říčany
END:VEVENT
BEGIN:VEVENT
UID:30353762-6163-4566-a462-656633353033
DTSTAMP:20260425T145040Z
DESCRIPTION:9/18 TJ Kunice - Říčany 0:2 (-18\,-11)
DTSTART;TZID=Europe/Berlin:20221120T100000
DTEND;TZID=Europe/Berlin:20221120T120000
LOCATION:ZŠ Kunice\, Na Návsi 60 Kunice
SUMMARY:CP-U16Z-Z3D: TJ Kunice-Říčany
END:VEVENT
BEGIN:VEVENT
UID:65616434-6631-4861-b433-363735343838
DTSTAMP:20260425T145040Z
DESCRIPTION:10/20 TJ ABC Braník - Říčany 1:2 (-17\,8\,-12)
DTSTART;TZID=Europe/Berlin:20221120T113000
DTEND;TZID=Europe/Berlin:20221120T133000
LOCATION:Sokolovna Braník\, Branická 275 Praha - Braník
SUMMARY:CP-U16Z-Z3D: TJ ABC Braník-Říčany
END:VEVENT
BEGIN:VEVENT
UID:33326335-6239-4838-a362-376339326433
DTSTAMP:20260425T145040Z
DESCRIPTION:5/15 Říčany - Jiskra Jaroměř 2:0 (21\,15)
DTSTART;TZID=Europe/Berlin:20230122T090000
DTEND;TZID=Europe/Berlin:20230122T110000
LOCATION:Sportovní hala Světice\, U Hřiště 151 Světice
SUMMARY:CP-U16Z-F1H: Říčany-Jiskra Jaroměř
END:VEVENT
BEGIN:VEVENT
UID:38363333-3331-4361-a362-663531633435
DTSTAMP:20260425T145040Z
DESCRIPTION:6/18 Říčany - TJ Sokol Mnichovo Hradiště 1:2 (14\,-14\,-11)
DTSTART;TZID=Europe/Berlin:20230122T102000
DTEND;TZID=Europe/Berlin:20230122T122000
LOCATION:Sportovní hala Světice\, U Hřiště 151 Světice
SUMMARY:CP-U16Z-F1H: Říčany-TJ Sokol Mnichovo Hradiště
END:VEVENT
BEGIN:VEVENT
UID:36643439-6663-4032-b436-623432333234
DTSTAMP:20260425T145040Z
DESCRIPTION:7/21 Říčany - VK AUSTIN Vsetín 2:0 (21\,6)
DTSTART;TZID=Europe/Berlin:20230122T114000
DTEND;TZID=Europe/Berlin:20230122T134000
LOCATION:Sportovní hala Světice\, U Hřiště 151 Světice
SUMMARY:CP-U16Z-F1H: Říčany-VK AUSTIN Vsetín
END:VEVENT
BEGIN:VEVENT
UID:64633663-3364-4730-a632-393033396432
DTSTAMP:20260425T145040Z
DESCRIPTION:1/1 Volejbal Tábor - Říčany 0:2 (-16\,-11)
DTSTART;TZID=Europe/Berlin:20230121T110000
DTEND;TZID=Europe/Berlin:20230121T130000
LOCATION:Sportovní Hala Mír\, U Stadionu Míru 1579 Tábor
SUMMARY:CP-U16Z-F1H: Volejbal Tábor-Říčany
END:VEVENT
BEGIN:VEVENT
UID:62393237-3837-4335-b536-633662396335
DTSTAMP:20260425T145040Z
DESCRIPTION:2/4 TJ Slovácká Slavia U. Hradiště - Říčany 0:2 (-19\,-14)
DTSTART;TZID=Europe/Berlin:20230121T122000
DTEND;TZID=Europe/Berlin:20230121T142000
LOCATION:Městská sportovní hala\, Stonky 860 Uherské Hradiště
SUMMARY:CP-U16Z-F1H: TJ Slovácká Slavia U. Hradiště-Říčany
END:VEVENT
BEGIN:VEVENT
UID:32346263-6339-4265-b332-363066353134
DTSTAMP:20260425T145040Z
DESCRIPTION:4/12 SK Volejbal Kolín - Říčany 2:0 (20\,12)
DTSTART;TZID=Europe/Berlin:20230121T150000
DTEND;TZID=Europe/Berlin:20230121T170000
LOCATION:hala STAV\, SOŠ Kolín\, Brankovická 1417 Kolín - Kolín V
SUMMARY:CP-U16Z-F1H: SK Volejbal Kolín-Říčany
END:VEVENT
BEGIN:VEVENT
UID:32306265-6234-4939-b333-323964666630
DTSTAMP:20260425T145040Z
DESCRIPTION:2/6 Říčany - VSK Spartak Děčín 1:2 (-24\,24\,-13)
DTSTART;TZID=Europe/Berlin:20230218T113000
DTEND;TZID=Europe/Berlin:20230218T133000
LOCATION:Sportovní hala Světice\, U Hřiště 151 Světice
SUMMARY:CP-U16Z-F2G: Říčany-VSK Spartak Děčín
END:VEVENT
BEGIN:VEVENT
UID:37666564-3063-4266-a130-643962313831
DTSTAMP:20260425T145040Z
DESCRIPTION:4/11 Říčany - Střešovice 2:1 (20\,-18\,5)
DTSTART;TZID=Europe/Berlin:20230218T143000
DTEND;TZID=Europe/Berlin:20230218T163000
LOCATION:Sportovní hala Světice\, U Hřiště 151 Světice
SUMMARY:CP-U16Z-F2G: Říčany-Střešovice
END:VEVENT
BEGIN:VEVENT
UID:32363138-6634-4464-b531-616233353535
DTSTAMP:20260425T145040Z
DESCRIPTION:7/19 Říčany - TJ Sokol Předklášteří X:2
DTSTART;TZID=Europe/Berlin:20230219T130000
DTEND;TZID=Europe/Berlin:20230219T150000
LOCATION:Sportovní hala Světice\, U Hřiště 151 Světice
SUMMARY:CP-U16Z-F2G: Říčany-TJ Sokol Předklášteří
END:VEVENT
BEGIN:VEVENT
UID:61343637-3938-4636-b562-353663323434
DTSTAMP:20260425T145040Z
DESCRIPTION:1/2 SK Dansport Praha - Říčany 2:0 (23\,21)
DTSTART;TZID=Europe/Berlin:20230218T100000
DTEND;TZID=Europe/Berlin:20230218T120000
LOCATION:Sportovní hala Gymnázia Jana Keplera\, Parléřova 118 Praha - Hradč
 any
SUMMARY:CP-U16Z-F2G: SK Dansport Praha-Říčany
END:VEVENT
BEGIN:VEVENT
UID:39323564-3939-4366-b963-396562653265
DTSTAMP:20260425T145040Z
DESCRIPTION:3/9 SK Volejbal Kolín - Říčany 0:2 (-17\,-20)
DTSTART;TZID=Europe/Berlin:20230218T130000
DTEND;TZID=Europe/Berlin:20230218T150000
LOCATION:hala STAV\, SOŠ Kolín\, Brankovická 1417 Kolín - Kolín V
SUMMARY:CP-U16Z-F2G: SK Volejbal Kolín-Říčany
END:VEVENT
BEGIN:VEVENT
UID:65376530-3939-4564-b532-343961353931
DTSTAMP:20260425T145040Z
DESCRIPTION:5/13 TJ Jiskra H. Brod - Říčany X:2
DTSTART;TZID=Europe/Berlin:20230219T100000
DTEND;TZID=Europe/Berlin:20230219T120000
LOCATION:Tělocvična OA a hotelové školy\, Bratříků 851 Havlíčkův Brod
SUMMARY:CP-U16Z-F2G: TJ Jiskra H. Brod-Říčany
END:VEVENT
BEGIN:VEVENT
UID:62636634-3462-4262-a334-616465303938
DTSTAMP:20260425T145040Z
DESCRIPTION:2/4 Říčany - VSK Spartak Děčín 2:0 (14\,9)
DTSTART;TZID=Europe/Berlin:20230318T113000
DTEND;TZID=Europe/Berlin:20230318T133000
LOCATION:Sportovní hala Světice\, U Hřiště 151 Světice
SUMMARY:CP-U16Z-F3G: Říčany-VSK Spartak Děčín
END:VEVENT
BEGIN:VEVENT
UID:66666334-3765-4664-a234-663265343937
DTSTAMP:20260425T145040Z
DESCRIPTION:6/15 Říčany - VK Slavia Plzeň 2:1 (-23\,25\,11)\nškola Kam. Šen
 ov
DTSTART;TZID=Europe/Berlin:20230319T090000
DTEND;TZID=Europe/Berlin:20230319T110000
LOCATION:Sportovní hala Světice\, U Hřiště 151 Světice
SUMMARY:CP-U16Z-F3G: Říčany-VK Slavia Plzeň
END:VEVENT
BEGIN:VEVENT
UID:30653962-3633-4932-b935-353162323133
DTSTAMP:20260425T145040Z
DESCRIPTION:8/19 Říčany - TJ Kunice 1:2 (-12\,15\,-12)
DTSTART;TZID=Europe/Berlin:20230319T120000
DTEND;TZID=Europe/Berlin:20230319T140000
LOCATION:Sportovní hala Světice\, U Hřiště 151 Světice
SUMMARY:CP-U16Z-F3G: Říčany-TJ Kunice
END:VEVENT
BEGIN:VEVENT
UID:66376233-6533-4635-b063-363339333064
DTSTAMP:20260425T145040Z
DESCRIPTION:1/2 TJ Jiskra Nový Bor - Říčany 0:2 (-17\,-20)
DTSTART;TZID=Europe/Berlin:20230318T100000
DTEND;TZID=Europe/Berlin:20230318T120000
LOCATION:Sportovní hala Františka Arnošta Nový Bor\, U hřiště 1391 Nový Bor
SUMMARY:CP-U16Z-F3G: TJ Jiskra Nový Bor-Říčany
END:VEVENT
BEGIN:VEVENT
UID:36393764-3164-4136-b164-626535363566
DTSTAMP:20260425T145040Z
DESCRIPTION:3/9 Střešovice - Říčany 1:2 (-23\,16\,-11)
DTSTART;TZID=Europe/Berlin:20230318T130000
DTEND;TZID=Europe/Berlin:20230318T150000
LOCATION:TJ Tatran Střešovice\, Sibeliova 368 Praha - Střešovice
SUMMARY:CP-U16Z-F3G: Střešovice-Říčany
END:VEVENT
BEGIN:VEVENT
UID:34343535-3837-4262-a166-343264376263
DTSTAMP:20260425T145040Z
DESCRIPTION:4/12 Mikulova B - Říčany 0:2 (-14\,-6)
DTSTART;TZID=Europe/Berlin:20230318T143000
DTEND;TZID=Europe/Berlin:20230318T163000
LOCATION:tělocvičny ZŠ Mikulova\, Mikulova 1594 Praha - Chodov
SUMMARY:CP-U16Z-F3G: Mikulova B-Říčany
END:VEVENT
END:VCALENDAR
