BEGIN:VCALENDAR
VERSION:2.0
PRODID:-//VKM RÉMA Rychnov n.Kn.80687//NONSGML kigkonsult.se iCalcreator 2.41.80//
CALSCALE:GREGORIAN
UID:35396366-3838-4463-a231-343064653636
BEGIN:VEVENT
UID:61636435-6238-4938-b435-366563383539
DTSTAMP:20260421T201612Z
DESCRIPTION:3/5 RÉMA Rychnov - Tábor 0:2 (-19\,-18)
DTSTART;TZID=Europe/Berlin:20221022T113000
DTEND;TZID=Europe/Berlin:20221022T133000
LOCATION:VOŠ a SŠ zem.\, Komenského 873 Kostelec nad Orlicí
SUMMARY:CP-U20Z-1C: RÉMA Rychnov-Tábor
END:VEVENT
BEGIN:VEVENT
UID:33393338-3663-4832-b530-613131643266
DTSTAMP:20260421T201612Z
DESCRIPTION:5/8 RÉMA Rychnov - Přerov 1908 2:1 (16\,-16\,13)
DTSTART;TZID=Europe/Berlin:20221022T143000
DTEND;TZID=Europe/Berlin:20221022T163000
LOCATION:VOŠ a SŠ zem.\, Komenského 873 Kostelec nad Orlicí
SUMMARY:CP-U20Z-1C: RÉMA Rychnov-Přerov 1908
END:VEVENT
BEGIN:VEVENT
UID:35646464-3566-4438-b533-333963613634
DTSTAMP:20260421T201612Z
DESCRIPTION:9/14 RÉMA Rychnov - Jičín 0:2 (-11\,-13)
DTSTART;TZID=Europe/Berlin:20221022T183000
DTEND;TZID=Europe/Berlin:20221022T203000
LOCATION:VOŠ a SŠ zem.\, Komenského 873 Kostelec nad Orlicí
SUMMARY:CP-U20Z-1C: RÉMA Rychnov-Jičín
END:VEVENT
BEGIN:VEVENT
UID:30316562-6633-4336-a638-633762376230
DTSTAMP:20260421T201612Z
DESCRIPTION:1/1 Č.Třebová - RÉMA Rychnov 2:0 (18\,17)\nsp.hala SZeŠ Kostele
 c n.O.
DTSTART;TZID=Europe/Berlin:20221022T090000
DTEND;TZID=Europe/Berlin:20221022T110000
LOCATION:Základní škola Česká Třebová Habrmanova\, Na Skále\, Na Skále 566 
 Česká Třebová
SUMMARY:CP-U20Z-1C: Č.Třebová-RÉMA Rychnov
END:VEVENT
BEGIN:VEVENT
UID:35663762-6565-4163-b339-353432363732
DTSTAMP:20260421T201612Z
DESCRIPTION:10/16 Litomyšl - RÉMA Rychnov 1:2 (-22\,27\,-8)
DTSTART;TZID=Europe/Berlin:20221023T090000
DTEND;TZID=Europe/Berlin:20221023T110000
LOCATION:Městská sportovní hala\, T. G. Masaryka 1145 Litomyšl - Litomyšl-M
 ěsto
SUMMARY:CP-U20Z-1C: Litomyšl-RÉMA Rychnov
END:VEVENT
BEGIN:VEVENT
UID:32353537-6438-4636-b233-316538373161
DTSTAMP:20260421T201612Z
DESCRIPTION:13/21 Sokol Havlíčkův Brod - RÉMA Rychnov 2:0 (10\,17)
DTSTART;TZID=Europe/Berlin:20221023T123000
DTEND;TZID=Europe/Berlin:20221023T143000
LOCATION:Střední zdravotnická škola Havlíčkův Brod\, Masarykova 2033 Havlíč
 kův Brod
SUMMARY:CP-U20Z-1C: Sokol Havlíčkův Brod-RÉMA Rychnov
END:VEVENT
BEGIN:VEVENT
UID:32623664-3961-4131-a633-616334663836
DTSTAMP:20260421T201612Z
DESCRIPTION:3/5 RÉMA Rychnov - Litomyšl 1:2 (16\,-22\,-8)
DTSTART;TZID=Europe/Berlin:20221126T113000
DTEND;TZID=Europe/Berlin:20221126T133000
LOCATION:VOŠ a SŠ zem.\, Komenského 873 Kostelec nad Orlicí
SUMMARY:CP-U20Z-2C: RÉMA Rychnov-Litomyšl
END:VEVENT
BEGIN:VEVENT
UID:63313361-6439-4365-a263-303563376266
DTSTAMP:20260421T201612Z
DESCRIPTION:7/14 RÉMA Rychnov - Tělovýchovná jednota Jiskra Havlíčkův Brod 
 z.s. 0:2 (-16\,-21)
DTSTART;TZID=Europe/Berlin:20221126T163000
DTEND;TZID=Europe/Berlin:20221126T183000
LOCATION:VOŠ a SŠ zem.\, Komenského 873 Kostelec nad Orlicí
SUMMARY:CP-U20Z-2C: RÉMA Rychnov-Tělovýchovná jednota Jiskra Havlíčkův Brod
  z.s.
END:VEVENT
BEGIN:VEVENT
UID:38633834-3062-4430-b033-616631373932
DTSTAMP:20260421T201612Z
DESCRIPTION:1/1 SPORT KLUB Náchod\, z.s. - RÉMA Rychnov 2:0 (9\,18)
DTSTART;TZID=Europe/Berlin:20221126T090000
DTEND;TZID=Europe/Berlin:20221126T110000
LOCATION:SPORT KLUB Náchod\, Pražská 696 Náchod
SUMMARY:CP-U20Z-2C: SPORT KLUB Náchod\, z.s.-RÉMA Rychnov
END:VEVENT
BEGIN:VEVENT
UID:37353238-6465-4333-a330-616561316564
DTSTAMP:20260421T201612Z
DESCRIPTION:6/12 Napajedla - RÉMA Rychnov 2:0 (22\,24)
DTSTART;TZID=Europe/Berlin:20221126T151500
DTEND;TZID=Europe/Berlin:20221126T171500
LOCATION:2.ZŠ Napajedla\, Komenského 298 Napajedla
SUMMARY:CP-U20Z-2C: Napajedla-RÉMA Rychnov
END:VEVENT
BEGIN:VEVENT
UID:64376139-3030-4163-b033-653833366132
DTSTAMP:20260421T201612Z
DESCRIPTION:9/17 TJ Žichlínek\, z.s. - RÉMA Rychnov 2:0 (20\,22)
DTSTART;TZID=Europe/Berlin:20221127T101500
DTEND;TZID=Europe/Berlin:20221127T121500
LOCATION:SOŠ a SOU Lanškroun\, Sokolská 288 Lanškroun - Ostrovské Předměstí
SUMMARY:CP-U20Z-2C: TJ Žichlínek\, z.s.-RÉMA Rychnov
END:VEVENT
BEGIN:VEVENT
UID:31616136-6462-4966-b933-316636316139
DTSTAMP:20260421T201612Z
DESCRIPTION:10/20 TJ ABC Braník\, z.s. - RÉMA Rychnov 2:0 (18\,25)
DTSTART;TZID=Europe/Berlin:20221127T113000
DTEND;TZID=Europe/Berlin:20221127T133000
LOCATION:Sokolovna Braník\, Branická 275 Praha - Braník
SUMMARY:CP-U20Z-2C: TJ ABC Braník\, z.s.-RÉMA Rychnov
END:VEVENT
BEGIN:VEVENT
UID:65396331-3231-4663-a666-666634393936
DTSTAMP:20260421T201612Z
DESCRIPTION:1/2 RÉMA Rychnov - Přerov 1908 2:0 (16\,18)
DTSTART;TZID=Europe/Berlin:20230225T093000
DTEND;TZID=Europe/Berlin:20230225T113000
LOCATION:VOŠ a SŠ zem.\, Komenského 873 Kostelec nad Orlicí
SUMMARY:CP-U20Z-3D: RÉMA Rychnov-Přerov 1908
END:VEVENT
BEGIN:VEVENT
UID:66636332-6632-4166-b963-373464666263
DTSTAMP:20260421T201612Z
DESCRIPTION:4/12 RÉMA Rychnov - Raškovice 1:2 (20\,-10\,-10)
DTSTART;TZID=Europe/Berlin:20230225T160000
DTEND;TZID=Europe/Berlin:20230225T180000
LOCATION:VOŠ a SŠ zem.\, Komenského 873 Kostelec nad Orlicí
SUMMARY:CP-U20Z-3D: RÉMA Rychnov-Raškovice
END:VEVENT
BEGIN:VEVENT
UID:63383935-3437-4737-b332-323366323437
DTSTAMP:20260421T201612Z
DESCRIPTION:2/4 Volejbalový klub Karlovy Vary z.s. - RÉMA Rychnov 0:2 (-7\,
 -9)
DTSTART;TZID=Europe/Berlin:20230225T113000
DTEND;TZID=Europe/Berlin:20230225T133000
LOCATION:Mattoni Arena Hala míčových sportů\, Západní 1812 Karlovy Vary
SUMMARY:CP-U20Z-3D: Volejbalový klub Karlovy Vary z.s.-RÉMA Rychnov
END:VEVENT
BEGIN:VEVENT
UID:65313735-3938-4835-b137-623032613763
DTSTAMP:20260421T201612Z
DESCRIPTION:3/8 Litomyšl - RÉMA Rychnov 2:1 (-15\,19\,12)
DTSTART;TZID=Europe/Berlin:20230225T133000
DTEND;TZID=Europe/Berlin:20230225T153000
LOCATION:Městská sportovní hala\, T. G. Masaryka 1145 Litomyšl - Litomyšl-M
 ěsto
SUMMARY:CP-U20Z-3D: Litomyšl-RÉMA Rychnov
END:VEVENT
BEGIN:VEVENT
UID:61303734-3937-4265-b933-653366306537
DTSTAMP:20260421T201612Z
DESCRIPTION:5/15 TJ Svitavy - RÉMA Rychnov 2:0 (20\,15)
DTSTART;TZID=Europe/Berlin:20230225T180000
DTEND;TZID=Europe/Berlin:20230225T200000
LOCATION:Sportovní hala Na Střelnici\, Pražská 2162 Svitavy - Předměstí
SUMMARY:CP-U20Z-3D: TJ Svitavy-RÉMA Rychnov
END:VEVENT
BEGIN:VEVENT
UID:61313861-6232-4531-b535-316330636538
DTSTAMP:20260421T201612Z
DESCRIPTION:2/6 RÉMA Rychnov - Přerov 1908 2:0 (24\,23)
DTSTART;TZID=Europe/Berlin:20230325T104500
DTEND;TZID=Europe/Berlin:20230325T124500
LOCATION:VOŠ a SŠ zem.\, Komenského 873 Kostelec nad Orlicí
SUMMARY:CP-U20Z-4D: RÉMA Rychnov-Přerov 1908
END:VEVENT
BEGIN:VEVENT
UID:34336331-6166-4338-a331-343665623462
DTSTAMP:20260421T201612Z
DESCRIPTION:1/1 TJ Svitavy - RÉMA Rychnov 2:0 (21\,15)
DTSTART;TZID=Europe/Berlin:20230325T093000
DTEND;TZID=Europe/Berlin:20230325T113000
LOCATION:Sportovní hala Na Střelnici\, Pražská 2162 Svitavy - Předměstí
SUMMARY:CP-U20Z-4D: TJ Svitavy-RÉMA Rychnov
END:VEVENT
BEGIN:VEVENT
UID:34653461-3539-4436-b130-613535373432
DTSTAMP:20260421T201612Z
DESCRIPTION:3/9 Volejbalový klub Karlovy Vary z.s. - RÉMA Rychnov 0:2 (-16\
 ,-23)
DTSTART;TZID=Europe/Berlin:20230325T130000
DTEND;TZID=Europe/Berlin:20230325T150000
LOCATION:Mattoni Arena Hala míčových sportů\, Západní 1812 Karlovy Vary
SUMMARY:CP-U20Z-4D: Volejbalový klub Karlovy Vary z.s.-RÉMA Rychnov
END:VEVENT
BEGIN:VEVENT
UID:38316632-3964-4531-b162-333834303937
DTSTAMP:20260421T201612Z
DESCRIPTION:4/12 TJ Žichlínek\, z.s. - RÉMA Rychnov 2:0 (12\,20)
DTSTART;TZID=Europe/Berlin:20230325T150000
DTEND;TZID=Europe/Berlin:20230325T170000
LOCATION:SOŠ a SOU Lanškroun\, Sokolská 288 Lanškroun - Ostrovské Předměstí
SUMMARY:CP-U20Z-4D: TJ Žichlínek\, z.s.-RÉMA Rychnov
END:VEVENT
BEGIN:VEVENT
UID:62316236-6561-4665-a266-653438393463
DTSTAMP:20260421T201612Z
DESCRIPTION:5/14 Tábor - RÉMA Rychnov 0:2 (-18\,-23)
DTSTART;TZID=Europe/Berlin:20230325T170000
DTEND;TZID=Europe/Berlin:20230325T190000
LOCATION:Sportovní Hala Mír\, U Stadionu Míru 1579 Tábor
SUMMARY:CP-U20Z-4D: Tábor-RÉMA Rychnov
END:VEVENT
BEGIN:VEVENT
UID:62383137-6562-4265-b364-303235623462
DTSTAMP:20260421T201612Z
DESCRIPTION:1/2 RÉMA Rychnov - Volejbalový klub Karlovy Vary z.s. 2:0 (10\,
 14)\nKostelec/O\, hř.1
DTSTART;TZID=Europe/Berlin:20230422T093000
DTEND;TZID=Europe/Berlin:20230422T113000
LOCATION:VOŠ a SŠ zem.\, Komenského 873 Kostelec nad Orlicí
SUMMARY:CP-U20Z-5D: RÉMA Rychnov-Volejbalový klub Karlovy Vary z.s.
END:VEVENT
BEGIN:VEVENT
UID:62643130-3165-4964-a334-646238626437
DTSTAMP:20260421T201612Z
DESCRIPTION:5/15 RÉMA Rychnov - TJ Svitavy 2:0 (24\,26)
DTSTART;TZID=Europe/Berlin:20230422T170000
DTEND;TZID=Europe/Berlin:20230422T190000
LOCATION:VOŠ a SŠ zem.\, Komenského 873 Kostelec nad Orlicí
SUMMARY:CP-U20Z-5D: RÉMA Rychnov-TJ Svitavy
END:VEVENT
BEGIN:VEVENT
UID:36303361-6337-4961-a331-313636313930
DTSTAMP:20260421T201612Z
DESCRIPTION:2/6 Litomyšl - RÉMA Rychnov 0:2 (-18\,-17)
DTSTART;TZID=Europe/Berlin:20230422T104500
DTEND;TZID=Europe/Berlin:20230422T124500
LOCATION:Městská sportovní hala\, T. G. Masaryka 1145 Litomyšl - Litomyšl-M
 ěsto
SUMMARY:CP-U20Z-5D: Litomyšl-RÉMA Rychnov
END:VEVENT
BEGIN:VEVENT
UID:33656138-3165-4333-b665-643439376338
DTSTAMP:20260421T201612Z
DESCRIPTION:3/8 VK AUSTIN Vsetín z.s. - RÉMA Rychnov 1:2 (-25\,9\,-13)
DTSTART;TZID=Europe/Berlin:20230422T130000
DTEND;TZID=Europe/Berlin:20230422T150000
LOCATION:Sportovní hala Na Lapači\, Na Lapači 247 Vsetín - Rokytnice
SUMMARY:CP-U20Z-5D: VK AUSTIN Vsetín z.s.-RÉMA Rychnov
END:VEVENT
BEGIN:VEVENT
UID:39383961-6232-4733-a335-653331633939
DTSTAMP:20260421T201612Z
DESCRIPTION:4/10 Přerov 1908 - RÉMA Rychnov 0:2 (-15\,-21)
DTSTART;TZID=Europe/Berlin:20230422T150000
DTEND;TZID=Europe/Berlin:20230422T170000
LOCATION:Tělocvična SŠGaS\, Šířava 670 Přerov - Přerov I-Město
SUMMARY:CP-U20Z-5D: Přerov 1908-RÉMA Rychnov
END:VEVENT
END:VCALENDAR
