BEGIN:VCALENDAR
VERSION:2.0
PRODID:-//SK PODĚSport z.s.80736//NONSGML kigkonsult.se iCalcreator 2.41.80//
CALSCALE:GREGORIAN
UID:62353535-6364-4737-a330-663565363261
BEGIN:VEVENT
UID:33616532-6264-4766-b332-656631346634
DTSTAMP:20260421T153301Z
DESCRIPTION:1/15 PODĚS - Králův Dvůr 0:2 (-12\,-13)
DTSTART;TZID=Europe/Berlin:20221009T090000
DTEND;TZID=Europe/Berlin:20221009T110000
LOCATION:Hala SPŠS Mělník\, Českobratrská 386 Mělník
SUMMARY:ST-U14M-21B: PODĚS-Králův Dvůr
END:VEVENT
BEGIN:VEVENT
UID:64663466-3636-4564-b936-313631633338
DTSTAMP:20260421T153301Z
DESCRIPTION:1/2 Odolena Voda C - PODĚS 2:0 (9\,13)
DTSTART;TZID=Europe/Berlin:20221009T090000
DTEND;TZID=Europe/Berlin:20221009T110000
LOCATION:Sportovní hala\, Ke Stadionu 375 Odolena Voda
SUMMARY:ST-U14M-21B: Odolena Voda C-PODĚS
END:VEVENT
BEGIN:VEVENT
UID:32666635-6430-4637-b935-303032633731
DTSTAMP:20260421T153301Z
DESCRIPTION:1/9 Kladno A - PODĚS 0:2 (-4\,-4)
DTSTART;TZID=Europe/Berlin:20221009T090000
DTEND;TZID=Europe/Berlin:20221009T110000
LOCATION:Kladenská sportovní hala\, Sportovců 817 Kladno - Rozdělov
SUMMARY:ST-U14M-21B: Kladno A-PODĚS
END:VEVENT
BEGIN:VEVENT
UID:38353337-3863-4063-b562-306331336338
DTSTAMP:20260421T153301Z
DESCRIPTION:1/31 Kralupy - PODĚS 2:0 (23\,17)
DTSTART;TZID=Europe/Berlin:20221009T090000
DTEND;TZID=Europe/Berlin:20221009T110000
LOCATION:TJ KRALUPY\, z.s.\, Gen. Klapálka 1029 Kralupy nad Vltavou
SUMMARY:ST-U14M-21P2: Kralupy-PODĚS
END:VEVENT
BEGIN:VEVENT
UID:30333333-6131-4632-b139-363433363239
DTSTAMP:20260421T153301Z
DESCRIPTION:1/37 Benátky nad Jizerou B - PODĚS 2:0 (12\,11)
DTSTART;TZID=Europe/Berlin:20221009T090000
DTEND;TZID=Europe/Berlin:20221009T110000
LOCATION:Nibe aréna\, městská sportovní hala\, 5. května 746 Benátky nad Ji
 zerou - Benátky nad Jizerou II
SUMMARY:ST-U14M-21P3: Benátky nad Jizerou B-PODĚS
END:VEVENT
BEGIN:VEVENT
UID:35316663-3666-4161-a234-653963323861
DTSTAMP:20260421T153301Z
DESCRIPTION:1/9 PODĚS - Odolena Voda D 0:2 (-18\,-23)
DTSTART;TZID=Europe/Berlin:20221120T090000
DTEND;TZID=Europe/Berlin:20221120T110000
LOCATION:Hala SPŠS Mělník\, Českobratrská 386 Mělník
SUMMARY:ST-U14M-22D: PODĚS-Odolena Voda D
END:VEVENT
BEGIN:VEVENT
UID:36343266-6137-4632-b435-373532326537
DTSTAMP:20260421T153301Z
DESCRIPTION:1/3 Benátky nad Jizerou A - PODĚS 2:0 (24\,23)
DTSTART;TZID=Europe/Berlin:20221120T090000
DTEND;TZID=Europe/Berlin:20221120T110000
LOCATION:Nibe aréna\, městská sportovní hala\, 5. května 746 Benátky nad Ji
 zerou - Benátky nad Jizerou II
SUMMARY:ST-U14M-22D: Benátky nad Jizerou A-PODĚS
END:VEVENT
BEGIN:VEVENT
UID:36366333-3336-4164-b837-656339333431
DTSTAMP:20260421T153301Z
DESCRIPTION:1/18 Plzeň - PODĚS 2:0 (14\,21)
DTSTART;TZID=Europe/Berlin:20221120T090000
DTEND;TZID=Europe/Berlin:20221120T110000
LOCATION:Bolevecká základní škola ( 18.ZŠ)\, náměstí Odboje 550 Plzeň - Bol
 evec
SUMMARY:ST-U14M-22D: Plzeň-PODĚS
END:VEVENT
BEGIN:VEVENT
UID:36613436-3731-4432-b339-303733633065
DTSTAMP:20260421T153301Z
DESCRIPTION:1/29 PODĚS - Kladno A 2:0 (10\,10)
DTSTART;TZID=Europe/Berlin:20221120T090000
DTEND;TZID=Europe/Berlin:20221120T110000
LOCATION:Hala SPŠS Mělník\, Českobratrská 386 Mělník
SUMMARY:ST-U14M-22P13: PODĚS-Kladno A
END:VEVENT
BEGIN:VEVENT
UID:33333337-6363-4530-b531-656262333664
DTSTAMP:20260421T153301Z
DESCRIPTION:1/22 Mladá Boleslav - PODĚS 2:0 (17\,21)
DTSTART;TZID=Europe/Berlin:20221120T090000
DTEND;TZID=Europe/Berlin:20221120T110000
LOCATION:7. Základní škola\, Václavkova 1082 Mladá Boleslav - Mladá Bolesla
 v II
SUMMARY:ST-U14M-22P13: Mladá Boleslav-PODĚS
END:VEVENT
BEGIN:VEVENT
UID:62323162-3430-4435-b863-313262666363
DTSTAMP:20260421T153301Z
DESCRIPTION:1/11 PODĚS - Nymburk 0:2 (-14\,-19)
DTSTART;TZID=Europe/Berlin:20230122T090000
DTEND;TZID=Europe/Berlin:20230122T110000
LOCATION:Hala SPŠS Mělník\, Českobratrská 386 Mělník
SUMMARY:ST-U14M-23C: PODĚS-Nymburk
END:VEVENT
BEGIN:VEVENT
UID:65306338-3563-4731-a231-343963303331
DTSTAMP:20260421T153301Z
DESCRIPTION:1/5 Kladno B - PODĚS 2:0 (12\,14)
DTSTART;TZID=Europe/Berlin:20230122T090000
DTEND;TZID=Europe/Berlin:20230122T110000
LOCATION:Kladenská sportovní hala\, Sportovců 817 Kladno - Rozdělov
SUMMARY:ST-U14M-23C: Kladno B-PODĚS
END:VEVENT
BEGIN:VEVENT
UID:65316433-3264-4530-b037-363031336565
DTSTAMP:20260421T153301Z
DESCRIPTION:1/17 Benátky nad Jizerou A - PODĚS 2:0 (18\,15)
DTSTART;TZID=Europe/Berlin:20230122T090000
DTEND;TZID=Europe/Berlin:20230122T110000
LOCATION:Nibe aréna\, městská sportovní hala\, 5. května 746 Benátky nad Ji
 zerou - Benátky nad Jizerou II
SUMMARY:ST-U14M-23C: Benátky nad Jizerou A-PODĚS
END:VEVENT
BEGIN:VEVENT
UID:64303432-3131-4433-b232-323139623336
DTSTAMP:20260421T153302Z
DESCRIPTION:1/25 PODĚS - Odolena Voda E 2:0 (4\,4)
DTSTART;TZID=Europe/Berlin:20230122T090000
DTEND;TZID=Europe/Berlin:20230122T110000
LOCATION:Hala SPŠS Mělník\, Českobratrská 386 Mělník
SUMMARY:ST-U14M-23P2: PODĚS-Odolena Voda E
END:VEVENT
BEGIN:VEVENT
UID:30333839-3838-4265-a361-656338313538
DTSTAMP:20260421T153302Z
DESCRIPTION:1/8 PODĚS - Nymburk 0:2 (-6\,-16)
DTSTART;TZID=Europe/Berlin:20230319T090000
DTEND;TZID=Europe/Berlin:20230319T110000
LOCATION:Hala SPŠS Mělník\, Českobratrská 386 Mělník
SUMMARY:ST-U14M-24D: PODĚS-Nymburk
END:VEVENT
BEGIN:VEVENT
UID:31613830-3139-4536-a135-336338323634
DTSTAMP:20260421T153302Z
DESCRIPTION:1/2 Odolena Voda B - PODĚS 2:0 (9\,13)
DTSTART;TZID=Europe/Berlin:20230319T090000
DTEND;TZID=Europe/Berlin:20230319T110000
LOCATION:Sportovní hala\, Ke Stadionu 375 Odolena Voda
SUMMARY:ST-U14M-24D: Odolena Voda B-PODĚS
END:VEVENT
BEGIN:VEVENT
UID:39383037-3761-4665-a532-656538633733
DTSTAMP:20260421T153302Z
DESCRIPTION:1/14 Benátky nad Jizerou B - PODĚS 0:2 (-25\,-21)
DTSTART;TZID=Europe/Berlin:20230319T090000
DTEND;TZID=Europe/Berlin:20230319T110000
LOCATION:Nibe aréna\, městská sportovní hala\, 5. května 746 Benátky nad Ji
 zerou - Benátky nad Jizerou II
SUMMARY:ST-U14M-24D: Benátky nad Jizerou B-PODĚS
END:VEVENT
BEGIN:VEVENT
UID:65393465-6164-4133-a464-306130326130
DTSTAMP:20260421T153302Z
DESCRIPTION:1/18 Benátky nad Jizerou A - PODĚS 2:1 (18\,-26\,9)
DTSTART;TZID=Europe/Berlin:20230319T090000
DTEND;TZID=Europe/Berlin:20230319T110000
LOCATION:Nibe aréna\, městská sportovní hala\, 5. května 746 Benátky nad Ji
 zerou - Benátky nad Jizerou II
SUMMARY:ST-U14M-24P1: Benátky nad Jizerou A-PODĚS
END:VEVENT
BEGIN:VEVENT
UID:30643631-3361-4239-b935-386332343038
DTSTAMP:20260421T153302Z
DESCRIPTION:1/22 PODĚS - Mladá Boleslav 0:2 (-16\,-19)
DTSTART;TZID=Europe/Berlin:20230319T090000
DTEND;TZID=Europe/Berlin:20230319T110000
LOCATION:Hala SPŠS Mělník\, Českobratrská 386 Mělník
SUMMARY:ST-U14M-24P2: PODĚS-Mladá Boleslav
END:VEVENT
BEGIN:VEVENT
UID:61366133-6630-4265-a630-633962636234
DTSTAMP:20260421T153302Z
DESCRIPTION:1/9 PODĚS - Kladno B 0:2 (-9\,-9)
DTSTART;TZID=Europe/Berlin:20230423T090000
DTEND;TZID=Europe/Berlin:20230423T110000
LOCATION:Hala SPŠS Mělník\, Českobratrská 386 Mělník
SUMMARY:ST-U14M-25D: PODĚS-Kladno B
END:VEVENT
BEGIN:VEVENT
UID:34623533-3334-4232-a139-653633386232
DTSTAMP:20260421T153302Z
DESCRIPTION:1/14 PODĚS - Benátky nad Jizerou B 1:2 (18\,-22\,-12)
DTSTART;TZID=Europe/Berlin:20230423T090000
DTEND;TZID=Europe/Berlin:20230423T110000
LOCATION:Hala SPŠS Mělník\, Českobratrská 386 Mělník
SUMMARY:ST-U14M-25D: PODĚS-Benátky nad Jizerou B
END:VEVENT
BEGIN:VEVENT
UID:66343663-6163-4664-b563-363262653861
DTSTAMP:20260421T153302Z
DESCRIPTION:1/3 Kralupy - PODĚS 2:0 (15\,12)
DTSTART;TZID=Europe/Berlin:20230423T090000
DTEND;TZID=Europe/Berlin:20230423T110000
LOCATION:TJ KRALUPY\, z.s.\, Gen. Klapálka 1029 Kralupy nad Vltavou
SUMMARY:ST-U14M-25D: Kralupy-PODĚS
END:VEVENT
END:VCALENDAR
