BEGIN:VCALENDAR
VERSION:2.0
PRODID:-//Volejbalový sportovní klub Zlín, z.s.80816//NONSGML kigkonsult.se iCalcreator 2.41.80//
CALSCALE:GREGORIAN
UID:34383133-6230-4665-a662-333066663331
BEGIN:VEVENT
UID:33633665-3064-4834-a363-383838393233
DTSTAMP:20260421T090651Z
DESCRIPTION:1/1 VSC Zlín - VK Ostrava\, z.s. 2:0 (15\,14)
DTSTART;TZID=Europe/Berlin:20221015T112000
DTEND;TZID=Europe/Berlin:20221015T132000
LOCATION:ZŠ Okružní Zlín\, Okružní 4685 Zlín
SUMMARY:CP-U16M-V1A: VSC Zlín-VK Ostrava\, z.s.
END:VEVENT
BEGIN:VEVENT
UID:37393332-6531-4637-b938-323334363639
DTSTAMP:20260421T090651Z
DESCRIPTION:4/4 VSC Zlín - Spartak Velké Meziříčí 2:0 (20\,18)
DTSTART;TZID=Europe/Berlin:20221015T145000
DTEND;TZID=Europe/Berlin:20221015T165000
LOCATION:ZŠ Okružní Zlín\, Okružní 4685 Zlín
SUMMARY:CP-U16M-V1A: VSC Zlín-Spartak Velké Meziříčí
END:VEVENT
BEGIN:VEVENT
UID:65363265-3761-4235-b432-386237306261
DTSTAMP:20260421T090651Z
DESCRIPTION:5/5 VK Znojmo - Přímětice - VSC Zlín 0:2 (-12\,-24)
DTSTART;TZID=Europe/Berlin:20221015T160000
DTEND;TZID=Europe/Berlin:20221015T180000
LOCATION:Tělocvična ZŠ Prokopa Diviše a MŠ\, Ke Škole 569 Znojmo - Přímětic
 e
SUMMARY:CP-U16M-V1A: VK Znojmo - Přímětice-VSC Zlín
END:VEVENT
BEGIN:VEVENT
UID:61316635-3033-4339-b035-633830393762
DTSTAMP:20260421T090651Z
DESCRIPTION:1/1 VSC Zlín - Orel Letohrad 2:0 (14\,13)
DTSTART;TZID=Europe/Berlin:20221015T182000
DTEND;TZID=Europe/Berlin:20221015T202000
LOCATION:ZŠ Okružní Zlín\, Okružní 4685 Zlín
SUMMARY:CP-U16M-V1-PLAY-: VSC Zlín-Orel Letohrad
END:VEVENT
BEGIN:VEVENT
UID:39646634-6262-4533-a635-336463653161
DTSTAMP:20260421T090651Z
DESCRIPTION:3/5 VSC Zlín - Tělovýchovná jednota Nový Jičín\, z.s. 2:1 (24\,
 -22\,8)
DTSTART;TZID=Europe/Berlin:20221016T090000
DTEND;TZID=Europe/Berlin:20221016T110000
LOCATION:ZŠ Okružní Zlín\, Okružní 4685 Zlín
SUMMARY:CP-U16M-V1-PLAY-: VSC Zlín-Tělovýchovná jednota Nový Jičín\, z.s.
END:VEVENT
BEGIN:VEVENT
UID:66303863-3265-4235-b834-623066613936
DTSTAMP:20260421T090651Z
DESCRIPTION:6/12 VSC Zlín - Green Volley Frýdek-Místek\, z.s. 2:1 (-20\,23\
 ,10)
DTSTART;TZID=Europe/Berlin:20221016T123000
DTEND;TZID=Europe/Berlin:20221016T143000
LOCATION:ZŠ Okružní Zlín\, Okružní 4685 Zlín
SUMMARY:CP-U16M-V1-PLAY-: VSC Zlín-Green Volley Frýdek-Místek\, z.s.
END:VEVENT
BEGIN:VEVENT
UID:33613262-6432-4336-b030-303661363735
DTSTAMP:20260421T090651Z
DESCRIPTION:3/3 VSC Zlín - Volejbalový spolek Ostrava 2:0 (14\,13)
DTSTART;TZID=Europe/Berlin:20221119T112000
DTEND;TZID=Europe/Berlin:20221119T132000
LOCATION:ZŠ Okružní Zlín\, Okružní 4685 Zlín
SUMMARY:CP-U16M-V2A: VSC Zlín-Volejbalový spolek Ostrava
END:VEVENT
BEGIN:VEVENT
UID:61656464-3637-4436-b334-323663363361
DTSTAMP:20260421T090651Z
DESCRIPTION:5/5 VSC Zlín - VK Znojmo - Přímětice 2:0 (12\,17)
DTSTART;TZID=Europe/Berlin:20221119T134000
DTEND;TZID=Europe/Berlin:20221119T154000
LOCATION:ZŠ Okružní Zlín\, Okružní 4685 Zlín
SUMMARY:CP-U16M-V2A: VSC Zlín-VK Znojmo - Přímětice
END:VEVENT
BEGIN:VEVENT
UID:31666335-6333-4633-b735-333636323532
DTSTAMP:20260421T090651Z
DESCRIPTION:7/7 VSC Zlín - SK Kojetín 2016\, z.s. 2:0 (16\,11)
DTSTART;TZID=Europe/Berlin:20221119T160000
DTEND;TZID=Europe/Berlin:20221119T180000
LOCATION:ZŠ Okružní Zlín\, Okružní 4685 Zlín
SUMMARY:CP-U16M-V2A: VSC Zlín-SK Kojetín 2016\, z.s.
END:VEVENT
BEGIN:VEVENT
UID:33376662-3734-4763-a166-333663633439
DTSTAMP:20260421T090651Z
DESCRIPTION:8/9 VSC Zlín - Spartak Velké Meziříčí 2:0 (16\,15)
DTSTART;TZID=Europe/Berlin:20221119T171000
DTEND;TZID=Europe/Berlin:20221119T191000
LOCATION:ZŠ Okružní Zlín\, Okružní 4685 Zlín
SUMMARY:CP-U16M-V2A: VSC Zlín-Spartak Velké Meziříčí
END:VEVENT
BEGIN:VEVENT
UID:64386532-3865-4366-b532-346531306166
DTSTAMP:20260421T090651Z
DESCRIPTION:1/1 VSC Zlín - VK Znojmo - Přímětice 2:0 (16\,20)
DTSTART;TZID=Europe/Berlin:20221119T182000
DTEND;TZID=Europe/Berlin:20221119T202000
LOCATION:ZŠ Okružní Zlín\, Okružní 4685 Zlín
SUMMARY:CP-U16M-V2-PLAY-: VSC Zlín-VK Znojmo - Přímětice
END:VEVENT
BEGIN:VEVENT
UID:37323236-3038-4636-b935-386337663839
DTSTAMP:20260421T090651Z
DESCRIPTION:3/5 VSC Zlín - TJ SOKOL LETOVICE\, z.s. 1:2 (-17\,23\,-10)
DTSTART;TZID=Europe/Berlin:20221120T090000
DTEND;TZID=Europe/Berlin:20221120T110000
LOCATION:ZŠ Okružní Zlín\, Okružní 4685 Zlín
SUMMARY:CP-U16M-V2-PLAY-: VSC Zlín-TJ SOKOL LETOVICE\, z.s.
END:VEVENT
BEGIN:VEVENT
UID:36316466-3135-4361-b862-613139653464
DTSTAMP:20260421T090651Z
DESCRIPTION:6/11 VSC Zlín - Tělovýchovná jednota Nový Jičín\, z.s. 0:2 (-26
 \,-18)
DTSTART;TZID=Europe/Berlin:20221120T124500
DTEND;TZID=Europe/Berlin:20221120T144500
LOCATION:ZŠ Okružní Zlín\, Okružní 4685 Zlín
SUMMARY:CP-U16M-V2-PLAY-: VSC Zlín-Tělovýchovná jednota Nový Jičín\, z.s.
END:VEVENT
BEGIN:VEVENT
UID:32323433-3035-4330-b966-623135303937
DTSTAMP:20260421T090651Z
DESCRIPTION:2/2 VSC Zlín - VK Brno\, z.s. 2:0 (15\,13)
DTSTART;TZID=Europe/Berlin:20221203T123000
DTEND;TZID=Europe/Berlin:20221203T143000
LOCATION:ZŠ Okružní Zlín\, Okružní 4685 Zlín
SUMMARY:CP-U16M-V3C: VSC Zlín-VK Brno\, z.s.
END:VEVENT
BEGIN:VEVENT
UID:61393365-6331-4339-b939-353864666464
DTSTAMP:20260421T090651Z
DESCRIPTION:4/4 VSC Zlín - VK Ostrava\, z.s. 2:0 (14\,17)
DTSTART;TZID=Europe/Berlin:20221203T145000
DTEND;TZID=Europe/Berlin:20221203T165000
LOCATION:ZŠ Okružní Zlín\, Okružní 4685 Zlín
SUMMARY:CP-U16M-V3C: VSC Zlín-VK Ostrava\, z.s.
END:VEVENT
BEGIN:VEVENT
UID:39633331-3664-4162-a464-393236663136
DTSTAMP:20260421T090651Z
DESCRIPTION:5/5 Tělovýchovná jednota Nový Jičín\, z.s. - VSC Zlín 1:2 (11\,
 -12\,-9)
DTSTART;TZID=Europe/Berlin:20221203T160000
DTEND;TZID=Europe/Berlin:20221203T180000
LOCATION:Hala ABC\, Purkyňova 116 Nový Jičín
SUMMARY:CP-U16M-V3C: Tělovýchovná jednota Nový Jičín\, z.s.-VSC Zlín
END:VEVENT
BEGIN:VEVENT
UID:39376361-6338-4433-b135-653330303033
DTSTAMP:20260421T090651Z
DESCRIPTION:2/3 VSC Zlín - Tělovýchovná jednota Nový Jičín\, z.s. 2:0 (23\,
 16)
DTSTART;TZID=Europe/Berlin:20221203T193000
DTEND;TZID=Europe/Berlin:20221203T213000
LOCATION:ZŠ Okružní Zlín\, Okružní 4685 Zlín
SUMMARY:CP-U16M-V3-PLAY-: VSC Zlín-Tělovýchovná jednota Nový Jičín\, z.s.
END:VEVENT
BEGIN:VEVENT
UID:35646165-6333-4630-b761-316132633534
DTSTAMP:20260421T090651Z
DESCRIPTION:4/7 VSC Zlín - TJ Svitavy 2:0 (19\,14)
DTSTART;TZID=Europe/Berlin:20221204T101500
DTEND;TZID=Europe/Berlin:20221204T121500
LOCATION:ZŠ Okružní Zlín\, Okružní 4685 Zlín
SUMMARY:CP-U16M-V3-PLAY-: VSC Zlín-TJ Svitavy
END:VEVENT
BEGIN:VEVENT
UID:64353862-3562-4766-b861-323338373963
DTSTAMP:20260421T090651Z
DESCRIPTION:6/12 Blue Ostrava - VSC Zlín 0:2 (-9\,-15)
DTSTART;TZID=Europe/Berlin:20221204T124500
DTEND;TZID=Europe/Berlin:20221204T144500
LOCATION:ZŠ Formana\, Františka Formana 268 Ostrava - Dubina
SUMMARY:CP-U16M-V3-PLAY-: Blue Ostrava-VSC Zlín
END:VEVENT
BEGIN:VEVENT
UID:32663464-6461-4361-b836-316564626234
DTSTAMP:20260421T090651Z
DESCRIPTION:1/1 VSC Zlín - Sokol Mnichovo Hradiště 2:0 (29\,20)
DTSTART;TZID=Europe/Berlin:20230121T090000
DTEND;TZID=Europe/Berlin:20230121T110000
LOCATION:ZŠ Okružní Zlín\, Okružní 4685 Zlín
SUMMARY:CP-U16M-4A: VSC Zlín-Sokol Mnichovo Hradiště
END:VEVENT
BEGIN:VEVENT
UID:39363732-3734-4133-b662-346334623739
DTSTAMP:20260421T090651Z
DESCRIPTION:3/5 VSC Zlín - Kladno volejbal cz 0:2 (-16\,-21)
DTSTART;TZID=Europe/Berlin:20230121T113000
DTEND;TZID=Europe/Berlin:20230121T133000
LOCATION:ZŠ Okružní Zlín\, Okružní 4685 Zlín
SUMMARY:CP-U16M-4A: VSC Zlín-Kladno volejbal cz
END:VEVENT
BEGIN:VEVENT
UID:37386261-6635-4439-b732-373830633165
DTSTAMP:20260421T090651Z
DESCRIPTION:14/26 VSC Zlín - Green Volley Frýdek-Místek\, z.s. 1:2 (24\,-18
 \,-11)
DTSTART;TZID=Europe/Berlin:20230122T123000
DTEND;TZID=Europe/Berlin:20230122T143000
LOCATION:ZŠ Okružní Zlín\, Okružní 4685 Zlín
SUMMARY:CP-U16M-4A: VSC Zlín-Green Volley Frýdek-Místek\, z.s.
END:VEVENT
BEGIN:VEVENT
UID:32393465-3236-4032-b966-343031636632
DTSTAMP:20260421T090651Z
DESCRIPTION:6/11 VK Euro Sitex Příbram - VSC Zlín 0:2 (-17\,-13)
DTSTART;TZID=Europe/Berlin:20230121T143000
DTEND;TZID=Europe/Berlin:20230121T163000
LOCATION:Tělocvična ZŠ Balbínova\, Balbínova 328 Příbram - Příbram II
SUMMARY:CP-U16M-4A: VK Euro Sitex Příbram-VSC Zlín
END:VEVENT
BEGIN:VEVENT
UID:64306465-3864-4131-a634-613065336335
DTSTAMP:20260421T090651Z
DESCRIPTION:8/15 VK České Budějovice A - VSC Zlín 2:0 (17\,16)
DTSTART;TZID=Europe/Berlin:20230121T163000
DTEND;TZID=Europe/Berlin:20230121T183000
LOCATION:ZŠ Oskara Nedbala České Budějovice\, O. Nedbala 882 České Budějovi
 ce - České Budějovice 2
SUMMARY:CP-U16M-4A: VK České Budějovice A-VSC Zlín
END:VEVENT
BEGIN:VEVENT
UID:62336536-3565-4635-b030-623336303762
DTSTAMP:20260421T090651Z
DESCRIPTION:10/18 TJ SOKOL LETOVICE\, z.s. - VSC Zlín 2:1 (-19\,25\,6)
DTSTART;TZID=Europe/Berlin:20230122T083000
DTEND;TZID=Europe/Berlin:20230122T103000
LOCATION:Sportovní hala Letovice\, V zahradách 831 Letovice
SUMMARY:CP-U16M-4A: TJ SOKOL LETOVICE\, z.s.-VSC Zlín
END:VEVENT
BEGIN:VEVENT
UID:34363164-6661-4065-b532-326136363934
DTSTAMP:20260421T090651Z
DESCRIPTION:13/24 SK Prosek - VSC Zlín 0:2 (-27\,-22)
DTSTART;TZID=Europe/Berlin:20230122T113000
DTEND;TZID=Europe/Berlin:20230122T133000
LOCATION:SH SK Prosek\, Lovosická 559 Praha - Letňany
SUMMARY:CP-U16M-4A: SK Prosek-VSC Zlín
END:VEVENT
BEGIN:VEVENT
UID:37346261-3161-4438-b238-623032633732
DTSTAMP:20260421T090651Z
DESCRIPTION:1/1 VSC Zlín - VK České Budějovice A 0:2 (-21\,-21)
DTSTART;TZID=Europe/Berlin:20230211T090000
DTEND;TZID=Europe/Berlin:20230211T110000
LOCATION:ZŠ Okružní Zlín\, Okružní 4685 Zlín
SUMMARY:CP-U16M-5A: VSC Zlín-VK České Budějovice A
END:VEVENT
BEGIN:VEVENT
UID:32616262-3932-4534-b933-333466333834
DTSTAMP:20260421T090651Z
DESCRIPTION:3/6 VSC Zlín - Kladno volejbal cz 0:2 (-16\,-24)
DTSTART;TZID=Europe/Berlin:20230211T114500
DTEND;TZID=Europe/Berlin:20230211T134500
LOCATION:ZŠ Okružní Zlín\, Okružní 4685 Zlín
SUMMARY:CP-U16M-5A: VSC Zlín-Kladno volejbal cz
END:VEVENT
BEGIN:VEVENT
UID:34636238-6535-4561-b631-346138626531
DTSTAMP:20260421T090651Z
DESCRIPTION:9/18 VSC Zlín - TJ SOKOL LETOVICE\, z.s. 2:0 (23\,17)
DTSTART;TZID=Europe/Berlin:20230212T090000
DTEND;TZID=Europe/Berlin:20230212T110000
LOCATION:ZŠ Okružní Zlín\, Okružní 4685 Zlín
SUMMARY:CP-U16M-5A: VSC Zlín-TJ SOKOL LETOVICE\, z.s.
END:VEVENT
BEGIN:VEVENT
UID:30633034-3864-4531-b737-373262616534
DTSTAMP:20260421T090651Z
DESCRIPTION:12/23 VSC Zlín - TJ Svitavy 2:0 (15\,15)
DTSTART;TZID=Europe/Berlin:20230212T130000
DTEND;TZID=Europe/Berlin:20230212T150000
LOCATION:ZŠ Okružní Zlín\, Okružní 4685 Zlín
SUMMARY:CP-U16M-5A: VSC Zlín-TJ Svitavy
END:VEVENT
BEGIN:VEVENT
UID:38636565-6339-4863-b933-366461323363
DTSTAMP:20260421T090651Z
DESCRIPTION:5/9 SK Prosek - VSC Zlín 0:2 (-20\,-22)
DTSTART;TZID=Europe/Berlin:20230211T141500
DTEND;TZID=Europe/Berlin:20230211T161500
LOCATION:SH SK Prosek\, Lovosická 559 Praha - Letňany
SUMMARY:CP-U16M-5A: SK Prosek-VSC Zlín
END:VEVENT
BEGIN:VEVENT
UID:63323631-3365-4836-a632-343336356365
DTSTAMP:20260421T090651Z
DESCRIPTION:7/13 VK SPORT Rychnov nad Kněžnou\, z.s. - VSC Zlín 0:2 (-19\,-
 20)
DTSTART;TZID=Europe/Berlin:20230211T164500
DTEND;TZID=Europe/Berlin:20230211T184500
LOCATION:Hala VOŠ a SPŠS\, U Stadionu 1166 Rychnov nad Kněžnou
SUMMARY:CP-U16M-5A: VK SPORT Rychnov nad Kněžnou\, z.s.-VSC Zlín
END:VEVENT
BEGIN:VEVENT
UID:37383531-3637-4865-a534-653838666265
DTSTAMP:20260421T090651Z
DESCRIPTION:14/28 Green Volley Frýdek-Místek\, z.s. - VSC Zlín 0:2 (-15\,-1
 4)
DTSTART;TZID=Europe/Berlin:20230212T153000
DTEND;TZID=Europe/Berlin:20230212T173000
LOCATION:Hala SPŠ\, 28. října 1639 Frýdek-Místek - Místek
SUMMARY:CP-U16M-5A: Green Volley Frýdek-Místek\, z.s.-VSC Zlín
END:VEVENT
BEGIN:VEVENT
UID:32646137-3338-4237-b530-383930323832
DTSTAMP:20260421T090651Z
DESCRIPTION:2/2 VSC Zlín - Green Volley Frýdek-Místek\, z.s. 1:2 (17\,-23\,
 -17)
DTSTART;TZID=Europe/Berlin:20230317T163500
DTEND;TZID=Europe/Berlin:20230317T183500
LOCATION:ZŠ Okružní Zlín\, Okružní 4685 Zlín
SUMMARY:CP-U16M-6B: VSC Zlín-Green Volley Frýdek-Místek\, z.s.
END:VEVENT
BEGIN:VEVENT
UID:33346131-6461-4637-a265-653337386162
DTSTAMP:20260421T090651Z
DESCRIPTION:4/4 VSC Zlín - Sokol Mnichovo Hradiště 1:2 (-14\,15\,-16)
DTSTART;TZID=Europe/Berlin:20230318T104500
DTEND;TZID=Europe/Berlin:20230318T124500
LOCATION:ZŠ Okružní Zlín\, Okružní 4685 Zlín
SUMMARY:CP-U16M-6B: VSC Zlín-Sokol Mnichovo Hradiště
END:VEVENT
BEGIN:VEVENT
UID:38393937-6565-4262-b933-636633666139
DTSTAMP:20260421T090651Z
DESCRIPTION:5/5 VK České Budějovice A - VSC Zlín 2:0 (12\,21)
DTSTART;TZID=Europe/Berlin:20230318T120000
DTEND;TZID=Europe/Berlin:20230318T140000
LOCATION:ZŠ Oskara Nedbala České Budějovice\, O. Nedbala 882 České Budějovi
 ce - České Budějovice 2
SUMMARY:CP-U16M-6B: VK České Budějovice A-VSC Zlín
END:VEVENT
BEGIN:VEVENT
UID:65336530-6132-4664-b930-363866343063
DTSTAMP:20260421T090651Z
DESCRIPTION:1/4 Kladno volejbal cz - VSC Zlín 0:2 (-22\,-22)\nA1-B4
DTSTART;TZID=Europe/Berlin:20230318T160000
DTEND;TZID=Europe/Berlin:20230318T180000
LOCATION:Kladenská sportovní hala\, Sportovců 817 Kladno - Rozdělov
SUMMARY:CP-U16M-6P1: Kladno volejbal cz-VSC Zlín
END:VEVENT
BEGIN:VEVENT
UID:33323739-3634-4235-a130-333864633531
DTSTAMP:20260421T090651Z
DESCRIPTION:2/6 VK České Budějovice A - VSC Zlín 2:0 (14\,17)\nsemifinále 3
  (1.os.)
DTSTART;TZID=Europe/Berlin:20230319T090000
DTEND;TZID=Europe/Berlin:20230319T110000
LOCATION:ZŠ Oskara Nedbala České Budějovice\, O. Nedbala 882 České Budějovi
 ce - České Budějovice 2
SUMMARY:CP-U16M-6P1: VK České Budějovice A-VSC Zlín
END:VEVENT
BEGIN:VEVENT
UID:34626138-3430-4461-b736-383433666464
DTSTAMP:20260421T090651Z
DESCRIPTION:3/11 SK Prosek - VSC Zlín 0:2 (-21\,-9)\nFinále 3-4
DTSTART;TZID=Europe/Berlin:20230319T120000
DTEND;TZID=Europe/Berlin:20230319T140000
LOCATION:SH SK Prosek\, Lovosická 559 Praha - Letňany
SUMMARY:CP-U16M-6P1: SK Prosek-VSC Zlín
END:VEVENT
END:VCALENDAR
