BEGIN:VCALENDAR
VERSION:2.0
PRODID:-//Sportovní klub Přerov 1908 z.s.80825//NONSGML kigkonsult.se iCalcreator 2.41.80//
CALSCALE:GREGORIAN
UID:39633437-6134-4531-b935-636235353031
BEGIN:VEVENT
UID:32373061-3036-4634-a364-366164643531
DTSTAMP:20260421T201605Z
DESCRIPTION:2/2 Přerov 1908 - Litomyšl 0:2 (-12\,-18)\nsp.hala SZeŠ Kostele
 c n.O.
DTSTART;TZID=Europe/Berlin:20221022T103000
DTEND;TZID=Europe/Berlin:20221022T123000
LOCATION:Tělocvična SŠGaS\, Šířava 670 Přerov - Přerov I-Město
SUMMARY:CP-U20Z-1C: Přerov 1908-Litomyšl
END:VEVENT
BEGIN:VEVENT
UID:62633165-3334-4332-a638-323934346565
DTSTAMP:20260421T201605Z
DESCRIPTION:7/11 Přerov 1908 - Č.Třebová 0:2 (-13\,-11)
DTSTART;TZID=Europe/Berlin:20221022T163000
DTEND;TZID=Europe/Berlin:20221022T183000
LOCATION:Tělocvična SŠGaS\, Šířava 670 Přerov - Přerov I-Město
SUMMARY:CP-U20Z-1C: Přerov 1908-Č.Třebová
END:VEVENT
BEGIN:VEVENT
UID:33383137-6431-4435-b061-636365333233
DTSTAMP:20260421T201605Z
DESCRIPTION:9/13 Přerov 1908 - Sokol Havlíčkův Brod 0:2 (-13\,-5)
DTSTART;TZID=Europe/Berlin:20221022T193000
DTEND;TZID=Europe/Berlin:20221022T213000
LOCATION:Tělocvična SŠGaS\, Šířava 670 Přerov - Přerov I-Město
SUMMARY:CP-U20Z-1C: Přerov 1908-Sokol Havlíčkův Brod
END:VEVENT
BEGIN:VEVENT
UID:36643432-6665-4539-a532-353936663765
DTSTAMP:20260421T201605Z
DESCRIPTION:5/8 RÉMA Rychnov - Přerov 1908 2:1 (16\,-16\,13)
DTSTART;TZID=Europe/Berlin:20221022T143000
DTEND;TZID=Europe/Berlin:20221022T163000
LOCATION:VOŠ a SŠ zem.\, Komenského 873 Kostelec nad Orlicí
SUMMARY:CP-U20Z-1C: RÉMA Rychnov-Přerov 1908
END:VEVENT
BEGIN:VEVENT
UID:31643030-3965-4436-b264-373966313863
DTSTAMP:20260421T201605Z
DESCRIPTION:11/18 Jičín - Přerov 1908 2:0 (12\,18)\nsportovní hala ČESTICE
DTSTART;TZID=Europe/Berlin:20221023T103000
DTEND;TZID=Europe/Berlin:20221023T123000
LOCATION:Hala 3. základní školy Jičín\, Poděbradova 18 Jičín - Nové Město
SUMMARY:CP-U20Z-1C: Jičín-Přerov 1908
END:VEVENT
BEGIN:VEVENT
UID:64656331-6234-4461-a332-333431353962
DTSTAMP:20260421T201605Z
DESCRIPTION:12/20 Tábor - Přerov 1908 2:0 (17\,20)\nsportovní hala ČESTICE
DTSTART;TZID=Europe/Berlin:20221023T113000
DTEND;TZID=Europe/Berlin:20221023T133000
LOCATION:Sportovní Hala Mír\, U Stadionu Míru 1579 Tábor
SUMMARY:CP-U20Z-1C: Tábor-Přerov 1908
END:VEVENT
BEGIN:VEVENT
UID:33353666-3239-4838-a261-633935396238
DTSTAMP:20260421T201605Z
DESCRIPTION:3/5 Přerov 1908 - Volejbalový klub Karlovy Vary z.s. 0:2 (-17\,
 -19)
DTSTART;TZID=Europe/Berlin:20221126T123000
DTEND;TZID=Europe/Berlin:20221126T143000
LOCATION:Tělocvična SŠGaS\, Šířava 670 Přerov - Přerov I-Město
SUMMARY:CP-U20Z-2D: Přerov 1908-Volejbalový klub Karlovy Vary z.s.
END:VEVENT
BEGIN:VEVENT
UID:37366533-3336-4363-b833-366132646235
DTSTAMP:20260421T201605Z
DESCRIPTION:7/13 Přerov 1908 - TJ Svitavy 0:2 (-20\,-13)
DTSTART;TZID=Europe/Berlin:20221126T173000
DTEND;TZID=Europe/Berlin:20221126T193000
LOCATION:Tělocvična SŠGaS\, Šířava 670 Přerov - Přerov I-Město
SUMMARY:CP-U20Z-2D: Přerov 1908-TJ Svitavy
END:VEVENT
BEGIN:VEVENT
UID:61633563-3665-4939-b635-356632643331
DTSTAMP:20260421T201605Z
DESCRIPTION:11/21 Přerov 1908 - VK AUSTIN Vsetín z.s. 0:2 (-6\,-11)
DTSTART;TZID=Europe/Berlin:20221127T124500
DTEND;TZID=Europe/Berlin:20221127T144500
LOCATION:Tělocvična SŠGaS\, Šířava 670 Přerov - Přerov I-Město
SUMMARY:CP-U20Z-2D: Přerov 1908-VK AUSTIN Vsetín z.s.
END:VEVENT
BEGIN:VEVENT
UID:31353665-6431-4539-b730-643633373537
DTSTAMP:20260421T201605Z
DESCRIPTION:2/3 VK Rokycany - Přerov 1908 2:0 (13\,7)
DTSTART;TZID=Europe/Berlin:20221126T111500
DTEND;TZID=Europe/Berlin:20221126T131500
LOCATION:Hala Gymnázia Rokycany\, Mládežníků 1115 Rokycany - Nové Město
SUMMARY:CP-U20Z-2D: VK Rokycany-Přerov 1908
END:VEVENT
BEGIN:VEVENT
UID:32336663-3936-4339-a462-336236383336
DTSTAMP:20260421T201605Z
DESCRIPTION:4/7 Raškovice - Přerov 1908 2:0 (12\,18)
DTSTART;TZID=Europe/Berlin:20221126T134500
DTEND;TZID=Europe/Berlin:20221126T154500
LOCATION:Víceúčelová sportovní hala\,  Raškovice18
SUMMARY:CP-U20Z-2D: Raškovice-Přerov 1908
END:VEVENT
BEGIN:VEVENT
UID:63303135-6539-4234-b066-383561323930
DTSTAMP:20260421T201605Z
DESCRIPTION:9/17 Volejbalový klub Třebíč - Přerov 1908 0:2 (-23\,-20)
DTSTART;TZID=Europe/Berlin:20221127T101500
DTEND;TZID=Europe/Berlin:20221127T121500
LOCATION:hala ZŠ TGM\, Komenského nám. 61 Třebíč - Horka-Domky
SUMMARY:CP-U20Z-2D: Volejbalový klub Třebíč-Přerov 1908
END:VEVENT
BEGIN:VEVENT
UID:65633339-3531-4466-a431-383564663664
DTSTAMP:20260421T201605Z
DESCRIPTION:2/6 Přerov 1908 - Litomyšl 1:2 (-21\,24\,-9)
DTSTART;TZID=Europe/Berlin:20230225T113000
DTEND;TZID=Europe/Berlin:20230225T133000
LOCATION:Tělocvična SŠGaS\, Šířava 670 Přerov - Přerov I-Město
SUMMARY:CP-U20Z-3D: Přerov 1908-Litomyšl
END:VEVENT
BEGIN:VEVENT
UID:62313536-3065-4534-a436-353038626361
DTSTAMP:20260421T201605Z
DESCRIPTION:4/11 Přerov 1908 - TJ Svitavy 0:2 (-13\,-21)
DTSTART;TZID=Europe/Berlin:20230225T160000
DTEND;TZID=Europe/Berlin:20230225T180000
LOCATION:Tělocvična SŠGaS\, Šířava 670 Přerov - Přerov I-Město
SUMMARY:CP-U20Z-3D: Přerov 1908-TJ Svitavy
END:VEVENT
BEGIN:VEVENT
UID:62303332-6336-4135-b138-326634356162
DTSTAMP:20260421T201605Z
DESCRIPTION:5/13 Přerov 1908 - Volejbalový klub Karlovy Vary z.s. 1:2 (15\,
 -23\,-13)
DTSTART;TZID=Europe/Berlin:20230225T180000
DTEND;TZID=Europe/Berlin:20230225T200000
LOCATION:Tělocvična SŠGaS\, Šířava 670 Přerov - Přerov I-Město
SUMMARY:CP-U20Z-3D: Přerov 1908-Volejbalový klub Karlovy Vary z.s.
END:VEVENT
BEGIN:VEVENT
UID:66363162-3562-4036-b062-663332633835
DTSTAMP:20260421T201605Z
DESCRIPTION:1/2 RÉMA Rychnov - Přerov 1908 2:0 (16\,18)
DTSTART;TZID=Europe/Berlin:20230225T093000
DTEND;TZID=Europe/Berlin:20230225T113000
LOCATION:VOŠ a SŠ zem.\, Komenského 873 Kostelec nad Orlicí
SUMMARY:CP-U20Z-3D: RÉMA Rychnov-Přerov 1908
END:VEVENT
BEGIN:VEVENT
UID:64613736-3062-4333-a238-666439343933
DTSTAMP:20260421T201605Z
DESCRIPTION:3/9 Raškovice - Přerov 1908 2:1 (-23\,20\,15)
DTSTART;TZID=Europe/Berlin:20230225T133000
DTEND;TZID=Europe/Berlin:20230225T153000
LOCATION:Víceúčelová sportovní hala\,  Raškovice18
SUMMARY:CP-U20Z-3D: Raškovice-Přerov 1908
END:VEVENT
BEGIN:VEVENT
UID:66326565-3633-4636-b662-353966323339
DTSTAMP:20260421T201605Z
DESCRIPTION:3/8 Přerov 1908 - TJ Žichlínek\, z.s. 0:2 (-15\,-15)
DTSTART;TZID=Europe/Berlin:20230325T130000
DTEND;TZID=Europe/Berlin:20230325T150000
LOCATION:Tělocvična SŠGaS\, Šířava 670 Přerov - Přerov I-Město
SUMMARY:CP-U20Z-4D: Přerov 1908-TJ Žichlínek\, z.s.
END:VEVENT
BEGIN:VEVENT
UID:39306330-3430-4438-a432-333837303231
DTSTAMP:20260421T201605Z
DESCRIPTION:1/3 Tábor - Přerov 1908 2:0 (12\,19)
DTSTART;TZID=Europe/Berlin:20230325T093000
DTEND;TZID=Europe/Berlin:20230325T113000
LOCATION:Sportovní Hala Mír\, U Stadionu Míru 1579 Tábor
SUMMARY:CP-U20Z-4D: Tábor-Přerov 1908
END:VEVENT
BEGIN:VEVENT
UID:31666238-3561-4132-a234-386363343735
DTSTAMP:20260421T201605Z
DESCRIPTION:2/6 RÉMA Rychnov - Přerov 1908 2:0 (24\,23)
DTSTART;TZID=Europe/Berlin:20230325T104500
DTEND;TZID=Europe/Berlin:20230325T124500
LOCATION:VOŠ a SŠ zem.\, Komenského 873 Kostelec nad Orlicí
SUMMARY:CP-U20Z-4D: RÉMA Rychnov-Přerov 1908
END:VEVENT
BEGIN:VEVENT
UID:62613935-3230-4833-b837-663036393462
DTSTAMP:20260421T201605Z
DESCRIPTION:4/10 TJ Svitavy - Přerov 1908 2:1 (-20\,19\,10)
DTSTART;TZID=Europe/Berlin:20230325T150000
DTEND;TZID=Europe/Berlin:20230325T170000
LOCATION:Sportovní hala Na Střelnici\, Pražská 2162 Svitavy - Předměstí
SUMMARY:CP-U20Z-4D: TJ Svitavy-Přerov 1908
END:VEVENT
BEGIN:VEVENT
UID:33363061-3063-4765-a138-313038323532
DTSTAMP:20260421T201605Z
DESCRIPTION:5/15 Volejbalový klub Karlovy Vary z.s. - Přerov 1908 0:2 (-20\
 ,-13)
DTSTART;TZID=Europe/Berlin:20230325T170000
DTEND;TZID=Europe/Berlin:20230325T190000
LOCATION:Mattoni Arena Hala míčových sportů\, Západní 1812 Karlovy Vary
SUMMARY:CP-U20Z-4D: Volejbalový klub Karlovy Vary z.s.-Přerov 1908
END:VEVENT
BEGIN:VEVENT
UID:33363463-6131-4038-b230-393738313735
DTSTAMP:20260421T201605Z
DESCRIPTION:1/1 Přerov 1908 - Litomyšl 0:2 (-18\,-11)\nKostelec/O\, hř.2
DTSTART;TZID=Europe/Berlin:20230422T093000
DTEND;TZID=Europe/Berlin:20230422T113000
LOCATION:Tělocvična SŠGaS\, Šířava 670 Přerov - Přerov I-Město
SUMMARY:CP-U20Z-5D: Přerov 1908-Litomyšl
END:VEVENT
BEGIN:VEVENT
UID:36393235-3630-4463-a165-376366623766
DTSTAMP:20260421T201605Z
DESCRIPTION:4/10 Přerov 1908 - RÉMA Rychnov 0:2 (-15\,-21)
DTSTART;TZID=Europe/Berlin:20230422T150000
DTEND;TZID=Europe/Berlin:20230422T170000
LOCATION:Tělocvična SŠGaS\, Šířava 670 Přerov - Přerov I-Město
SUMMARY:CP-U20Z-5D: Přerov 1908-RÉMA Rychnov
END:VEVENT
BEGIN:VEVENT
UID:37616430-6338-4164-b434-383737643862
DTSTAMP:20260421T201605Z
DESCRIPTION:2/4 VK AUSTIN Vsetín z.s. - Přerov 1908 2:0 (13\,9)
DTSTART;TZID=Europe/Berlin:20230422T104500
DTEND;TZID=Europe/Berlin:20230422T124500
LOCATION:Sportovní hala Na Lapači\, Na Lapači 247 Vsetín - Rokytnice
SUMMARY:CP-U20Z-5D: VK AUSTIN Vsetín z.s.-Přerov 1908
END:VEVENT
BEGIN:VEVENT
UID:61623366-3633-4062-a537-613366326632
DTSTAMP:20260421T201605Z
DESCRIPTION:3/7 TJ Svitavy - Přerov 1908 1:2 (-18\,24\,-11)
DTSTART;TZID=Europe/Berlin:20230422T130000
DTEND;TZID=Europe/Berlin:20230422T150000
LOCATION:Sportovní hala Na Střelnici\, Pražská 2162 Svitavy - Předměstí
SUMMARY:CP-U20Z-5D: TJ Svitavy-Přerov 1908
END:VEVENT
BEGIN:VEVENT
UID:32313763-6335-4663-b862-653431663235
DTSTAMP:20260421T201605Z
DESCRIPTION:5/13 Volejbalový klub Karlovy Vary z.s. - Přerov 1908 0:2 (-19\
 ,-20)
DTSTART;TZID=Europe/Berlin:20230422T170000
DTEND;TZID=Europe/Berlin:20230422T190000
LOCATION:Mattoni Arena Hala míčových sportů\, Západní 1812 Karlovy Vary
SUMMARY:CP-U20Z-5D: Volejbalový klub Karlovy Vary z.s.-Přerov 1908
END:VEVENT
END:VCALENDAR
