BEGIN:VCALENDAR
VERSION:2.0
PRODID:-//Volejbalový klub Litomyšl, z.s.81042//NONSGML kigkonsult.se iCalcreator 2.41.80//
CALSCALE:GREGORIAN
UID:62326131-6362-4337-b337-396138316165
BEGIN:VEVENT
UID:34356362-3432-4239-b532-393135393233
DTSTAMP:20260421T210119Z
DESCRIPTION:1/3 Litomyšl - Svitavy B 0:2 (-17\,-23)
DTSTART;TZID=Europe/Berlin:20221113T110000
DTEND;TZID=Europe/Berlin:20221113T130000
SUMMARY:PA-U16M-3B: Litomyšl-Svitavy B
END:VEVENT
BEGIN:VEVENT
UID:35646637-6236-4030-a264-356561366333
DTSTAMP:20260421T210119Z
DESCRIPTION:1/1 Choceň - Litomyšl 2:0 (10\,6)
DTSTART;TZID=Europe/Berlin:20221113T090000
DTEND;TZID=Europe/Berlin:20221113T110000
SUMMARY:PA-U16M-3B: Choceň-Litomyšl
END:VEVENT
BEGIN:VEVENT
UID:61363530-3962-4936-a636-313763323433
DTSTAMP:20260421T210119Z
DESCRIPTION:1/5 Velké Meziříčí - Litomyšl 2:0 (22\,10)
DTSTART;TZID=Europe/Berlin:20221113T130000
DTEND;TZID=Europe/Berlin:20221113T150000
SUMMARY:PA-U16M-3B: Velké Meziříčí-Litomyšl
END:VEVENT
END:VCALENDAR
