BEGIN:VCALENDAR
VERSION:2.0
PRODID:-//VK UP v Olomouci81045//NONSGML kigkonsult.se iCalcreator 2.41.80//
CALSCALE:GREGORIAN
UID:62373164-3562-4632-a366-356331376437
BEGIN:VEVENT
UID:65643033-3035-4030-a261-373633613434
DTSTAMP:20260425T215828Z
DESCRIPTION:3/6 VK UP Olomouc - TJ Slovácká Slavia U. Hradiště 2:0 (11\,14)
DTSTART;TZID=Europe/Berlin:20221015T113000
DTEND;TZID=Europe/Berlin:20221015T133000
LOCATION:UP Olomouc\, U sportovní haly 38 Olomouc - Lazce
SUMMARY:CP-U16Z-V2D: VK UP Olomouc-TJ Slovácká Slavia U. Hradiště
END:VEVENT
BEGIN:VEVENT
UID:30623837-3238-4137-b035-313133353161
DTSTAMP:20260425T215828Z
DESCRIPTION:6/11 VK UP Olomouc - VK Brno\, Vejrostova 2:0 (7\,18)
DTSTART;TZID=Europe/Berlin:20221015T151500
DTEND;TZID=Europe/Berlin:20221015T171500
LOCATION:UP Olomouc\, U sportovní haly 38 Olomouc - Lazce
SUMMARY:CP-U16Z-V2D: VK UP Olomouc-VK Brno\, Vejrostova
END:VEVENT
BEGIN:VEVENT
UID:30373330-3234-4238-b932-623531376462
DTSTAMP:20260425T215828Z
DESCRIPTION:7/16 VK UP Olomouc - VK AUSTIN Vsetín 2:0 (10\,14)
DTSTART;TZID=Europe/Berlin:20221015T163000
DTEND;TZID=Europe/Berlin:20221015T183000
LOCATION:UP Olomouc\, U sportovní haly 38 Olomouc - Lazce
SUMMARY:CP-U16Z-V2D: VK UP Olomouc-VK AUSTIN Vsetín
END:VEVENT
BEGIN:VEVENT
UID:37653236-3534-4363-b961-636438643236
DTSTAMP:20260425T215828Z
DESCRIPTION:1/2 TJ Žďár nad Sázavou - VK UP Olomouc 0:2 (-12\,-6)
DTSTART;TZID=Europe/Berlin:20221015T090000
DTEND;TZID=Europe/Berlin:20221015T110000
LOCATION:ZŠ Palachova\, Palachova 1757 Žďár nad Sázavou - Žďár nad Sázavou 
 6
SUMMARY:CP-U16Z-V2D: TJ Žďár nad Sázavou-VK UP Olomouc
END:VEVENT
BEGIN:VEVENT
UID:33336630-6431-4365-a230-353861343535
DTSTAMP:20260425T215828Z
DESCRIPTION:8/17 SVK Nový Jičín - VK UP Olomouc 0:2 (-14\,-14)
DTSTART;TZID=Europe/Berlin:20221016T090000
DTEND;TZID=Europe/Berlin:20221016T110000
LOCATION:Hala ABC\, Purkyňova 116 Nový Jičín
SUMMARY:CP-U16Z-V2D: SVK Nový Jičín-VK UP Olomouc
END:VEVENT
BEGIN:VEVENT
UID:38623662-6233-4634-b136-386563616338
DTSTAMP:20260425T215828Z
DESCRIPTION:9/21 VK Napajedla - VK UP Olomouc 0:2 (-2\,-7)
DTSTART;TZID=Europe/Berlin:20221016T101500
DTEND;TZID=Europe/Berlin:20221016T121500
LOCATION:2.ZŠ Napajedla\, Komenského 298 Napajedla
SUMMARY:CP-U16Z-V2D: VK Napajedla-VK UP Olomouc
END:VEVENT
BEGIN:VEVENT
UID:63386139-3735-4266-b466-326636376562
DTSTAMP:20260425T215828Z
DESCRIPTION:11/27 TJ Jiskra H. Brod - VK UP Olomouc 0:2 (-18\,-18)
DTSTART;TZID=Europe/Berlin:20221016T124500
DTEND;TZID=Europe/Berlin:20221016T144500
LOCATION:Tělocvična OA a hotelové školy\, Bratříků 851 Havlíčkův Brod
SUMMARY:CP-U16Z-V2D: TJ Jiskra H. Brod-VK UP Olomouc
END:VEVENT
BEGIN:VEVENT
UID:33613862-3038-4235-b433-356230636466
DTSTAMP:20260425T215828Z
DESCRIPTION:1/2 VK UP Olomouc - VK Valašské Meziříčí 2:0 (19\,23)
DTSTART;TZID=Europe/Berlin:20221119T090000
DTEND;TZID=Europe/Berlin:20221119T110000
LOCATION:UP Olomouc\, U sportovní haly 38 Olomouc - Lazce
SUMMARY:CP-U16Z-V3C: VK UP Olomouc-VK Valašské Meziříčí
END:VEVENT
BEGIN:VEVENT
UID:31316262-3261-4431-a666-356330306661
DTSTAMP:20260425T215828Z
DESCRIPTION:5/10 VK UP Olomouc - TJ Sokol Pardubice I. 2:1 (12\,-16\,12)
DTSTART;TZID=Europe/Berlin:20221119T140000
DTEND;TZID=Europe/Berlin:20221119T160000
LOCATION:UP Olomouc\, U sportovní haly 38 Olomouc - Lazce
SUMMARY:CP-U16Z-V3C: VK UP Olomouc-TJ Sokol Pardubice I.
END:VEVENT
BEGIN:VEVENT
UID:61346664-3839-4131-b034-383736646639
DTSTAMP:20260425T215828Z
DESCRIPTION:12/21 VK UP Olomouc - SVK Nový Jičín 2:0 (23\,19)
DTSTART;TZID=Europe/Berlin:20221120T140000
DTEND;TZID=Europe/Berlin:20221120T160000
LOCATION:UP Olomouc\, U sportovní haly 38 Olomouc - Lazce
SUMMARY:CP-U16Z-V3C: VK UP Olomouc-SVK Nový Jičín
END:VEVENT
BEGIN:VEVENT
UID:35353961-3039-4764-b366-326530326364
DTSTAMP:20260425T215828Z
DESCRIPTION:2/3 TJ Sokol Předklášteří - VK UP Olomouc 0:2 (-14\,-19)
DTSTART;TZID=Europe/Berlin:20221119T101500
DTEND;TZID=Europe/Berlin:20221119T121500
LOCATION:ZŠ Předklášteří\, Komenského 1097 Předklášteří
SUMMARY:CP-U16Z-V3C: TJ Sokol Předklášteří-VK UP Olomouc
END:VEVENT
BEGIN:VEVENT
UID:61656433-6461-4465-b230-316234373864
DTSTAMP:20260425T215828Z
DESCRIPTION:4/7 TJ Ostrava - VK UP Olomouc 1:2 (22\,-17\,-11)
DTSTART;TZID=Europe/Berlin:20221119T124500
DTEND;TZID=Europe/Berlin:20221119T144500
LOCATION:Hala míčových sportů\, Varenská 3098 Ostrava - Moravská Ostrava
SUMMARY:CP-U16Z-V3C: TJ Ostrava-VK UP Olomouc
END:VEVENT
BEGIN:VEVENT
UID:64336233-3835-4266-a336-336637316162
DTSTAMP:20260425T215828Z
DESCRIPTION:10/19 KP Brno B - VK UP Olomouc 0:2 (-21\,-14)
DTSTART;TZID=Europe/Berlin:20221120T113000
DTEND;TZID=Europe/Berlin:20221120T133000
LOCATION:Sportovní gymnázium Ludvíka Daňka\, Botanická 63 Brno - Ponava
SUMMARY:CP-U16Z-V3C: KP Brno B-VK UP Olomouc
END:VEVENT
BEGIN:VEVENT
UID:62366233-3530-4337-b338-373934393061
DTSTAMP:20260425T215828Z
DESCRIPTION:3/6 VK UP Olomouc - TJ Sokol Předklášteří 2:0 (12\,17)
DTSTART;TZID=Europe/Berlin:20230121T123000
DTEND;TZID=Europe/Berlin:20230121T143000
LOCATION:UP Olomouc\, U sportovní haly 38 Olomouc - Lazce
SUMMARY:CP-U16Z-F1F: VK UP Olomouc-TJ Sokol Předklášteří
END:VEVENT
BEGIN:VEVENT
UID:64646665-3238-4361-b231-303061323466
DTSTAMP:20260425T215828Z
DESCRIPTION:5/13 VK UP Olomouc - VK Slavia Plzeň 2:0 (9\,16)
DTSTART;TZID=Europe/Berlin:20230121T143000
DTEND;TZID=Europe/Berlin:20230121T163000
LOCATION:UP Olomouc\, U sportovní haly 38 Olomouc - Lazce
SUMMARY:CP-U16Z-F1F: VK UP Olomouc-VK Slavia Plzeň
END:VEVENT
BEGIN:VEVENT
UID:61636437-3931-4663-b836-316561646236
DTSTAMP:20260425T215828Z
DESCRIPTION:6/14 VK UP Olomouc - TJ Baník Příbram 2:1 (-21\,20\,8)
DTSTART;TZID=Europe/Berlin:20230121T153000
DTEND;TZID=Europe/Berlin:20230121T173000
LOCATION:UP Olomouc\, U sportovní haly 38 Olomouc - Lazce
SUMMARY:CP-U16Z-F1F: VK UP Olomouc-TJ Baník Příbram
END:VEVENT
BEGIN:VEVENT
UID:63333835-3532-4637-b232-333331636235
DTSTAMP:20260425T215828Z
DESCRIPTION:1/1 KP Brno B - VK UP Olomouc 2:1 (22\,-17\,12)
DTSTART;TZID=Europe/Berlin:20230121T100000
DTEND;TZID=Europe/Berlin:20230121T120000
LOCATION:Sportovní gymnázium Ludvíka Daňka\, Botanická 63 Brno - Ponava
SUMMARY:CP-U16Z-F1F: KP Brno B-VK UP Olomouc
END:VEVENT
BEGIN:VEVENT
UID:34353631-3437-4236-b533-626332333537
DTSTAMP:20260425T215828Z
DESCRIPTION:8/19 Střešovice - VK UP Olomouc 0:2 (-18\,-11)
DTSTART;TZID=Europe/Berlin:20230122T101500
DTEND;TZID=Europe/Berlin:20230122T121500
LOCATION:TJ Tatran Střešovice\, Sibeliova 368 Praha - Střešovice
SUMMARY:CP-U16Z-F1F: Střešovice-VK UP Olomouc
END:VEVENT
BEGIN:VEVENT
UID:37663166-6464-4639-a538-376163373433
DTSTAMP:20260425T215828Z
DESCRIPTION:9/20 TJ Kunice - VK UP Olomouc 0:2 (-19\,-19)
DTSTART;TZID=Europe/Berlin:20230122T111500
DTEND;TZID=Europe/Berlin:20230122T131500
LOCATION:ZŠ Kunice\, Na Návsi 60 Kunice
SUMMARY:CP-U16Z-F1F: TJ Kunice-VK UP Olomouc
END:VEVENT
BEGIN:VEVENT
UID:62356632-6230-4631-b638-636436363665
DTSTAMP:20260425T215828Z
DESCRIPTION:3/6 VK UP Olomouc - KP Brno B 2:1 (-17\,16\,3)
DTSTART;TZID=Europe/Berlin:20230218T121500
DTEND;TZID=Europe/Berlin:20230218T141500
LOCATION:UP Olomouc\, U sportovní haly 38 Olomouc - Lazce
SUMMARY:CP-U16Z-F2E: VK UP Olomouc-KP Brno B
END:VEVENT
BEGIN:VEVENT
UID:62356339-3032-4939-b832-383339653766
DTSTAMP:20260425T215828Z
DESCRIPTION:5/10 VK UP Olomouc - RÉMA Rychnov 2:0 (13\,9)
DTSTART;TZID=Europe/Berlin:20230218T144500
DTEND;TZID=Europe/Berlin:20230218T164500
LOCATION:UP Olomouc\, U sportovní haly 38 Olomouc - Lazce
SUMMARY:CP-U16Z-F2E: VK UP Olomouc-RÉMA Rychnov
END:VEVENT
BEGIN:VEVENT
UID:38633765-3564-4335-b839-383031626638
DTSTAMP:20260425T215828Z
DESCRIPTION:10/19 VK UP Olomouc - Rudolfov 2:0 (22\,19)
DTSTART;TZID=Europe/Berlin:20230219T113000
DTEND;TZID=Europe/Berlin:20230219T133000
LOCATION:UP Olomouc\, U sportovní haly 38 Olomouc - Lazce
SUMMARY:CP-U16Z-F2E: VK UP Olomouc-Rudolfov
END:VEVENT
BEGIN:VEVENT
UID:35623436-3231-4465-a233-383838373865
DTSTAMP:20260425T215828Z
DESCRIPTION:1/2 VK Valašské Meziříčí - VK UP Olomouc 2:0 (19\,20)
DTSTART;TZID=Europe/Berlin:20230218T093000
DTEND;TZID=Europe/Berlin:20230218T113000
LOCATION:ZŠ Šafaříkova\, Šafaříkova 726 Valašské Meziříčí
SUMMARY:CP-U16Z-F2E: VK Valašské Meziříčí-VK UP Olomouc
END:VEVENT
BEGIN:VEVENT
UID:35626436-3163-4261-a133-316334373933
DTSTAMP:20260425T215828Z
DESCRIPTION:6/11 PVK Olymp Praha - VK UP Olomouc 1:2 (-19\,24\,-14)
DTSTART;TZID=Europe/Berlin:20230218T160000
DTEND;TZID=Europe/Berlin:20230218T180000
LOCATION:PVK Olymp Praha\, Přípotoční 300 Praha - Vršovice
SUMMARY:CP-U16Z-F2E: PVK Olymp Praha-VK UP Olomouc
END:VEVENT
BEGIN:VEVENT
UID:37623264-3434-4433-b835-663365333336
DTSTAMP:20260425T215828Z
DESCRIPTION:9/17 ŠSK Bílovec - VK UP Olomouc 1:2 (20\,-19\,-8)
DTSTART;TZID=Europe/Berlin:20230219T100000
DTEND;TZID=Europe/Berlin:20230219T120000
LOCATION:Hala ZŠ Komenského\, Komenského 701 Bílovec
SUMMARY:CP-U16Z-F2E: ŠSK Bílovec-VK UP Olomouc
END:VEVENT
BEGIN:VEVENT
UID:30613066-3764-4738-b564-376565363536
DTSTAMP:20260425T215828Z
DESCRIPTION:2/3 VK UP Olomouc - PVK Olymp Praha 2:0 (15\,14)
DTSTART;TZID=Europe/Berlin:20230318T101500
DTEND;TZID=Europe/Berlin:20230318T121500
LOCATION:UP Olomouc\, U sportovní haly 38 Olomouc - Lazce
SUMMARY:CP-U16Z-F3E: VK UP Olomouc-PVK Olymp Praha
END:VEVENT
BEGIN:VEVENT
UID:65316434-3031-4563-a563-353534646138
DTSTAMP:20260425T215828Z
DESCRIPTION:6/11 VK UP Olomouc - TJ Baník Příbram 2:1 (17\,-21\,16)
DTSTART;TZID=Europe/Berlin:20230318T151500
DTEND;TZID=Europe/Berlin:20230318T171500
LOCATION:UP Olomouc\, U sportovní haly 38 Olomouc - Lazce
SUMMARY:CP-U16Z-F3E: VK UP Olomouc-TJ Baník Příbram
END:VEVENT
BEGIN:VEVENT
UID:34376433-3237-4433-a330-383265636563
DTSTAMP:20260425T215828Z
DESCRIPTION:9/17 VK UP Olomouc - VK Madeta ČB 2:1 (19\,-16\,11)
DTSTART;TZID=Europe/Berlin:20230319T094500
DTEND;TZID=Europe/Berlin:20230319T114500
LOCATION:UP Olomouc\, U sportovní haly 38 Olomouc - Lazce
SUMMARY:CP-U16Z-F3E: VK UP Olomouc-VK Madeta ČB
END:VEVENT
BEGIN:VEVENT
UID:30303561-3833-4138-b466-323734396364
DTSTAMP:20260425T215828Z
DESCRIPTION:10/19 VK UP Olomouc - Rudolfov 2:0 (20\,18)
DTSTART;TZID=Europe/Berlin:20230319T110000
DTEND;TZID=Europe/Berlin:20230319T130000
LOCATION:UP Olomouc\, U sportovní haly 38 Olomouc - Lazce
SUMMARY:CP-U16Z-F3E: VK UP Olomouc-Rudolfov
END:VEVENT
BEGIN:VEVENT
UID:34386463-3337-4966-b565-653564643439
DTSTAMP:20260425T215828Z
DESCRIPTION:1/1 VSK Baník Sokolov - VK UP Olomouc 1:2 (-22\,22\,-13)
DTSTART;TZID=Europe/Berlin:20230318T090000
DTEND;TZID=Europe/Berlin:20230318T110000
LOCATION:Jiskra\, Maxima Gorkého 280 Sokolov
SUMMARY:CP-U16Z-F3E: VSK Baník Sokolov-VK UP Olomouc
END:VEVENT
BEGIN:VEVENT
UID:63353563-6435-4639-b066-643032393463
DTSTAMP:20260425T215828Z
DESCRIPTION:4/7 VSK Český Krumlov - VK UP Olomouc 0:2 (-11\,-22)
DTSTART;TZID=Europe/Berlin:20230318T124500
DTEND;TZID=Europe/Berlin:20230318T144500
LOCATION:ZŠ Za Nádražím Český Krumlov\, Za Nádražím 222 Český Krumlov - Nád
 ražní Předměstí
SUMMARY:CP-U16Z-F3E: VSK Český Krumlov-VK UP Olomouc
END:VEVENT
END:VCALENDAR
