BEGIN:VCALENDAR
VERSION:2.0
PRODID:-//Volejbalový klub České Budějovice, z.s.81198//NONSGML kigkonsult.se iCalcreator 2.41.80//
CALSCALE:GREGORIAN
UID:61663565-3035-4665-b938-366134323731
BEGIN:VEVENT
UID:31626337-6431-4562-b632-623336376531
DTSTAMP:20260422T203422Z
DESCRIPTION:1/1 VK České Budějovice A - VSK Český Krumlov 2:1 (-18\,13\,2)
DTSTART;TZID=Europe/Berlin:20221106T090000
DTEND;TZID=Europe/Berlin:20221106T110000
LOCATION:ZŠ Oskara Nedbala České Budějovice\, O. Nedbala 882 České Budějovi
 ce - České Budějovice 2
SUMMARY:JC-U14M2: VK České Budějovice A-VSK Český Krumlov
END:VEVENT
BEGIN:VEVENT
UID:37653738-3366-4064-b264-346633343563
DTSTAMP:20260422T203422Z
DESCRIPTION:1/4 VK České Budějovice A - J. Hradec 2:0 (20\,23)
DTSTART;TZID=Europe/Berlin:20221106T100000
DTEND;TZID=Europe/Berlin:20221106T120000
LOCATION:ZŠ Oskara Nedbala České Budějovice\, O. Nedbala 882 České Budějovi
 ce - České Budějovice 2
SUMMARY:JC-U14M2: VK České Budějovice A-J. Hradec
END:VEVENT
BEGIN:VEVENT
UID:65643361-6338-4331-a232-306235333030
DTSTAMP:20260422T203422Z
DESCRIPTION:1/6 TJ Tatran Prachatice - VK České Budějovice A 2:0 (18\,23)
DTSTART;TZID=Europe/Berlin:20221106T110000
DTEND;TZID=Europe/Berlin:20221106T130000
LOCATION:Sportovní hala TJ Netolice\, Tyršova 226 Netolice
SUMMARY:JC-U14M2: TJ Tatran Prachatice-VK České Budějovice A
END:VEVENT
END:VCALENDAR
