BEGIN:VCALENDAR
VERSION:2.0
PRODID:-//TJ Tatran Prachatice, z.s.81200//NONSGML kigkonsult.se iCalcreator 2.41.80//
CALSCALE:GREGORIAN
UID:64313830-3131-4361-b230-336466353564
BEGIN:VEVENT
UID:34613263-6633-4865-b730-626266653335
DTSTAMP:20260422T165852Z
DESCRIPTION:1/6 TJ Tatran Prachatice - VK České Budějovice A 2:0 (18\,23)
DTSTART;TZID=Europe/Berlin:20221106T110000
DTEND;TZID=Europe/Berlin:20221106T130000
LOCATION:Sportovní hala TJ Netolice\, Tyršova 226 Netolice
SUMMARY:JC-U14M2: TJ Tatran Prachatice-VK České Budějovice A
END:VEVENT
BEGIN:VEVENT
UID:61633166-3231-4633-a664-643939666430
DTSTAMP:20260422T165852Z
DESCRIPTION:1/2 J. Hradec - TJ Tatran Prachatice 1:2 (-9\,23\,-9)
DTSTART;TZID=Europe/Berlin:20221106T090000
DTEND;TZID=Europe/Berlin:20221106T110000
LOCATION:Sportovní hala J. Hradec\, U Stadionu 1137 Jindřichův Hradec - Jin
 dřichův Hradec II
SUMMARY:JC-U14M2: J. Hradec-TJ Tatran Prachatice
END:VEVENT
BEGIN:VEVENT
UID:62383434-3939-4237-a331-343630633931
DTSTAMP:20260422T165852Z
DESCRIPTION:1/3 VSK Český Krumlov - TJ Tatran Prachatice 2:0 (18\,23)
DTSTART;TZID=Europe/Berlin:20221106T100000
DTEND;TZID=Europe/Berlin:20221106T120000
LOCATION:ZŠ Za Nádražím Český Krumlov\, Za Nádražím 222 Český Krumlov - Nád
 ražní Předměstí
SUMMARY:JC-U14M2: VSK Český Krumlov-TJ Tatran Prachatice
END:VEVENT
END:VCALENDAR
