BEGIN:VCALENDAR
VERSION:2.0
PRODID:-//SK PROSEK PRAHA81322//NONSGML kigkonsult.se iCalcreator 2.41.80//
CALSCALE:GREGORIAN
UID:63346562-3966-4432-b264-316265613261
BEGIN:VEVENT
UID:66643030-6663-4531-b666-333630613862
DTSTAMP:20260422T183257Z
DESCRIPTION:1/2 SK PROSEK - SK Volejbal Kolín\, z.s. 1:2 (-21\,11\,-10)
DTSTART;TZID=Europe/Berlin:20230415T090000
DTEND;TZID=Europe/Berlin:20230415T110000
LOCATION:SH SK Prosek\, Lovosická 559 Praha - Letňany
SUMMARY:MCR-U14MA: SK PROSEK-SK Volejbal Kolín\, z.s.
END:VEVENT
BEGIN:VEVENT
UID:64396332-6638-4461-b838-313461653966
DTSTAMP:20260422T183257Z
DESCRIPTION:8/15 SK PROSEK - TJ Slavia Hradec Králové\, z.s. 2:0 (16\,24)
DTSTART;TZID=Europe/Berlin:20230415T160000
DTEND;TZID=Europe/Berlin:20230415T180000
LOCATION:SH SK Prosek\, Lovosická 559 Praha - Letňany
SUMMARY:MCR-U14MA: SK PROSEK-TJ Slavia Hradec Králové\, z.s.
END:VEVENT
BEGIN:VEVENT
UID:65366161-6533-4366-a439-383932666335
DTSTAMP:20260422T183257Z
DESCRIPTION:3/6 TJ Sokol Mn. Hradiště - SK PROSEK 2:0 (19\,19)
DTSTART;TZID=Europe/Berlin:20230415T110000
DTEND;TZID=Europe/Berlin:20230415T130000
LOCATION:Sportovní hala BIOS\, Sokolovská 254 Mnichovo Hradiště
SUMMARY:MCR-U14MA: TJ Sokol Mn. Hradiště-SK PROSEK
END:VEVENT
BEGIN:VEVENT
UID:36363166-3135-4133-b464-323264303061
DTSTAMP:20260422T183257Z
DESCRIPTION:4/8 AERO Odolena Voda - SK PROSEK 0:2 (-13\,-23)
DTSTART;TZID=Europe/Berlin:20230415T120000
DTEND;TZID=Europe/Berlin:20230415T140000
LOCATION:Sportovní hala\, Ke Stadionu 375 Odolena Voda
SUMMARY:MCR-U14MA: AERO Odolena Voda-SK PROSEK
END:VEVENT
BEGIN:VEVENT
UID:36306166-3532-4562-b864-383537333231
DTSTAMP:20260422T183257Z
DESCRIPTION:6/12 VK Lvi Praha - SK PROSEK 0:2 (-17\,-17)
DTSTART;TZID=Europe/Berlin:20230415T140000
DTEND;TZID=Europe/Berlin:20230415T160000
LOCATION:Sportovní hala Lužiny\, Bellušova 1877 Praha - Stodůlky
SUMMARY:MCR-U14MA: VK Lvi Praha-SK PROSEK
END:VEVENT
BEGIN:VEVENT
UID:66376664-6363-4535-a138-663330396164
DTSTAMP:20260422T183257Z
DESCRIPTION:5/7 SK PROSEK - SKV Ústí n. L. 2:0 (10\,13)
DTSTART;TZID=Europe/Berlin:20230429T102000
DTEND;TZID=Europe/Berlin:20230429T122000
LOCATION:SH SK Prosek\, Lovosická 559 Praha - Letňany
SUMMARY:MCR-U14MFC: SK PROSEK-SKV Ústí n. L.
END:VEVENT
BEGIN:VEVENT
UID:66383430-6263-4964-a630-323361613032
DTSTAMP:20260422T183257Z
DESCRIPTION:7/9 SK PROSEK - Volejbalový klub Příbram z.s. 0:2 (-20\,-14)
DTSTART;TZID=Europe/Berlin:20230429T134000
DTEND;TZID=Europe/Berlin:20230429T154000
LOCATION:SH SK Prosek\, Lovosická 559 Praha - Letňany
SUMMARY:MCR-U14MFC: SK PROSEK-Volejbalový klub Příbram z.s.
END:VEVENT
BEGIN:VEVENT
UID:33373062-6261-4761-b262-393733626138
DTSTAMP:20260422T183257Z
DESCRIPTION:2/2 Green Volley F-M - SK PROSEK 0:2 (-18\,-15)
DTSTART;TZID=Europe/Berlin:20230428T153000
DTEND;TZID=Europe/Berlin:20230428T173000
LOCATION:Hala SPŠ\, 28. října 1639 Frýdek-Místek - Místek
SUMMARY:MCR-U14MFC: Green Volley F-M-SK PROSEK
END:VEVENT
BEGIN:VEVENT
UID:35356335-3033-4363-b766-353931613862
DTSTAMP:20260422T183257Z
DESCRIPTION:4/5 Volejbalový oddíl Vítovice\, z.s. - SK PROSEK 0:2 (-24\,-14
 )
DTSTART;TZID=Europe/Berlin:20230429T090000
DTEND;TZID=Europe/Berlin:20230429T110000
LOCATION:Sportovní hala Rousínov\, Habrovanská 1199 Rousínov
SUMMARY:MCR-U14MFC: Volejbalový oddíl Vítovice\, z.s.-SK PROSEK
END:VEVENT
BEGIN:VEVENT
UID:35613365-6266-4865-b461-303564336233
DTSTAMP:20260422T183257Z
DESCRIPTION:1/2 SK PROSEK - TJ Svitavy\, z.s. 0:2 (-19\,-19)\nC2-D2
DTSTART;TZID=Europe/Berlin:20230429T152000
DTEND;TZID=Europe/Berlin:20230429T172000
LOCATION:SH SK Prosek\, Lovosická 559 Praha - Letňany
SUMMARY:MCR-U14MFF: SK PROSEK-TJ Svitavy\, z.s.
END:VEVENT
BEGIN:VEVENT
UID:66386365-6263-4331-b461-373365653739
DTSTAMP:20260422T183257Z
DESCRIPTION:3/8 SK PROSEK - SK Volejbal Kolín\, z.s. 2:0 (4\,15)\nC2-D3
DTSTART;TZID=Europe/Berlin:20230430T090000
DTEND;TZID=Europe/Berlin:20230430T110000
LOCATION:SH SK Prosek\, Lovosická 559 Praha - Letňany
SUMMARY:MCR-U14MFF: SK PROSEK-SK Volejbal Kolín\, z.s.
END:VEVENT
BEGIN:VEVENT
UID:34656463-6234-4961-b465-643264343432
DTSTAMP:20260422T183257Z
DESCRIPTION:2/5 VK Jirkov - SK PROSEK 1:2 (22\,-20\,-14)\nD1-C2
DTSTART;TZID=Europe/Berlin:20230429T180000
DTEND;TZID=Europe/Berlin:20230429T200000
LOCATION:Sportovní hala MG a ZŠ Jirkov\, Krušnohorská 1675 Jirkov
SUMMARY:MCR-U14MFF: VK Jirkov-SK PROSEK
END:VEVENT
BEGIN:VEVENT
UID:36346166-3263-4162-a635-643766343635
DTSTAMP:20260422T183257Z
DESCRIPTION:1/3 TJ Sokol Mn. Hradiště - SK PROSEK 2:0 (19\,22)\nE3-F4
DTSTART;TZID=Europe/Berlin:20230430T114000
DTEND;TZID=Europe/Berlin:20230430T134000
LOCATION:Sportovní hala BIOS\, Sokolovská 254 Mnichovo Hradiště
SUMMARY:MCR-U14MFI: TJ Sokol Mn. Hradiště-SK PROSEK
END:VEVENT
BEGIN:VEVENT
UID:35363336-6630-4364-b966-656233393164
DTSTAMP:20260422T183257Z
DESCRIPTION:2/9 TJ Orion Praha - SK PROSEK 0:2 (-15\,-11)\no 7. místo
DTSTART;TZID=Europe/Berlin:20230430T142000
DTEND;TZID=Europe/Berlin:20230430T162000
LOCATION:ZŠ prof. Švejcara\, Mráčkova\, Mráčkova 3090 Praha - Modřany
SUMMARY:MCR-U14MFI: TJ Orion Praha-SK PROSEK
END:VEVENT
END:VCALENDAR
