BEGIN:VCALENDAR
VERSION:2.0
PRODID:-//Školní sportovní klub při Základní škole Nová Paka, Husitká 169581351//NONSGML kigkonsult.se iCalcreator 2.41.80//
CALSCALE:GREGORIAN
UID:62623637-3832-4338-b236-623862333263
BEGIN:VEVENT
UID:32633836-6266-4039-b831-393062316663
DTSTAMP:20260421T223100Z
DESCRIPTION:1/3 Nová Paka - Choceň 0:2 (-12\,-19)
DTSTART;TZID=Europe/Berlin:20230108T110000
DTEND;TZID=Europe/Berlin:20230108T130000
SUMMARY:PA-U16M-1FB: Nová Paka-Choceň
END:VEVENT
BEGIN:VEVENT
UID:37353836-6564-4161-b966-616336613532
DTSTAMP:20260421T223100Z
DESCRIPTION:1/1 Třebechovice - Nová Paka 2:1 (13\,-26\,12)
DTSTART;TZID=Europe/Berlin:20230108T090000
DTEND;TZID=Europe/Berlin:20230108T110000
SUMMARY:PA-U16M-1FB: Třebechovice-Nová Paka
END:VEVENT
BEGIN:VEVENT
UID:32666132-3036-4762-b232-636538356265
DTSTAMP:20260421T223100Z
DESCRIPTION:1/5 Velké Meziříčí - Nová Paka 2:0 (13\,11)
DTSTART;TZID=Europe/Berlin:20230108T130000
DTEND;TZID=Europe/Berlin:20230108T150000
SUMMARY:PA-U16M-1FB: Velké Meziříčí-Nová Paka
END:VEVENT
END:VCALENDAR
