BEGIN:VCALENDAR
VERSION:2.0
PRODID:-//Tělocvičná jednota Sokol Brandýs nad Labem81388//NONSGML kigkonsult.se iCalcreator 2.41.80//
CALSCALE:GREGORIAN
UID:65343230-3138-4334-a364-613266623062
BEGIN:VEVENT
UID:35646337-3730-4362-b734-653839646164
DTSTAMP:20260422T165959Z
DESCRIPTION:2/2 Sokol Brandýs n. L. - TJ Neratovice 2:0 (20\,15)
DTSTART;TZID=Europe/Berlin:20230325T110000
DTEND;TZID=Europe/Berlin:20230325T130000
LOCATION:Základní škola Na Výsluni\, Kostelecká 1750 Brandýs nad Labem-Star
 á Boleslav - Brandýs nad Labem
SUMMARY:MCR-U14Z-1AA: Sokol Brandýs n. L.-TJ Neratovice
END:VEVENT
BEGIN:VEVENT
UID:64353161-6663-4562-a563-343236306237
DTSTAMP:20260422T165959Z
DESCRIPTION:1/1 Nový Bor - Sokol Brandýs n. L. 0:2 (-12\,-14)
DTSTART;TZID=Europe/Berlin:20230325T093000
DTEND;TZID=Europe/Berlin:20230325T113000
LOCATION:Sportovní hala Františka Arnošta Nový Bor\, U hřiště 1391 Nový Bor
SUMMARY:MCR-U14Z-1AA: Nový Bor-Sokol Brandýs n. L.
END:VEVENT
BEGIN:VEVENT
UID:61666266-6661-4564-b935-343531616163
DTSTAMP:20260422T165959Z
DESCRIPTION:1/1 Sokol Brandýs n. L. - TJ Orion Praha B 2:0 (6\,7)
DTSTART;TZID=Europe/Berlin:20230325T140000
DTEND;TZID=Europe/Berlin:20230325T160000
LOCATION:Základní škola Na Výsluni\, Kostelecká 1750 Brandýs nad Labem-Star
 á Boleslav - Brandýs nad Labem
SUMMARY:MCR-U14Z-1AD: Sokol Brandýs n. L.-TJ Orion Praha B
END:VEVENT
BEGIN:VEVENT
UID:31393331-6664-4165-b763-353032633738
DTSTAMP:20260422T165959Z
DESCRIPTION:3/3 Olymp Praha 'B' - Sokol Brandýs n. L. 2:1 (-24\,18\,10)
DTSTART;TZID=Europe/Berlin:20230325T170000
DTEND;TZID=Europe/Berlin:20230325T190000
LOCATION:VCM OLYMP PRAHA \, Radlická 115 Praha - Radlice
SUMMARY:MCR-U14Z-1AD: Olymp Praha 'B'-Sokol Brandýs n. L.
END:VEVENT
BEGIN:VEVENT
UID:30393738-3931-4436-b562-656363653061
DTSTAMP:20260422T165959Z
DESCRIPTION:1/1 Sokol Brandýs n. L. - Nový Bor 2:0 (20\,12)
DTSTART;TZID=Europe/Berlin:20230326T100000
DTEND;TZID=Europe/Berlin:20230326T120000
LOCATION:Základní škola Na Výsluni\, Kostelecká 1750 Brandýs nad Labem-Star
 á Boleslav - Brandýs nad Labem
SUMMARY:MCR-U14Z-1AH: Sokol Brandýs n. L.-Nový Bor
END:VEVENT
BEGIN:VEVENT
UID:30383966-6435-4431-b065-636663356665
DTSTAMP:20260422T165959Z
DESCRIPTION:3/3 VSK Spartak Děčín - Sokol Brandýs n. L. 2:0 (15\,21)
DTSTART;TZID=Europe/Berlin:20230326T130000
DTEND;TZID=Europe/Berlin:20230326T150000
LOCATION:SH ZŠ Dr M. Tyrše\, Vrchlického 630 Děčín - Děčín II-Nové Město
SUMMARY:MCR-U14Z-1AH: VSK Spartak Děčín-Sokol Brandýs n. L.
END:VEVENT
END:VCALENDAR
