BEGIN:VCALENDAR
VERSION:2.0
PRODID:-//SK Dansport Praha, z.s.81400//NONSGML kigkonsult.se iCalcreator 2.41.80//
CALSCALE:GREGORIAN
UID:62313230-6165-4235-b331-336530373739
BEGIN:VEVENT
UID:36636534-6636-4031-b736-393365656231
DTSTAMP:20260422T183156Z
DESCRIPTION:3/5 SK Dansport Praha\, z.s. - Volejbalový klub Příbram z.s. 0:
 2 (-19\,-15)
DTSTART;TZID=Europe/Berlin:20230415T110000
DTEND;TZID=Europe/Berlin:20230415T130000
LOCATION:Sportovní hala Gymnázia Jana Keplera\, Parléřova 118 Praha - Hradč
 any
SUMMARY:MCR-U14MF: SK Dansport Praha\, z.s.-Volejbalový klub Příbram z.s.
END:VEVENT
BEGIN:VEVENT
UID:65373233-3631-4235-b764-383963386338
DTSTAMP:20260422T183156Z
DESCRIPTION:7/13 SK Dansport Praha\, z.s. - SK Meteor Praha 2:0 (12\,19)
DTSTART;TZID=Europe/Berlin:20230415T150000
DTEND;TZID=Europe/Berlin:20230415T170000
LOCATION:Sportovní hala Gymnázia Jana Keplera\, Parléřova 118 Praha - Hradč
 any
SUMMARY:MCR-U14MF: SK Dansport Praha\, z.s.-SK Meteor Praha
END:VEVENT
BEGIN:VEVENT
UID:35653663-6365-4532-b162-356130666531
DTSTAMP:20260422T183156Z
DESCRIPTION:2/3 SK Volejbal Klatovy\, z.s. - SK Dansport Praha\, z.s. 2:0 (
 23\,20)
DTSTART;TZID=Europe/Berlin:20230415T100000
DTEND;TZID=Europe/Berlin:20230415T120000
LOCATION:Sportovní hala ZŠ Čapkova\, Čapkova 136 Klatovy - Klatovy V
SUMMARY:MCR-U14MF: SK Volejbal Klatovy\, z.s.-SK Dansport Praha\, z.s.
END:VEVENT
BEGIN:VEVENT
UID:66656130-3462-4838-a264-333963313237
DTSTAMP:20260422T183156Z
DESCRIPTION:4/7 VK České Budějovice - SK Dansport Praha\, z.s. 2:0 (6\,12)
DTSTART;TZID=Europe/Berlin:20230415T120000
DTEND;TZID=Europe/Berlin:20230415T140000
LOCATION:ZŠ Oskara Nedbala České Budějovice\, O. Nedbala 882 České Budějovi
 ce - České Budějovice 2
SUMMARY:MCR-U14MF: VK České Budějovice-SK Dansport Praha\, z.s.
END:VEVENT
BEGIN:VEVENT
UID:31633665-3136-4532-b862-653265343936
DTSTAMP:20260422T183156Z
DESCRIPTION:6/11 Tělovýchovná jednota Jiskra Havlíčkův Brod z.s. - SK Dansp
 ort Praha\, z.s. 0:2 (-24\,-15)
DTSTART;TZID=Europe/Berlin:20230415T140000
DTEND;TZID=Europe/Berlin:20230415T160000
LOCATION:Tělocvična SPŠ Stavební\, Jihlavská 628 Havlíčkův Brod
SUMMARY:MCR-U14MF: Tělovýchovná jednota Jiskra Havlíčkův Brod z.s.-SK Dansp
 ort Praha\, z.s.
END:VEVENT
END:VCALENDAR
