BEGIN:VCALENDAR
VERSION:2.0
PRODID:-//Beachvolejbalový klub Nymburské BOMBY z.s.81402//NONSGML kigkonsult.se iCalcreator 2.41.80//
CALSCALE:GREGORIAN
UID:31346366-6236-4562-a330-616161306639
BEGIN:VEVENT
UID:64623965-3165-4138-b833-343431633932
DTSTAMP:20260422T202230Z
DESCRIPTION:2/3 Nymburské BOMBY - Baník Příbram A 2:0 (25\,22)
DTSTART;TZID=Europe/Berlin:20230325T100000
DTEND;TZID=Europe/Berlin:20230325T120000
LOCATION:Sportovní centrum Nymburk\, Sportovní 1801 Nymburk
SUMMARY:MCR-U14Z-1C: Nymburské BOMBY-Baník Příbram A
END:VEVENT
BEGIN:VEVENT
UID:33383366-3263-4331-b265-313533376330
DTSTAMP:20260422T202230Z
DESCRIPTION:4/7 Nymburské BOMBY - Volejbal Klatovy 2:1 (-24\,16\,15)
DTSTART;TZID=Europe/Berlin:20230325T120000
DTEND;TZID=Europe/Berlin:20230325T140000
LOCATION:Sportovní centrum Nymburk\, Sportovní 1801 Nymburk
SUMMARY:MCR-U14Z-1C: Nymburské BOMBY-Volejbal Klatovy
END:VEVENT
BEGIN:VEVENT
UID:30663137-3638-4936-b964-316230626166
DTSTAMP:20260422T202230Z
DESCRIPTION:6/11 Nymburské BOMBY - Volejbal Tábor 2:0 (20\,12)
DTSTART;TZID=Europe/Berlin:20230325T140000
DTEND;TZID=Europe/Berlin:20230325T160000
LOCATION:Sportovní centrum Nymburk\, Sportovní 1801 Nymburk
SUMMARY:MCR-U14Z-1C: Nymburské BOMBY-Volejbal Tábor
END:VEVENT
BEGIN:VEVENT
UID:64393364-3835-4132-a134-386236353938
DTSTAMP:20260422T202230Z
DESCRIPTION:9/17 Nymburské BOMBY - Demlova Jihlava 2:1 (19\,-17\,10)
DTSTART;TZID=Europe/Berlin:20230325T170000
DTEND;TZID=Europe/Berlin:20230325T190000
LOCATION:Sportovní centrum Nymburk\, Sportovní 1801 Nymburk
SUMMARY:MCR-U14Z-1C: Nymburské BOMBY-Demlova Jihlava
END:VEVENT
BEGIN:VEVENT
UID:36346337-3331-4431-a132-323133663561
DTSTAMP:20260422T202230Z
DESCRIPTION:7/14 Mikulova Praha A - Nymburské BOMBY 1:2 (25\,-18\,-4)
DTSTART;TZID=Europe/Berlin:20230325T150000
DTEND;TZID=Europe/Berlin:20230325T170000
LOCATION:tělocvičny ZŠ Mikulova\, Mikulova 1594 Praha - Chodov
SUMMARY:MCR-U14Z-1C: Mikulova Praha A-Nymburské BOMBY
END:VEVENT
BEGIN:VEVENT
UID:36346439-6334-4139-b634-363036383662
DTSTAMP:20260422T202230Z
DESCRIPTION:12/23 Spartak Pečky - Nymburské BOMBY 1:2 (24\,-14\,-11)
DTSTART;TZID=Europe/Berlin:20230326T110000
DTEND;TZID=Europe/Berlin:20230326T130000
LOCATION:PARKHALA\,  Pečky1039
SUMMARY:MCR-U14Z-1C: Spartak Pečky-Nymburské BOMBY
END:VEVENT
BEGIN:VEVENT
UID:35363631-6337-4064-b633-656234373230
DTSTAMP:20260422T202230Z
DESCRIPTION:14/27 Sokol H. Počernice - Nymburské BOMBY 1:2 (22\,-13\,-6)
DTSTART;TZID=Europe/Berlin:20230326T130000
DTEND;TZID=Europe/Berlin:20230326T150000
LOCATION:TJ Sokol Horní Počernice\, Chvalkovická 2031 Praha - Horní Počerni
 ce
SUMMARY:MCR-U14Z-1C: Sokol H. Počernice-Nymburské BOMBY
END:VEVENT
BEGIN:VEVENT
UID:39616365-6438-4139-b964-363636643432
DTSTAMP:20260422T202230Z
DESCRIPTION:2/4 Nymburské BOMBY - Sokol Nové Veselí 2:1 (-22\,11\,9)
DTSTART;TZID=Europe/Berlin:20230422T101500
DTEND;TZID=Europe/Berlin:20230422T121500
LOCATION:Sportovní centrum Nymburk\, Sportovní 1801 Nymburk
SUMMARY:MCR-U14Z-2C: Nymburské BOMBY-Sokol Nové Veselí
END:VEVENT
BEGIN:VEVENT
UID:35333964-3532-4333-b965-666334336634
DTSTAMP:20260422T202230Z
DESCRIPTION:6/11 Nymburské BOMBY - SK Meteor Praha 2:0 (15\,14)
DTSTART;TZID=Europe/Berlin:20230422T151500
DTEND;TZID=Europe/Berlin:20230422T171500
LOCATION:Sportovní centrum Nymburk\, Sportovní 1801 Nymburk
SUMMARY:MCR-U14Z-2C: Nymburské BOMBY-SK Meteor Praha
END:VEVENT
BEGIN:VEVENT
UID:61616531-3532-4436-b036-636562363935
DTSTAMP:20260422T202230Z
DESCRIPTION:9/18 Nymburské BOMBY - VK Jirkov 2:0 (16\,22)
DTSTART;TZID=Europe/Berlin:20230423T090000
DTEND;TZID=Europe/Berlin:20230423T110000
LOCATION:Sportovní centrum Nymburk\, Sportovní 1801 Nymburk
SUMMARY:MCR-U14Z-2C: Nymburské BOMBY-VK Jirkov
END:VEVENT
BEGIN:VEVENT
UID:35303962-6234-4064-b138-363836633234
DTSTAMP:20260422T202230Z
DESCRIPTION:13/25 Nymburské BOMBY - Sokol Praha Vršovice 2:0 (6\,11)
DTSTART;TZID=Europe/Berlin:20230423T140000
DTEND;TZID=Europe/Berlin:20230423T160000
LOCATION:Sportovní centrum Nymburk\, Sportovní 1801 Nymburk
SUMMARY:MCR-U14Z-2C: Nymburské BOMBY-Sokol Praha Vršovice
END:VEVENT
BEGIN:VEVENT
UID:36383533-3562-4232-b330-376639653238
DTSTAMP:20260422T202230Z
DESCRIPTION:3/6 Sokol Frýdek - Místek - Nymburské BOMBY 0:2 (-12\,-15)
DTSTART;TZID=Europe/Berlin:20230422T113000
DTEND;TZID=Europe/Berlin:20230422T133000
LOCATION:ZŠ 1.máje 1700 Frýdek-Místek\, 1. máje 1700 Frýdek-Místek - Místek
SUMMARY:MCR-U14Z-2C: Sokol Frýdek - Místek-Nymburské BOMBY
END:VEVENT
BEGIN:VEVENT
UID:39643635-6530-4466-b035-663937313932
DTSTAMP:20260422T202230Z
DESCRIPTION:8/15 VK Královo Pole  A - Nymburské BOMBY 2:0 (16\,15)
DTSTART;TZID=Europe/Berlin:20230422T174500
DTEND;TZID=Europe/Berlin:20230422T194500
LOCATION:Sportovní gymnázium Ludvíka Daňka\, Botanická 63 Brno - Ponava
SUMMARY:MCR-U14Z-2C: VK Královo Pole  A-Nymburské BOMBY
END:VEVENT
BEGIN:VEVENT
UID:61636434-6331-4039-b463-663736323732
DTSTAMP:20260422T202230Z
DESCRIPTION:11/22 Kladno volejbal - Nymburské BOMBY 0:2 (-13\,-13)
DTSTART;TZID=Europe/Berlin:20230423T113000
DTEND;TZID=Europe/Berlin:20230423T133000
LOCATION:Kladenská sportovní hala\, Sportovců 817 Kladno - Rozdělov
SUMMARY:MCR-U14Z-2C: Kladno volejbal-Nymburské BOMBY
END:VEVENT
BEGIN:VEVENT
UID:39383834-6334-4665-a134-613531333862
DTSTAMP:20260422T202230Z
DESCRIPTION:2/2 Nymburské BOMBY - SK Kometa Praha 0:2 (-17\,-19)
DTSTART;TZID=Europe/Berlin:20230512T124500
DTEND;TZID=Europe/Berlin:20230512T144500
LOCATION:Sportovní centrum Nymburk\, Sportovní 1801 Nymburk
SUMMARY:MCR-U14Z-F1D: Nymburské BOMBY-SK Kometa Praha
END:VEVENT
BEGIN:VEVENT
UID:66373230-6136-4532-a430-633664346139
DTSTAMP:20260422T202230Z
DESCRIPTION:5/5 Nymburské BOMBY - Orel Letohrad 0:2 (-13\,-9)
DTSTART;TZID=Europe/Berlin:20230512T163000
DTEND;TZID=Europe/Berlin:20230512T183000
LOCATION:Sportovní centrum Nymburk\, Sportovní 1801 Nymburk
SUMMARY:MCR-U14Z-F1D: Nymburské BOMBY-Orel Letohrad
END:VEVENT
BEGIN:VEVENT
UID:34353431-3436-4362-a661-653333396333
DTSTAMP:20260422T202230Z
DESCRIPTION:4/4 Baník Příbram A - Nymburské BOMBY 0:2 (-22\,-21)
DTSTART;TZID=Europe/Berlin:20230512T151500
DTEND;TZID=Europe/Berlin:20230512T171500
LOCATION:Tělocvična ZŠ Balbínova\, Balbínova 328 Příbram - Příbram II
SUMMARY:MCR-U14Z-F1D: Baník Příbram A-Nymburské BOMBY
END:VEVENT
BEGIN:VEVENT
UID:61383434-3433-4733-b433-346534323334
DTSTAMP:20260422T202230Z
DESCRIPTION:3/7 Nymburské BOMBY - PVK Olymp Praha A 0:2 (-20\,-10)
DTSTART;TZID=Europe/Berlin:20230513T164500
DTEND;TZID=Europe/Berlin:20230513T184500
LOCATION:Sportovní centrum Nymburk\, Sportovní 1801 Nymburk
SUMMARY:MCR-U14Z-F2F: Nymburské BOMBY-PVK Olymp Praha A
END:VEVENT
BEGIN:VEVENT
UID:32646239-6239-4161-a239-316630643833
DTSTAMP:20260422T202230Z
DESCRIPTION:4/10 Nymburské BOMBY - SK Kometa Praha 0:2 (-17\,-19)
DTSTART;TZID=Europe/Berlin:20230512T173000
DTEND;TZID=Europe/Berlin:20230512T193000
LOCATION:Sportovní centrum Nymburk\, Sportovní 1801 Nymburk
SUMMARY:MCR-U14Z-F2F: Nymburské BOMBY-SK Kometa Praha
END:VEVENT
BEGIN:VEVENT
UID:38363935-3435-4465-b661-663830323239
DTSTAMP:20260422T202230Z
DESCRIPTION:4/14 Nymburské BOMBY - Orel Letohrad 0:2 (-13\,-9)
DTSTART;TZID=Europe/Berlin:20230512T173000
DTEND;TZID=Europe/Berlin:20230512T193000
LOCATION:Sportovní centrum Nymburk\, Sportovní 1801 Nymburk
SUMMARY:MCR-U14Z-F2F: Nymburské BOMBY-Orel Letohrad
END:VEVENT
BEGIN:VEVENT
UID:61346639-3361-4563-a363-653439386338
DTSTAMP:20260422T202230Z
DESCRIPTION:1/2 VK Královo Pole  A - Nymburské BOMBY 0:2 (-19\,-19)
DTSTART;TZID=Europe/Berlin:20230513T104500
DTEND;TZID=Europe/Berlin:20230513T124500
LOCATION:Sportovní gymnázium Ludvíka Daňka\, Botanická 63 Brno - Ponava
SUMMARY:MCR-U14Z-F2F: VK Královo Pole  A-Nymburské BOMBY
END:VEVENT
BEGIN:VEVENT
UID:63383830-3335-4432-b761-383961653535
DTSTAMP:20260422T202230Z
DESCRIPTION:2/4 Volleyball Nymburk - Nymburské BOMBY 2:0 (9\,15)
DTSTART;TZID=Europe/Berlin:20230513T140000
DTEND;TZID=Europe/Berlin:20230513T160000
LOCATION:Zimní stadion\, U Stadionu 12 Nymburk
SUMMARY:MCR-U14Z-F2F: Volleyball Nymburk-Nymburské BOMBY
END:VEVENT
BEGIN:VEVENT
UID:35303438-3363-4461-a364-646164366637
DTSTAMP:20260422T202230Z
DESCRIPTION:1/3 Mikulova Praha B - Nymburské BOMBY 2:1 (13\,-16\,12)\n5E-6F
DTSTART;TZID=Europe/Berlin:20230514T090000
DTEND;TZID=Europe/Berlin:20230514T110000
LOCATION:tělocvičny ZŠ Mikulova\, Mikulova 1594 Praha - Chodov
SUMMARY:MCR-U14Z-FF1: Mikulova Praha B-Nymburské BOMBY
END:VEVENT
BEGIN:VEVENT
UID:64626636-6534-4630-b238-366533333434
DTSTAMP:20260422T202230Z
DESCRIPTION:2/7 VK Královo Pole  A - Nymburské BOMBY 2:0 (20\,12)\no 11.mís
 to
DTSTART;TZID=Europe/Berlin:20230514T101500
DTEND;TZID=Europe/Berlin:20230514T121500
LOCATION:Sportovní gymnázium Ludvíka Daňka\, Botanická 63 Brno - Ponava
SUMMARY:MCR-U14Z-FF1: VK Královo Pole  A-Nymburské BOMBY
END:VEVENT
END:VCALENDAR
