BEGIN:VCALENDAR
VERSION:2.0
PRODID:-//Volejbalový klub Litomyšl, z.s.81459//NONSGML kigkonsult.se iCalcreator 2.41.80//
CALSCALE:GREGORIAN
UID:63373163-3730-4530-b531-376235666161
BEGIN:VEVENT
UID:32373562-3838-4465-a261-396132326365
DTSTAMP:20260421T223118Z
DESCRIPTION:1/3 Litomyšl - Nová Paka 2:1 (16\,-17\,9)
DTSTART;TZID=Europe/Berlin:20230205T110000
DTEND;TZID=Europe/Berlin:20230205T130000
SUMMARY:PA-U16M-2FC: Litomyšl-Nová Paka
END:VEVENT
BEGIN:VEVENT
UID:31373437-6534-4630-a136-626335393632
DTSTAMP:20260421T223118Z
DESCRIPTION:1/1 Hradec Králové B - Litomyšl 0:2 (-17\,-9)
DTSTART;TZID=Europe/Berlin:20230205T090000
DTEND;TZID=Europe/Berlin:20230205T110000
SUMMARY:PA-U16M-2FC: Hradec Králové B-Litomyšl
END:VEVENT
BEGIN:VEVENT
UID:64313933-3264-4234-a639-613265333134
DTSTAMP:20260421T223118Z
DESCRIPTION:1/5 Velké Meziříčí - Litomyšl 2:0 (16\,13)
DTSTART;TZID=Europe/Berlin:20230205T120000
DTEND;TZID=Europe/Berlin:20230205T140000
SUMMARY:PA-U16M-2FC: Velké Meziříčí-Litomyšl
END:VEVENT
END:VCALENDAR
