BEGIN:VCALENDAR
VERSION:2.0
PRODID:-//TJ Slovan J. Hradec, z.s.81476//NONSGML kigkonsult.se iCalcreator 2.41.80//
CALSCALE:GREGORIAN
UID:30626464-6363-4265-a266-363835373530
BEGIN:VEVENT
UID:61346162-6462-4665-a331-656137633838
DTSTAMP:20260422T001304Z
DESCRIPTION:1/2 J.Hradec - TJ Tatran Prachatice 2:0 (23\,20)
DTSTART;TZID=Europe/Berlin:20230115T090000
DTEND;TZID=Europe/Berlin:20230115T110000
LOCATION:Sportovní hala J. Hradec\, U Stadionu 1137 Jindřichův Hradec - Jin
 dřichův Hradec II
SUMMARY:JC-U14M4: J.Hradec-TJ Tatran Prachatice
END:VEVENT
BEGIN:VEVENT
UID:39636338-3965-4666-a566-306263306538
DTSTAMP:20260422T001304Z
DESCRIPTION:1/5 J.Hradec - VSK Český Krumlov 2:0 (8\,21)
DTSTART;TZID=Europe/Berlin:20230115T110000
DTEND;TZID=Europe/Berlin:20230115T130000
LOCATION:Sportovní hala J. Hradec\, U Stadionu 1137 Jindřichův Hradec - Jin
 dřichův Hradec II
SUMMARY:JC-U14M4: J.Hradec-VSK Český Krumlov
END:VEVENT
BEGIN:VEVENT
UID:32313232-3833-4161-b365-613439613232
DTSTAMP:20260422T001304Z
DESCRIPTION:1/4 VK České Budějovice A - J.Hradec 0:2 (-24\,-15)
DTSTART;TZID=Europe/Berlin:20230115T100000
DTEND;TZID=Europe/Berlin:20230115T120000
LOCATION:ZŠ Oskara Nedbala České Budějovice\, O. Nedbala 882 České Budějovi
 ce - České Budějovice 2
SUMMARY:JC-U14M4: VK České Budějovice A-J.Hradec
END:VEVENT
END:VCALENDAR
