BEGIN:VCALENDAR
VERSION:2.0
PRODID:-//TJ Slovan J. Hradec, z.s.81480//NONSGML kigkonsult.se iCalcreator 2.41.80//
CALSCALE:GREGORIAN
UID:35313865-3137-4638-a634-333031616465
BEGIN:VEVENT
UID:30333637-6530-4235-a165-303162663765
DTSTAMP:20260423T030559Z
DESCRIPTION:1/2 J. Hradec - TJ Tatran Prachatice 0:2 (-23\,-14)
DTSTART;TZID=Europe/Berlin:20230219T090000
DTEND;TZID=Europe/Berlin:20230219T110000
LOCATION:Sportovní hala J. Hradec\, U Stadionu 1137 Jindřichův Hradec - Jin
 dřichův Hradec II
SUMMARY:JC-U14M5: J. Hradec-TJ Tatran Prachatice
END:VEVENT
BEGIN:VEVENT
UID:36346633-3230-4633-a432-653936353936
DTSTAMP:20260423T030559Z
DESCRIPTION:1/5 J. Hradec - VSK Český Krumlov 2:0 (0\,0)
DTSTART;TZID=Europe/Berlin:20230219T110000
DTEND;TZID=Europe/Berlin:20230219T130000
LOCATION:Sportovní hala J. Hradec\, U Stadionu 1137 Jindřichův Hradec - Jin
 dřichův Hradec II
SUMMARY:JC-U14M5: J. Hradec-VSK Český Krumlov
END:VEVENT
BEGIN:VEVENT
UID:62636637-6265-4630-b634-303436653235
DTSTAMP:20260423T030559Z
DESCRIPTION:1/4 VK České Budějovice A - J. Hradec 2:0 (11\,23)
DTSTART;TZID=Europe/Berlin:20230219T100000
DTEND;TZID=Europe/Berlin:20230219T120000
LOCATION:ZŠ Oskara Nedbala České Budějovice\, O. Nedbala 882 České Budějovi
 ce - České Budějovice 2
SUMMARY:JC-U14M5: VK České Budějovice A-J. Hradec
END:VEVENT
END:VCALENDAR
