BEGIN:VCALENDAR
VERSION:2.0
PRODID:-//VK Raškovice z.s.81520//NONSGML kigkonsult.se iCalcreator 2.41.80//
CALSCALE:GREGORIAN
UID:65376666-3663-4262-a133-666631346165
BEGIN:VEVENT
UID:63653831-3965-4862-b833-643266373633
DTSTAMP:20260422T085141Z
DESCRIPTION:2/6 VK Raškovice - VK Znojmo - Přímětice 2:1 (-15\,19\,13)
DTSTART;TZID=Europe/Berlin:20230325T094500
DTEND;TZID=Europe/Berlin:20230325T114500
LOCATION:Víceúčelová sportovní hala\,  Raškovice18
SUMMARY:MCR-U14Z-1D: VK Raškovice-VK Znojmo - Přímětice
END:VEVENT
BEGIN:VEVENT
UID:64613433-6630-4636-b032-613435666631
DTSTAMP:20260422T085141Z
DESCRIPTION:3/9 VK Raškovice - Volejbal Přerov 2:1 (8\,-23\,14)
DTSTART;TZID=Europe/Berlin:20230325T110000
DTEND;TZID=Europe/Berlin:20230325T130000
LOCATION:Víceúčelová sportovní hala\,  Raškovice18
SUMMARY:MCR-U14Z-1D: VK Raškovice-Volejbal Přerov
END:VEVENT
BEGIN:VEVENT
UID:33643134-3363-4762-b733-396666393663
DTSTAMP:20260422T085141Z
DESCRIPTION:7/19 VK Raškovice - TJ Svitavy 2:1 (-12\,15\,10)
DTSTART;TZID=Europe/Berlin:20230326T094500
DTEND;TZID=Europe/Berlin:20230326T114500
LOCATION:Víceúčelová sportovní hala\,  Raškovice18
SUMMARY:MCR-U14Z-1D: VK Raškovice-TJ Svitavy
END:VEVENT
BEGIN:VEVENT
UID:37313432-6639-4932-a362-373666353961
DTSTAMP:20260422T085141Z
DESCRIPTION:10/28 VK Raškovice - Sokol Frýdek - Místek 2:1 (15\,-19\,11)
DTSTART;TZID=Europe/Berlin:20230326T144500
DTEND;TZID=Europe/Berlin:20230326T164500
LOCATION:Víceúčelová sportovní hala\,  Raškovice18
SUMMARY:MCR-U14Z-1D: VK Raškovice-Sokol Frýdek - Místek
END:VEVENT
BEGIN:VEVENT
UID:32393237-3466-4332-a563-343231396366
DTSTAMP:20260422T085141Z
DESCRIPTION:1/3 VK Polanka nad Odrou - VK Raškovice 2:0 (14\,10)
DTSTART;TZID=Europe/Berlin:20230325T083000
DTEND;TZID=Europe/Berlin:20230325T103000
LOCATION:Sportovní hala\, Heleny Salichové 1275 Ostrava - Polanka nad Odrou
SUMMARY:MCR-U14Z-1D: VK Polanka nad Odrou-VK Raškovice
END:VEVENT
BEGIN:VEVENT
UID:64653837-6137-4538-a161-623465313965
DTSTAMP:20260422T085141Z
DESCRIPTION:5/14 VK Brno Vejrostova - VK Raškovice 0:2 (-11\,-18)
DTSTART;TZID=Europe/Berlin:20230325T160000
DTEND;TZID=Europe/Berlin:20230325T180000
LOCATION:ZŠ Vejrostova\, Vejrostova 1066 Brno - Bystrc
SUMMARY:MCR-U14Z-1D: VK Brno Vejrostova-VK Raškovice
END:VEVENT
BEGIN:VEVENT
UID:61306534-3335-4736-a538-323465373738
DTSTAMP:20260422T085141Z
DESCRIPTION:8/24 VK Třebíč - VK Raškovice 2:0 (14\,10)
DTSTART;TZID=Europe/Berlin:20230326T110000
DTEND;TZID=Europe/Berlin:20230326T130000
LOCATION:hala ZŠ TGM\, Komenského nám. 61 Třebíč - Horka-Domky
SUMMARY:MCR-U14Z-1D: VK Třebíč-VK Raškovice
END:VEVENT
BEGIN:VEVENT
UID:30616161-3737-4839-b236-656162616366
DTSTAMP:20260422T085141Z
DESCRIPTION:4/12 VK Raškovice - VAM Olomouc 1:2 (-17\,23\,-7)
DTSTART;TZID=Europe/Berlin:20230422T140000
DTEND;TZID=Europe/Berlin:20230422T160000
LOCATION:Víceúčelová sportovní hala\,  Raškovice18
SUMMARY:MCR-U14Z-2A: VK Raškovice-VAM Olomouc
END:VEVENT
BEGIN:VEVENT
UID:35613535-3738-4339-b363-626233636230
DTSTAMP:20260422T085141Z
DESCRIPTION:7/20 VK Raškovice - Demlova Jihlava 1:2 (-22\,22\,-8)
DTSTART;TZID=Europe/Berlin:20230423T083000
DTEND;TZID=Europe/Berlin:20230423T103000
LOCATION:Víceúčelová sportovní hala\,  Raškovice18
SUMMARY:MCR-U14Z-2A: VK Raškovice-Demlova Jihlava
END:VEVENT
BEGIN:VEVENT
UID:38623863-6235-4836-b534-356239643964
DTSTAMP:20260422T085141Z
DESCRIPTION:9/27 VK Raškovice - SK Kometa Praha 0:2 (-16\,-9)
DTSTART;TZID=Europe/Berlin:20230423T112000
DTEND;TZID=Europe/Berlin:20230423T132000
LOCATION:Víceúčelová sportovní hala\,  Raškovice18
SUMMARY:MCR-U14Z-2A: VK Raškovice-SK Kometa Praha
END:VEVENT
BEGIN:VEVENT
UID:38623637-6431-4935-a662-386139656438
DTSTAMP:20260422T085141Z
DESCRIPTION:2/4 ŠSK Bílovec - VK Raškovice 2:0 (10\,23)
DTSTART;TZID=Europe/Berlin:20230422T110000
DTEND;TZID=Europe/Berlin:20230422T130000
LOCATION:Hala ZŠ Komenského\, Komenského 701 Bílovec
SUMMARY:MCR-U14Z-2A: ŠSK Bílovec-VK Raškovice
END:VEVENT
BEGIN:VEVENT
UID:37653835-6431-4665-b664-316662373161
DTSTAMP:20260422T085141Z
DESCRIPTION:3/8 PVK Olymp Praha A - VK Raškovice 2:0 (13\,16)
DTSTART;TZID=Europe/Berlin:20230422T123000
DTEND;TZID=Europe/Berlin:20230422T143000
LOCATION:VCM OLYMP PRAHA \, Radlická 115 Praha - Radlice
SUMMARY:MCR-U14Z-2A: PVK Olymp Praha A-VK Raškovice
END:VEVENT
BEGIN:VEVENT
UID:35613534-3138-4030-b463-363462383461
DTSTAMP:20260422T085141Z
DESCRIPTION:5/14 Mikulova Praha B - VK Raškovice 2:0 (7\,23)
DTSTART;TZID=Europe/Berlin:20230422T153000
DTEND;TZID=Europe/Berlin:20230422T173000
LOCATION:tělocvičny ZŠ Mikulova\, Mikulova 1594 Praha - Chodov
SUMMARY:MCR-U14Z-2A: Mikulova Praha B-VK Raškovice
END:VEVENT
BEGIN:VEVENT
UID:35303165-6233-4930-b562-316663343730
DTSTAMP:20260422T085141Z
DESCRIPTION:8/24 Střešovice - VK Raškovice 2:1 (17\,-17\,10)
DTSTART;TZID=Europe/Berlin:20230423T100000
DTEND;TZID=Europe/Berlin:20230423T120000
LOCATION:TJ Tatran Střešovice\, Sibeliova 368 Praha - Střešovice
SUMMARY:MCR-U14Z-2A: Střešovice-VK Raškovice
END:VEVENT
END:VCALENDAR
