BEGIN:VCALENDAR
VERSION:2.0
PRODID:-//Tělocvičná jednota Sokol Roztoky u Prahy81574//NONSGML kigkonsult.se iCalcreator 2.41.80//
CALSCALE:GREGORIAN
UID:63393238-6566-4635-a537-333637623834
BEGIN:VEVENT
UID:66396437-6430-4632-a137-346235366563
DTSTAMP:20260422T165912Z
DESCRIPTION:3/3 Sokol Roztoky - Střešovice 0:2 (-13\,-22)
DTSTART;TZID=Europe/Berlin:20230325T123000
DTEND;TZID=Europe/Berlin:20230325T143000
LOCATION:TJ Sokol Roztoky u Prahy\, Tyršovo nám. 480 Roztoky
SUMMARY:MCR-U14Z-1GB: Sokol Roztoky-Střešovice
END:VEVENT
BEGIN:VEVENT
UID:66613236-3831-4533-b734-313266306131
DTSTAMP:20260422T165912Z
DESCRIPTION:2/2 Volleyball Nymburk - Sokol Roztoky 2:0 (16\,17)
DTSTART;TZID=Europe/Berlin:20230325T111500
DTEND;TZID=Europe/Berlin:20230325T131500
LOCATION:Zimní stadion\, U Stadionu 12 Nymburk
SUMMARY:MCR-U14Z-1GB: Volleyball Nymburk-Sokol Roztoky
END:VEVENT
BEGIN:VEVENT
UID:32333834-3337-4865-b734-303137616639
DTSTAMP:20260422T165912Z
DESCRIPTION:3/3 Sokol Roztoky - TJ Kralupy 0:2 (-13\,-22)
DTSTART;TZID=Europe/Berlin:20230325T161500
DTEND;TZID=Europe/Berlin:20230325T181500
LOCATION:TJ Sokol Roztoky u Prahy\, Tyršovo nám. 480 Roztoky
SUMMARY:MCR-U14Z-1GF: Sokol Roztoky-TJ Kralupy
END:VEVENT
BEGIN:VEVENT
UID:33333162-3166-4630-b533-623234313966
DTSTAMP:20260422T165912Z
DESCRIPTION:2/2 Slavia Plzeň - Sokol Roztoky 0:2 (-15\,-21)
DTSTART;TZID=Europe/Berlin:20230325T150000
DTEND;TZID=Europe/Berlin:20230325T170000
LOCATION:Tělocvična 15.ZŠ\, Terezie Brzkové 863 Plzeň - Skvrňany
SUMMARY:MCR-U14Z-1GF: Slavia Plzeň-Sokol Roztoky
END:VEVENT
BEGIN:VEVENT
UID:65316639-6163-4163-b363-643461313535
DTSTAMP:20260422T165912Z
DESCRIPTION:3/3 Sokol Roztoky - Volleyball Nymburk 0:2 (-9\,-15)
DTSTART;TZID=Europe/Berlin:20230326T130000
DTEND;TZID=Europe/Berlin:20230326T150000
LOCATION:TJ Sokol Roztoky u Prahy\, Tyršovo nám. 480 Roztoky
SUMMARY:MCR-U14Z-1GH: Sokol Roztoky-Volleyball Nymburk
END:VEVENT
BEGIN:VEVENT
UID:36303238-3262-4230-b531-376465633835
DTSTAMP:20260422T165912Z
DESCRIPTION:2/2 TJ Loko Plzeň - Sokol Roztoky 2:0 (24\,24)
DTSTART;TZID=Europe/Berlin:20230326T113000
DTEND;TZID=Europe/Berlin:20230326T133000
LOCATION:Městská sportovní hala  -  hala 2\, Úslavská 2357 Plzeň - Východní
  Předměstí
SUMMARY:MCR-U14Z-1GH: TJ Loko Plzeň-Sokol Roztoky
END:VEVENT
END:VCALENDAR
