BEGIN:VCALENDAR
VERSION:2.0
PRODID:-//Volejbalový klub Třebíč81595//NONSGML kigkonsult.se iCalcreator 2.41.80//
CALSCALE:GREGORIAN
UID:37666564-3265-4635-b735-376233623234
BEGIN:VEVENT
UID:37336537-3530-4231-a465-623630313133
DTSTAMP:20260422T154806Z
DESCRIPTION:3/7 VK Třebíč - TJ Svitavy 1:2 (-21\,22\,-10)
DTSTART;TZID=Europe/Berlin:20230325T110000
DTEND;TZID=Europe/Berlin:20230325T130000
LOCATION:hala ZŠ TGM\, Komenského nám. 61 Třebíč - Horka-Domky
SUMMARY:MCR-U14Z-1D: VK Třebíč-TJ Svitavy
END:VEVENT
BEGIN:VEVENT
UID:37646335-3339-4234-a338-313238353237
DTSTAMP:20260422T154806Z
DESCRIPTION:5/15 VK Třebíč - VK Polanka nad Odrou 2:0 (10\,15)
DTSTART;TZID=Europe/Berlin:20230325T160000
DTEND;TZID=Europe/Berlin:20230325T180000
LOCATION:hala ZŠ TGM\, Komenského nám. 61 Třebíč - Horka-Domky
SUMMARY:MCR-U14Z-1D: VK Třebíč-VK Polanka nad Odrou
END:VEVENT
BEGIN:VEVENT
UID:32326561-3536-4438-b239-316364626132
DTSTAMP:20260422T154806Z
DESCRIPTION:8/24 VK Třebíč - VK Raškovice 2:0 (14\,10)
DTSTART;TZID=Europe/Berlin:20230326T110000
DTEND;TZID=Europe/Berlin:20230326T130000
LOCATION:hala ZŠ TGM\, Komenského nám. 61 Třebíč - Horka-Domky
SUMMARY:MCR-U14Z-1D: VK Třebíč-VK Raškovice
END:VEVENT
BEGIN:VEVENT
UID:36343936-3837-4531-a266-353937366435
DTSTAMP:20260422T154806Z
DESCRIPTION:2/5 Volejbal Přerov - VK Třebíč 2:1 (22\,-25\,9)
DTSTART;TZID=Europe/Berlin:20230325T094500
DTEND;TZID=Europe/Berlin:20230325T114500
LOCATION:Městská sportovní hala\, Petřivalského 2884 Přerov - Přerov I-Měst
 o
SUMMARY:MCR-U14Z-1D: Volejbal Přerov-VK Třebíč
END:VEVENT
BEGIN:VEVENT
UID:61623965-3739-4066-b465-376663356530
DTSTAMP:20260422T154806Z
DESCRIPTION:4/10 Sokol Frýdek - Místek - VK Třebíč 0:2 (-11\,-10)
DTSTART;TZID=Europe/Berlin:20230325T144500
DTEND;TZID=Europe/Berlin:20230325T164500
LOCATION:ZŠ 1.máje 1700 Frýdek-Místek\, 1. máje 1700 Frýdek-Místek - Místek
SUMMARY:MCR-U14Z-1D: Sokol Frýdek - Místek-VK Třebíč
END:VEVENT
BEGIN:VEVENT
UID:66643930-3632-4930-b164-316235396238
DTSTAMP:20260422T154806Z
DESCRIPTION:7/20 VK Znojmo - Přímětice - VK Třebíč 0:2 (-18\,-15)
DTSTART;TZID=Europe/Berlin:20230326T094500
DTEND;TZID=Europe/Berlin:20230326T114500
LOCATION:Tělocvična ZŠ Prokopa Diviše a MŠ\, Ke Škole 569 Znojmo - Přímětic
 e
SUMMARY:MCR-U14Z-1D: VK Znojmo - Přímětice-VK Třebíč
END:VEVENT
BEGIN:VEVENT
UID:63643362-6662-4266-b363-653933326434
DTSTAMP:20260422T154806Z
DESCRIPTION:9/27 VK Brno Vejrostova - VK Třebíč 0:2 (-3\,-17)
DTSTART;TZID=Europe/Berlin:20230326T133000
DTEND;TZID=Europe/Berlin:20230326T153000
LOCATION:ZŠ Vejrostova\, Vejrostova 1066 Brno - Bystrc
SUMMARY:MCR-U14Z-1D: VK Brno Vejrostova-VK Třebíč
END:VEVENT
BEGIN:VEVENT
UID:61636338-6132-4164-b533-363830303662
DTSTAMP:20260422T154806Z
DESCRIPTION:2/3 VK Třebíč - VSK Spartak Děčín 0:2 (-20\,-16)
DTSTART;TZID=Europe/Berlin:20230422T113000
DTEND;TZID=Europe/Berlin:20230422T133000
LOCATION:hala ZŠ TGM\, Komenského nám. 61 Třebíč - Horka-Domky
SUMMARY:MCR-U14Z-2B: VK Třebíč-VSK Spartak Děčín
END:VEVENT
BEGIN:VEVENT
UID:64313263-6561-4238-b232-376264373464
DTSTAMP:20260422T154806Z
DESCRIPTION:3/7 VK Třebíč - TJ Nový Jičín\, z.s. 2:1 (17\,-21\,13)
DTSTART;TZID=Europe/Berlin:20230422T130000
DTEND;TZID=Europe/Berlin:20230422T150000
LOCATION:hala ZŠ TGM\, Komenského nám. 61 Třebíč - Horka-Domky
SUMMARY:MCR-U14Z-2B: VK Třebíč-TJ Nový Jičín\, z.s.
END:VEVENT
BEGIN:VEVENT
UID:66343962-3330-4265-a338-313339633737
DTSTAMP:20260422T154806Z
DESCRIPTION:4/10 VK Třebíč - Lokomotiva Fosfa Břeclav 0:2 (-25\,-15)
DTSTART;TZID=Europe/Berlin:20230422T143000
DTEND;TZID=Europe/Berlin:20230422T163000
LOCATION:hala ZŠ TGM\, Komenského nám. 61 Třebíč - Horka-Domky
SUMMARY:MCR-U14Z-2B: VK Třebíč-Lokomotiva Fosfa Břeclav
END:VEVENT
BEGIN:VEVENT
UID:30376166-6434-4662-b735-616439356364
DTSTAMP:20260422T154806Z
DESCRIPTION:5/12 Orion Praha A - VK Třebíč 2:0 (10\,12)
DTSTART;TZID=Europe/Berlin:20230422T160000
DTEND;TZID=Europe/Berlin:20230422T180000
LOCATION:ZŠ Dolní Břežany\, Na Vršku 290 Dolní Břežany
SUMMARY:MCR-U14Z-2B: Orion Praha A-VK Třebíč
END:VEVENT
BEGIN:VEVENT
UID:38323030-6463-4437-b862-353839663763
DTSTAMP:20260422T154806Z
DESCRIPTION:8/20 Volleyball Nymburk - VK Třebíč 2:0 (8\,10)
DTSTART;TZID=Europe/Berlin:20230423T101500
DTEND;TZID=Europe/Berlin:20230423T121500
LOCATION:Zimní stadion\, U Stadionu 12 Nymburk
SUMMARY:MCR-U14Z-2B: Volleyball Nymburk-VK Třebíč
END:VEVENT
BEGIN:VEVENT
UID:35326431-6436-4130-b131-656364383363
DTSTAMP:20260422T154806Z
DESCRIPTION:9/23 SK Volejbal Ústí n. L. - VK Třebíč 2:0 (21\,25)
DTSTART;TZID=Europe/Berlin:20230423T113000
DTEND;TZID=Europe/Berlin:20230423T133000
LOCATION:Základní škola Stříbrnická\, Stříbrnická 3031 Ústí nad Labem - Sev
 erní Terasa
SUMMARY:MCR-U14Z-2B: SK Volejbal Ústí n. L.-VK Třebíč
END:VEVENT
BEGIN:VEVENT
UID:31653439-3238-4934-b433-643161316635
DTSTAMP:20260422T154806Z
DESCRIPTION:10/26 ABC Braník - VK Třebíč 2:0 (21\,14)
DTSTART;TZID=Europe/Berlin:20230423T124500
DTEND;TZID=Europe/Berlin:20230423T144500
LOCATION:Sokolovna Braník\, Branická 275 Praha - Braník
SUMMARY:MCR-U14Z-2B: ABC Braník-VK Třebíč
END:VEVENT
END:VCALENDAR
