BEGIN:VCALENDAR
VERSION:2.0
PRODID:-//Volejbalový klub Slavia Plzeň, z.s.81606//NONSGML kigkonsult.se iCalcreator 2.41.80//
CALSCALE:GREGORIAN
UID:31626137-6639-4663-b766-643836343938
BEGIN:VEVENT
UID:38616539-6332-4665-b837-366431623562
DTSTAMP:20260422T183209Z
DESCRIPTION:1/1 Slavia Plzeň - VK Jirkov 0:2 (-7\,-8)
DTSTART;TZID=Europe/Berlin:20230325T100000
DTEND;TZID=Europe/Berlin:20230325T120000
LOCATION:Tělocvična 15.ZŠ\, Terezie Brzkové 863 Plzeň - Skvrňany
SUMMARY:MCR-U14Z-1GA: Slavia Plzeň-VK Jirkov
END:VEVENT
BEGIN:VEVENT
UID:62376532-3061-4630-a539-376234383636
DTSTAMP:20260422T183209Z
DESCRIPTION:3/3 Radotínský SK - Slavia Plzeň 1:2 (16\,-21\,-15)
DTSTART;TZID=Europe/Berlin:20230325T123000
DTEND;TZID=Europe/Berlin:20230325T143000
LOCATION:Sportovní hala Radotín\, U starého stadiónu 1585 Praha - Radotín
SUMMARY:MCR-U14Z-1GA: Radotínský SK-Slavia Plzeň
END:VEVENT
BEGIN:VEVENT
UID:39343866-6333-4361-b837-646638383137
DTSTAMP:20260422T183209Z
DESCRIPTION:2/2 Slavia Plzeň - Sokol Roztoky 0:2 (-15\,-21)
DTSTART;TZID=Europe/Berlin:20230325T150000
DTEND;TZID=Europe/Berlin:20230325T170000
LOCATION:Tělocvična 15.ZŠ\, Terezie Brzkové 863 Plzeň - Skvrňany
SUMMARY:MCR-U14Z-1GF: Slavia Plzeň-Sokol Roztoky
END:VEVENT
BEGIN:VEVENT
UID:31313239-3162-4263-a232-356165363365
DTSTAMP:20260422T183209Z
DESCRIPTION:1/1 TJ Kralupy - Slavia Plzeň 2:0 (11\,20)
DTSTART;TZID=Europe/Berlin:20230325T134500
DTEND;TZID=Europe/Berlin:20230325T154500
LOCATION:TJ KRALUPY\, z.s.\, Gen. Klapálka 1029 Kralupy nad Vltavou
SUMMARY:MCR-U14Z-1GF: TJ Kralupy-Slavia Plzeň
END:VEVENT
BEGIN:VEVENT
UID:34643033-6130-4639-b231-633633376563
DTSTAMP:20260422T183209Z
DESCRIPTION:3/3 Slavia Plzeň - S V B C 0:2 (-16\,-24)
DTSTART;TZID=Europe/Berlin:20230326T130000
DTEND;TZID=Europe/Berlin:20230326T150000
LOCATION:Tělocvična 15.ZŠ\, Terezie Brzkové 863 Plzeň - Skvrňany
SUMMARY:MCR-U14Z-1GI: Slavia Plzeň-S V B C
END:VEVENT
BEGIN:VEVENT
UID:30316334-3032-4765-b438-376261643630
DTSTAMP:20260422T183209Z
DESCRIPTION:2/2 Radotínský SK - Slavia Plzeň 2:0 (22\,16)
DTSTART;TZID=Europe/Berlin:20230326T113000
DTEND;TZID=Europe/Berlin:20230326T133000
LOCATION:Sportovní hala Radotín\, U starého stadiónu 1585 Praha - Radotín
SUMMARY:MCR-U14Z-1GI: Radotínský SK-Slavia Plzeň
END:VEVENT
END:VCALENDAR
