BEGIN:VCALENDAR
VERSION:2.0
PRODID:-//Loko Fosfa Břeclav81614//NONSGML kigkonsult.se iCalcreator 2.41.80//
CALSCALE:GREGORIAN
UID:36653962-3762-4464-b836-313663623738
BEGIN:VEVENT
UID:36613265-3836-4561-b533-653030653462
DTSTAMP:20260422T154719Z
DESCRIPTION:1/1 Lokomotiva Fosfa Břeclav - RÉMA Rychnov n. K. 2:0 (11\,18)
DTSTART;TZID=Europe/Berlin:20230325T090000
DTEND;TZID=Europe/Berlin:20230325T110000
LOCATION:TJ Lokomotiva Břeclav\, Veslařská 2753 Břeclav
SUMMARY:MCR-U14Z-1J: Lokomotiva Fosfa Břeclav-RÉMA Rychnov n. K.
END:VEVENT
BEGIN:VEVENT
UID:37333963-3863-4632-b062-633238613066
DTSTAMP:20260422T154719Z
DESCRIPTION:4/12 Lokomotiva Fosfa Břeclav - Sokol Pardubice I. 2:0 (12\,20)
DTSTART;TZID=Europe/Berlin:20230325T141500
DTEND;TZID=Europe/Berlin:20230325T161500
LOCATION:TJ Lokomotiva Břeclav\, Veslařská 2753 Břeclav
SUMMARY:MCR-U14Z-1J: Lokomotiva Fosfa Břeclav-Sokol Pardubice I.
END:VEVENT
BEGIN:VEVENT
UID:34336362-6536-4362-a438-313437373263
DTSTAMP:20260422T154719Z
DESCRIPTION:7/19 Lokomotiva Fosfa Břeclav - Sokol Dolní Újezd 2:0 (21\,7)
DTSTART;TZID=Europe/Berlin:20230326T083000
DTEND;TZID=Europe/Berlin:20230326T103000
LOCATION:TJ Lokomotiva Břeclav\, Veslařská 2753 Břeclav
SUMMARY:MCR-U14Z-1J: Lokomotiva Fosfa Břeclav-Sokol Dolní Újezd
END:VEVENT
BEGIN:VEVENT
UID:63383963-3138-4464-a137-313961316561
DTSTAMP:20260422T154719Z
DESCRIPTION:8/21 Lokomotiva Fosfa Břeclav - Sokol Nové Veselí 2:0 (21\,21)
DTSTART;TZID=Europe/Berlin:20230326T100000
DTEND;TZID=Europe/Berlin:20230326T120000
LOCATION:TJ Lokomotiva Břeclav\, Veslařská 2753 Břeclav
SUMMARY:MCR-U14Z-1J: Lokomotiva Fosfa Břeclav-Sokol Nové Veselí
END:VEVENT
BEGIN:VEVENT
UID:38326666-6531-4336-b665-323336383031
DTSTAMP:20260422T154719Z
DESCRIPTION:3/7 Orel Letohrad - Lokomotiva Fosfa Břeclav 2:0 (14\,14)
DTSTART;TZID=Europe/Berlin:20230325T130000
DTEND;TZID=Europe/Berlin:20230325T150000
LOCATION:TJ Spartak Letohrad\, Jilemnického 341 Letohrad
SUMMARY:MCR-U14Z-1J: Orel Letohrad-Lokomotiva Fosfa Břeclav
END:VEVENT
BEGIN:VEVENT
UID:61333361-3131-4263-a637-633532666130
DTSTAMP:20260422T154719Z
DESCRIPTION:5/15 Slavia HK - Lokomotiva Fosfa Břeclav 1:2 (19\,-20\,-12)
DTSTART;TZID=Europe/Berlin:20230325T154500
DTEND;TZID=Europe/Berlin:20230325T174500
LOCATION:TJ Slavia Hradec Králové\, Víta Nejedlého 1216 Hradec Králové
SUMMARY:MCR-U14Z-1J: Slavia HK-Lokomotiva Fosfa Břeclav
END:VEVENT
BEGIN:VEVENT
UID:63616337-3936-4234-b033-353333666265
DTSTAMP:20260422T154719Z
DESCRIPTION:9/24 Sokol Bedřichov - Lokomotiva Fosfa Břeclav 2:0 (16\,18)
DTSTART;TZID=Europe/Berlin:20230326T111500
DTEND;TZID=Europe/Berlin:20230326T131500
LOCATION:TJ Sokol Bedřichov\, Jihlava\, Sokolovská 4656 Jihlava
SUMMARY:MCR-U14Z-1J: Sokol Bedřichov-Lokomotiva Fosfa Břeclav
END:VEVENT
BEGIN:VEVENT
UID:30326263-6464-4762-a431-653134616336
DTSTAMP:20260422T154719Z
DESCRIPTION:2/4 Lokomotiva Fosfa Břeclav - SK Volejbal Ústí n. L. 2:1 (-16\
 ,22\,13)
DTSTART;TZID=Europe/Berlin:20230422T113000
DTEND;TZID=Europe/Berlin:20230422T133000
LOCATION:TJ Lokomotiva Břeclav\, Veslařská 2753 Břeclav
SUMMARY:MCR-U14Z-2B: Lokomotiva Fosfa Břeclav-SK Volejbal Ústí n. L.
END:VEVENT
BEGIN:VEVENT
UID:64663161-6265-4563-b030-653431373361
DTSTAMP:20260422T154719Z
DESCRIPTION:3/5 Lokomotiva Fosfa Břeclav - ABC Braník 0:2 (-19\,-11)
DTSTART;TZID=Europe/Berlin:20230422T130000
DTEND;TZID=Europe/Berlin:20230422T150000
LOCATION:TJ Lokomotiva Břeclav\, Veslařská 2753 Břeclav
SUMMARY:MCR-U14Z-2B: Lokomotiva Fosfa Břeclav-ABC Braník
END:VEVENT
BEGIN:VEVENT
UID:64376263-3830-4364-b838-323237666366
DTSTAMP:20260422T154719Z
DESCRIPTION:6/15 Lokomotiva Fosfa Břeclav - Volleyball Nymburk 0:2 (-22\,-1
 4)
DTSTART;TZID=Europe/Berlin:20230422T173000
DTEND;TZID=Europe/Berlin:20230422T193000
LOCATION:TJ Lokomotiva Břeclav\, Veslařská 2753 Břeclav
SUMMARY:MCR-U14Z-2B: Lokomotiva Fosfa Břeclav-Volleyball Nymburk
END:VEVENT
BEGIN:VEVENT
UID:39376162-3138-4862-b061-633361343139
DTSTAMP:20260422T154719Z
DESCRIPTION:4/10 VK Třebíč - Lokomotiva Fosfa Břeclav 0:2 (-25\,-15)
DTSTART;TZID=Europe/Berlin:20230422T143000
DTEND;TZID=Europe/Berlin:20230422T163000
LOCATION:hala ZŠ TGM\, Komenského nám. 61 Třebíč - Horka-Domky
SUMMARY:MCR-U14Z-2B: VK Třebíč-Lokomotiva Fosfa Břeclav
END:VEVENT
BEGIN:VEVENT
UID:36303737-3364-4337-a462-376637663531
DTSTAMP:20260422T154719Z
DESCRIPTION:7/18 VSK Spartak Děčín - Lokomotiva Fosfa Břeclav 1:2 (16\,-20\
 ,-9)
DTSTART;TZID=Europe/Berlin:20230423T090000
DTEND;TZID=Europe/Berlin:20230423T110000
LOCATION:SH ZŠ Dr M. Tyrše\, Vrchlického 630 Děčín - Děčín II-Nové Město
SUMMARY:MCR-U14Z-2B: VSK Spartak Děčín-Lokomotiva Fosfa Břeclav
END:VEVENT
BEGIN:VEVENT
UID:34636130-3636-4237-b337-663364373935
DTSTAMP:20260422T154719Z
DESCRIPTION:8/22 TJ Nový Jičín\, z.s. - Lokomotiva Fosfa Břeclav 1:2 (18\,-
 13\,-9)
DTSTART;TZID=Europe/Berlin:20230423T101500
DTEND;TZID=Europe/Berlin:20230423T121500
LOCATION:Hala ABC\, Purkyňova 116 Nový Jičín
SUMMARY:MCR-U14Z-2B: TJ Nový Jičín\, z.s.-Lokomotiva Fosfa Břeclav
END:VEVENT
BEGIN:VEVENT
UID:63323938-3535-4636-a366-396638363433
DTSTAMP:20260422T154719Z
DESCRIPTION:9/25 Orion Praha A - Lokomotiva Fosfa Břeclav 2:0 (12\,15)
DTSTART;TZID=Europe/Berlin:20230423T113000
DTEND;TZID=Europe/Berlin:20230423T133000
LOCATION:ZŠ Dolní Břežany\, Na Vršku 290 Dolní Břežany
SUMMARY:MCR-U14Z-2B: Orion Praha A-Lokomotiva Fosfa Břeclav
END:VEVENT
END:VCALENDAR
