BEGIN:VCALENDAR
VERSION:2.0
PRODID:-//Volejbalový klub Ostrava, z.s.81623//NONSGML kigkonsult.se iCalcreator 2.41.80//
CALSCALE:GREGORIAN
UID:33643062-3237-4566-b361-373738303066
BEGIN:VEVENT
UID:30626662-3462-4366-b130-393936306665
DTSTAMP:20260423T042836Z
DESCRIPTION:1/2 Volejbalový klub Ostrava\, z.s. - Blue Ostrava 0:2 (-7\,-11
 )
DTSTART;TZID=Europe/Berlin:20230415T090000
DTEND;TZID=Europe/Berlin:20230415T110000
LOCATION:Hala ZŠ Šenov\, Radniční náměstí 1040 Šenov
SUMMARY:MCR-U14MB: Volejbalový klub Ostrava\, z.s.-Blue Ostrava
END:VEVENT
BEGIN:VEVENT
UID:30396236-3935-4461-b035-303231633233
DTSTAMP:20260423T042836Z
DESCRIPTION:3/5 Volejbalový klub Ostrava\, z.s. - Happy Sport Opava\, z.s. 
 0:2 (-8\,-19)
DTSTART;TZID=Europe/Berlin:20230415T120000
DTEND;TZID=Europe/Berlin:20230415T140000
LOCATION:Hala ZŠ Šenov\, Radniční náměstí 1040 Šenov
SUMMARY:MCR-U14MB: Volejbalový klub Ostrava\, z.s.-Happy Sport Opava\, z.s.
END:VEVENT
BEGIN:VEVENT
UID:66336631-3732-4334-b264-396635333366
DTSTAMP:20260423T042836Z
DESCRIPTION:2/3 Green Volley F-M - Volejbalový klub Ostrava\, z.s. 2:0 (8\,
 26)
DTSTART;TZID=Europe/Berlin:20230415T103000
DTEND;TZID=Europe/Berlin:20230415T123000
LOCATION:Hala SPŠ\, 28. října 1639 Frýdek-Místek - Místek
SUMMARY:MCR-U14MB: Green Volley F-M-Volejbalový klub Ostrava\, z.s.
END:VEVENT
BEGIN:VEVENT
UID:62336538-3332-4262-b239-323463366464
DTSTAMP:20260423T042836Z
DESCRIPTION:4/8 Volejbalový spolek Ostrava - Volejbalový klub Ostrava\, z.s
 . 2:0 (2\,20)
DTSTART;TZID=Europe/Berlin:20230415T133000
DTEND;TZID=Europe/Berlin:20230415T153000
LOCATION:SŠSS Krakovská \, Krakovská 1095 Ostrava - Hrabůvka
SUMMARY:MCR-U14MB: Volejbalový spolek Ostrava-Volejbalový klub Ostrava\, z.
 s.
END:VEVENT
END:VCALENDAR
