BEGIN:VCALENDAR
VERSION:2.0
PRODID:-//Tělovýchovná jednota Sokol Horní Počernice, spolek81660//NONSGML kigkonsult.se iCalcreator 2.41.80//
CALSCALE:GREGORIAN
UID:38613135-6564-4561-a437-396533383038
BEGIN:VEVENT
UID:61326135-6136-4134-b161-373661373231
DTSTAMP:20260422T183033Z
DESCRIPTION:5/10 Sokol H. Počernice - Spartak Pečky 2:0 (13\,22)
DTSTART;TZID=Europe/Berlin:20230325T130000
DTEND;TZID=Europe/Berlin:20230325T150000
LOCATION:TJ Sokol Horní Počernice\, Chvalkovická 2031 Praha - Horní Počerni
 ce
SUMMARY:MCR-U14Z-1C: Sokol H. Počernice-Spartak Pečky
END:VEVENT
BEGIN:VEVENT
UID:37633135-3436-4463-b131-666565353035
DTSTAMP:20260422T183033Z
DESCRIPTION:10/19 Sokol H. Počernice - Volejbal Klatovy 0:2 (-17\,-20)
DTSTART;TZID=Europe/Berlin:20230326T090000
DTEND;TZID=Europe/Berlin:20230326T110000
LOCATION:TJ Sokol Horní Počernice\, Chvalkovická 2031 Praha - Horní Počerni
 ce
SUMMARY:MCR-U14Z-1C: Sokol H. Počernice-Volejbal Klatovy
END:VEVENT
BEGIN:VEVENT
UID:33613631-3865-4735-b038-386439353430
DTSTAMP:20260422T183033Z
DESCRIPTION:12/24 Sokol H. Počernice - Volejbal Tábor 0:2 (-23\,-19)
DTSTART;TZID=Europe/Berlin:20230326T110000
DTEND;TZID=Europe/Berlin:20230326T130000
LOCATION:TJ Sokol Horní Počernice\, Chvalkovická 2031 Praha - Horní Počerni
 ce
SUMMARY:MCR-U14Z-1C: Sokol H. Počernice-Volejbal Tábor
END:VEVENT
BEGIN:VEVENT
UID:62653539-6564-4563-a331-356132343433
DTSTAMP:20260422T183033Z
DESCRIPTION:14/27 Sokol H. Počernice - Nymburské BOMBY 1:2 (22\,-13\,-6)
DTSTART;TZID=Europe/Berlin:20230326T130000
DTEND;TZID=Europe/Berlin:20230326T150000
LOCATION:TJ Sokol Horní Počernice\, Chvalkovická 2031 Praha - Horní Počerni
 ce
SUMMARY:MCR-U14Z-1C: Sokol H. Počernice-Nymburské BOMBY
END:VEVENT
BEGIN:VEVENT
UID:64633035-3762-4336-b162-633634336464
DTSTAMP:20260422T183033Z
DESCRIPTION:1/2 Mikulova Praha A - Sokol H. Počernice 1:2 (23\,-16\,-12)
DTSTART;TZID=Europe/Berlin:20230325T090000
DTEND;TZID=Europe/Berlin:20230325T110000
LOCATION:tělocvičny ZŠ Mikulova\, Mikulova 1594 Praha - Chodov
SUMMARY:MCR-U14Z-1C: Mikulova Praha A-Sokol H. Počernice
END:VEVENT
BEGIN:VEVENT
UID:66666462-3538-4332-b266-623036373635
DTSTAMP:20260422T183033Z
DESCRIPTION:3/5 Demlova Jihlava - Sokol H. Počernice 0:2 (-19\,-21)
DTSTART;TZID=Europe/Berlin:20230325T110000
DTEND;TZID=Europe/Berlin:20230325T130000
LOCATION:ZŠ Jihlava Demlova\, Demlova 4178 Jihlava
SUMMARY:MCR-U14Z-1C: Demlova Jihlava-Sokol H. Počernice
END:VEVENT
BEGIN:VEVENT
UID:64396331-6436-4537-b533-326236376137
DTSTAMP:20260422T183033Z
DESCRIPTION:8/16 Baník Příbram A - Sokol H. Počernice 2:0 (5\,20)
DTSTART;TZID=Europe/Berlin:20230325T160000
DTEND;TZID=Europe/Berlin:20230325T180000
LOCATION:Tělocvična ZŠ Balbínova\, Balbínova 328 Příbram - Příbram II
SUMMARY:MCR-U14Z-1C: Baník Příbram A-Sokol H. Počernice
END:VEVENT
END:VCALENDAR
