BEGIN:VCALENDAR
VERSION:2.0
PRODID:-//VK Prostějov,81671//NONSGML kigkonsult.se iCalcreator 2.41.80//
CALSCALE:GREGORIAN
UID:30666430-3663-4434-b866-373865386431
BEGIN:VEVENT
UID:33366633-6163-4733-a339-393536383666
DTSTAMP:20260422T184151Z
DESCRIPTION:2/2 Prostějov - Spartak Polička 2:0 (11\,17)
DTSTART;TZID=Europe/Berlin:20230325T103000
DTEND;TZID=Europe/Berlin:20230325T123000
LOCATION:Národní sportovní centrum\, Za velodromem 4187 Prostějov
SUMMARY:MCR-U14Z-1HC: Prostějov-Spartak Polička
END:VEVENT
BEGIN:VEVENT
UID:30346364-3236-4263-b136-646666396362
DTSTAMP:20260422T184151Z
DESCRIPTION:1/1 VK UP Olomouc - Prostějov 2:1 (17\,-21\,8)
DTSTART;TZID=Europe/Berlin:20230325T090000
DTEND;TZID=Europe/Berlin:20230325T110000
LOCATION:UP Olomouc\, U sportovní haly 38 Olomouc - Lazce
SUMMARY:MCR-U14Z-1HC: VK UP Olomouc-Prostějov
END:VEVENT
BEGIN:VEVENT
UID:35663130-3037-4663-b837-636237663766
DTSTAMP:20260422T184151Z
DESCRIPTION:1/1 Prostějov - TJ Ostrava 2:1 (10\,-23\,13)
DTSTART;TZID=Europe/Berlin:20230325T134500
DTEND;TZID=Europe/Berlin:20230325T154500
LOCATION:Národní sportovní centrum\, Za velodromem 4187 Prostějov
SUMMARY:MCR-U14Z-1HE: Prostějov-TJ Ostrava
END:VEVENT
BEGIN:VEVENT
UID:38316262-3733-4130-b839-613435353665
DTSTAMP:20260422T184151Z
DESCRIPTION:3/3 Happy Sport Opava - Prostějov 2:0 (17\,21)
DTSTART;TZID=Europe/Berlin:20230325T163000
DTEND;TZID=Europe/Berlin:20230325T183000
LOCATION:Sportovní hala Slezského gymnázia v Opavě\, Zámecký okruh 461 Opav
 a - Město
SUMMARY:MCR-U14Z-1HE: Happy Sport Opava-Prostějov
END:VEVENT
BEGIN:VEVENT
UID:32396637-3962-4935-b163-623065313935
DTSTAMP:20260422T184151Z
DESCRIPTION:1/1 Prostějov - KV Kopřivnice 0:2 (-7\,-15)
DTSTART;TZID=Europe/Berlin:20230326T090000
DTEND;TZID=Europe/Berlin:20230326T110000
LOCATION:Národní sportovní centrum\, Za velodromem 4187 Prostějov
SUMMARY:MCR-U14Z-1HH: Prostějov-KV Kopřivnice
END:VEVENT
BEGIN:VEVENT
UID:34363465-3465-4139-a430-326232366332
DTSTAMP:20260422T184151Z
DESCRIPTION:3/3 ŠSK Bílovec - Prostějov 2:0 (14\,21)
DTSTART;TZID=Europe/Berlin:20230326T114500
DTEND;TZID=Europe/Berlin:20230326T134500
LOCATION:Hala ZŠ Komenského\, Komenského 701 Bílovec
SUMMARY:MCR-U14Z-1HH: ŠSK Bílovec-Prostějov
END:VEVENT
END:VCALENDAR
