BEGIN:VCALENDAR
VERSION:2.0
PRODID:-//Tělovýchovná jednota Spartak Velké Meziříčí, z.s.81694//NONSGML kigkonsult.se iCalcreator 2.41.80//
CALSCALE:GREGORIAN
UID:36323238-3764-4039-b666-616430393464
BEGIN:VEVENT
UID:66623064-6337-4665-a131-393533353738
DTSTAMP:20260421T223113Z
DESCRIPTION:1/1 Velké Meziříčí - Litomyšl 2:0 (2\,9)
DTSTART;TZID=Europe/Berlin:20230312T090000
DTEND;TZID=Europe/Berlin:20230312T110000
SUMMARY:PA-U16M-3FB: Velké Meziříčí-Litomyšl
END:VEVENT
BEGIN:VEVENT
UID:64343261-3237-4736-a432-343732616539
DTSTAMP:20260421T223113Z
DESCRIPTION:1/4 Velké Meziříčí - Třebechovice 2:0 (9\,14)
DTSTART;TZID=Europe/Berlin:20230312T120000
DTEND;TZID=Europe/Berlin:20230312T140000
SUMMARY:PA-U16M-3FB: Velké Meziříčí-Třebechovice
END:VEVENT
BEGIN:VEVENT
UID:63363531-6239-4966-b233-633031336362
DTSTAMP:20260421T223113Z
DESCRIPTION:1/6 Velké Meziříčí - Choceň 2:1 (-17\,17\,5)
DTSTART;TZID=Europe/Berlin:20230312T140000
DTEND;TZID=Europe/Berlin:20230312T160000
SUMMARY:PA-U16M-3FB: Velké Meziříčí-Choceň
END:VEVENT
END:VCALENDAR
