BEGIN:VCALENDAR
VERSION:2.0
PRODID:-//Volejbalový klub Choceň, z.s.81697//NONSGML kigkonsult.se iCalcreator 2.41.80//
CALSCALE:GREGORIAN
UID:66373832-3735-4134-b630-363133633338
BEGIN:VEVENT
UID:34363735-6336-4266-a663-303434623130
DTSTAMP:20260422T001255Z
DESCRIPTION:1/2 Třebechovice - Choceň 2:1 (23\,-17\,8)
DTSTART;TZID=Europe/Berlin:20230312T100000
DTEND;TZID=Europe/Berlin:20230312T120000
SUMMARY:PA-U16M-3FB: Třebechovice-Choceň
END:VEVENT
BEGIN:VEVENT
UID:63373136-3733-4865-b864-316366343731
DTSTAMP:20260422T001255Z
DESCRIPTION:1/3 Litomyšl - Choceň 0:2 (-10\,-13)
DTSTART;TZID=Europe/Berlin:20230312T110000
DTEND;TZID=Europe/Berlin:20230312T130000
SUMMARY:PA-U16M-3FB: Litomyšl-Choceň
END:VEVENT
BEGIN:VEVENT
UID:30613831-3030-4531-b865-643563366630
DTSTAMP:20260422T001255Z
DESCRIPTION:1/6 Velké Meziříčí - Choceň 2:1 (-17\,17\,5)
DTSTART;TZID=Europe/Berlin:20230312T140000
DTEND;TZID=Europe/Berlin:20230312T160000
SUMMARY:PA-U16M-3FB: Velké Meziříčí-Choceň
END:VEVENT
END:VCALENDAR
